{"text_format":"1","workbook":"xlsx","n_sheets":8,"sheets":["New two stage","Two stage","Kolsaker two-st","Log p-h","Percent difference","SPF","SPF kols","El. calc."],"not_rendered":{"charts":15,"images":4,"macros":1,"external_links":1,"defined_names":0,"comments":0,"pivot_tables":0},"unopened":[],"bounds":{"document_bytes":16777216,"sheet_cells":100000,"rows_first":2000,"rows_last":500,"rows_between":2000,"halvings":0,"cell_chars":16384,"cell_head_chars":4096},"cells_cut":0,"cells_raw":0,"read":"whole","date_system":"1900"}

{"sheet":"New two stage","index":0,"n_rows":138,"n_cols":18,"rows_kept":138,"cut":false,"hidden":false,"merged":[]}
["Power consumtion two stage"]
[]
["Fixed values from Cool Pack"]
[]
["Refrigerant","R744"]
["Evaporator input",null,null,"1. Compressor input",null,null,"1. Compressor output",null,null,"2. Compressor input",null,null,"2. Compressor output"]
["Temperature",null,"˚C","Temperature",null,"˚C","Temperature",null,"˚C","Temperature",null,"˚C","Temperature",null,"˚C"]
["Pressure",null,"bar","Pressure",null,"bar","Pressure",null,"bar","Pressure",null,"bar","Pressure",85,"bar"]
[null,null,null,"Power",null,"kW",null,null,null,"Power",null,"kW"]
[null,null,null,"Isentropic efficiency",80,"%",null,null,null,"Isentropic efficiency",{"$f":"E10","v":80},"%"]
[null,null,null,"Heat loss",5,"%"]
[null,null,null,"mR744",2.3300000000000001E-2,"kg/s",null,null,null,null,null,null,"Gas cooler output"]
[null,null,null,null,null,null,null,null,null,null,null,null,"Temperature",10,"˚C"]
[null,null,null,null,null,null,null,null,null,null,null,null,"Pressure",null,"bar"]
[]
["Evaporator temp",null,"Effect 1. comp",null,"Comp 1. out temp",null,"Effect 2. comp",null,"Comp 2. out temp",null,"Effect gas cooler",null,"COP","Inter mediat pressure",null,"Inter mediat cooler",null,"Tot comp effect"]
[15,"˚C",null,"kW",null,"˚C",null,"kW",null,"˚C",null,"kW",{"$f":"K17/(C17+G17)","v":{"$error":"#DIV/0!"}},34.85,"bar",0,"˚",{"$f":"C17+G17","v":0}]
[10,"˚C",null,"kW",null,"˚C",null,"kW",null,"˚C",null,"kW",{"$f":"K18/(C18+G18)","v":{"$error":"#DIV/0!"}},34.85,"bar",0,"˚",{"$f":"C18+G18","v":0}]
[5,"˚C","Not possible to calculate whitout changing intermediat pressure/temperature","kW",null,"˚C",null,"kW",null,"˚C",null,"kW",{"$error":"#VALUE!"},34.85,"bar",0,"˚",{"$error":"#VALUE!"}]
[0,"˚C",0.01,"kW",3.4,"˚C",1.07,"kW",76.099999999999994,"˚C",6.08,"kW",5.6296296296296298,34.85,"bar",0,"˚",1.08]
[-5,"˚C",0.16,"kW",8.4,"˚C",1.1200000000000001,"kW",82.6,"˚C",6.32,"kW",4.9375,34.85,"bar",0,"˚",1.28]
[-10,"˚C",0.32,"kW",13.9,"˚C",1.07,"kW",76.8,"˚C",6.1,"kW",4.3884892086330929,34.85,"bar",10,"˚",1.3900000000000001]
[-15,"˚C",0.5,"kW",19.8,"˚C",1.1399999999999999,"kW",84.5,"˚C",6.39,"kW",3.8963414634146343,34.85,"bar",10,"˚",1.64]
[-20,"˚C",0.7,"kW",26.3,"˚C",1.21,"kW",92.5,"˚C",6.66,"kW",3.4869109947643979,34.85,"bar",10,"˚",1.91]
[-25,"˚C",0.91,"kW",33.200000000000003,"˚C",1.27,"kW",101,"˚C",6.94,"kW",3.1834862385321099,34.85,"bar",10,"˚",2.1800000000000002]
[-30,"˚C",1.1399999999999999,"kW",40.6,"˚C",1.34,"kW",109.9,"˚C",7.22,"kW",2.911290322580645,34.85,"bar",10,"˚",2.48]
[-35,"˚C",1.38,"kW",48.7,"˚C",1.4,"kW",119.5,"˚C",7.51,"kW",2.7014388489208634,34.85,"bar",10,"˚",2.78]
[-40,"˚C",1.65,"kW",57.3,"˚C",1.47,"kW",129.6,"˚C",7.81,"kW",2.5032051282051282,34.85,"bar",10,"˚",3.12]
[-45,"˚C",1.93,"kW",66.7,"˚C",1.54,"kW",140.5,"˚C",8.1199999999999992,"kW",2.3400576368876078,34.85,"bar",10,"˚",3.4699999999999998]
[]
[]
[]
[]
[]
[]
[]
[]
[]
["Fixed values from Cool Pack"]
["Two stage cycle - Flooded evaporator, open intercooler, one stage compression"]
["Refrigerant","R717"]
["Evaporator input",null,null,"1. Compressor input",null,null,"1. Compressor output",null,null,"2. Compressor input",null,null,"2. Compressor output"]
["Temperature",null,"˚C","Temperature",null,"˚C","Temperature",null,"˚C","Temperature",null,"˚C","Temperature",null,"˚C"]
["Pressure",null,"bar","Pressure",null,"bar","Pressure",null,"bar","Pressure",null,"bar","Pressure",null,"bar"]
[null,null,null,"Power",null,"kW",null,null,null,"Power",null,"kW"]
[null,null,null,"Isentropic efficiency",70,"%",null,null,null,"Isentropic efficiency",{"$f":"E46","v":70},"%"]
[null,null,null,"Heat loss",5,"%",null,null,null,null,null,null,"Condenser temperature"]
[null,null,null,"mR717 total",5.0000000000000001E-3,"kg/s",null,null,null,null,null,null,"Temperature",28,"˚C"]
[null,null,null,null,null,null,null,null,null,null,null,null,"Output",10,"˚C"]
[]
[]
["Evaporator temp",null,"Effect 1. comp",null,"Comp 1. out temp",null,"Effect 2. comp",null,"Comp 2. out temp",null,"Effect condenser",null,"COP","Inter mediat temp",null,"Inter mediat cooler",null,"Tot comp effect"]
[15,"˚C",null,"kW",null,"˚C",null,"kW",null,"˚C",null,"kW",{"$f":"K53/(C53+G53)","v":{"$error":"#DIV/0!"}},null,"˚C",null,"˚",{"$f":"C53+G53","v":0}]
[10,"˚C",null,"kW",null,"˚C",null,"kW",null,"˚C",null,"kW",{"$error":"#DIV/0!"},null,"˚C",null,"˚",{"$f":"C54+G54","v":0}]
[5,"˚C","Not possible to calculate whitout changing intermediat pressure/temperature","kW",null,"˚C",null,"kW",null,"˚C",null,"kW",{"$error":"#VALUE!"},null,"˚C",null,"˚",{"$error":"#VALUE!"}]
[0,"˚C",0.1,"kW",18.600000000000001,"˚C",0.8,"kW",77,"˚C",7,"kW",7.7777777777777777,5,"˚C",10,"˚",0.9]
[-5,"˚C",0.2,"kW",30,"˚C",0.8,"kW",92.1,"˚C",7.3,"kW",7.3,5,"˚C",10,"˚",1]
[-10,"˚C",0.3,"kW",42.5,"˚C",0.9,"kW",108,"˚C",7.6,"kW",6.333333333333333,5,"˚C",10,"˚",1.2]
[-15,"˚C",0.4,"kW",56,"˚C",1,"kW",124,"˚C",7.9,"kW",5.6428571428571432,5,"˚C",10,"˚",1.4]
[-20,"˚C",0.5,"kW",70.7,"˚C",1,"kW",141,"˚C",8.3000000000000007,"kW",5.5333333333333341,5,"˚C",10,"˚",1.5]
[-25,"˚C",0.6,"kW",86.6,"˚C",1.1000000000000001,"kW",161.6,"˚C",8.6999999999999993,"kW",5.1176470588235281,5,"˚C",10,"˚",1.7000000000000002]
[-30,"˚C",0.7,"kW",104,"˚C",1.2,"kW",182,"˚C",9.1,"kW",4.7894736842105265,5,"˚C",10,"˚",1.9]
[-35,"˚C",0.9,"kW",122.6,"˚C",1.2,"kW",203.1,"˚C",9.5,"kW",4.5238095238095237,5,"˚C",10,"˚",2.1]
[-40,"˚C",1,"kW",143,"˚C",1.3,"kW",226.5,"˚C",10,"kW",4.3478260869565224,5,"˚C",10,"˚",2.2999999999999998]
[-45,"˚C",1.2,"kW",165,"˚C",1.4,"kW",252,"˚C",10.6,"kW",4.0769230769230775,5,"˚C",10,"˚",2.5999999999999996]
[]
[]
[]
[]
[]
[]
[]
[]
[]
["Fixed values from Cool Pack"]
["Two stage cycle - Flooded evaporator, open intercooler, one stage compression"]
["Refrigerant","R290"]
["Evaporator input",null,null,"1. Compressor input",null,null,"1. Compressor output",null,null,"2. Compressor input",null,null,"2. Compressor output"]
["Temperature",null,"˚C","Temperature",null,"˚C","Temperature",null,"˚C","Temperature",null,"˚C","Temperature",null,"˚C"]
["Pressure",null,"bar","Pressure",null,"bar","Pressure",null,"bar","Pressure",null,"bar","Pressure",null,"bar"]
[null,null,null,"Power",null,"kW",null,null,null,"Power",null,"kW"]
[null,null,null,"Isentropic efficiency",70,"%",null,null,null,"Isentropic efficiency",{"$f":"E82","v":70},"%"]
[null,null,null,"Heat loss",5,"%",null,null,null,null,null,null,"Condenser temperature"]
[null,null,null,"mR290 total",0.02,"kg/s",null,null,null,null,null,null,"Temperature",28,"˚C"]
[null,null,null,null,null,null,null,null,null,null,null,null,"Output",10,"˚C"]
[]
[]
["Evaporator temp",null,"Effect 1. comp",null,"Comp 1. out temp",null,"Effect 2. comp",null,"Comp 2. out temp",null,"Effect condenser",null,"COP","Inter mediat temp",null,"Inter mediat cooler",null,"Tot comp effect"]
[15,"˚C",null,"kW",null,"˚C",null,"kW",null,"˚C",null,"kW",{"$f":"K89/(C89+G89)","v":{"$error":"#DIV/0!"}},null,"˚C",null,"˚",{"$f":"C89+G89","v":0}]
[10,"˚C",null,"kW",null,"˚C",null,"kW",null,"˚C",null,"kW",{"$error":"#DIV/0!"},null,"˚C",null,"˚",{"$f":"C90+G90","v":0}]
[5,"˚C","Not possible to calculate whitout changing intermediat pressure/temperature","kW",null,"˚C",null,"kW",null,"˚C",null,"kW",{"$error":"#VALUE!"},null,"˚C",null,"˚",{"$error":"#VALUE!"}]
[0,"˚C",0.1,"kW",10,"˚C",0.9,"kW",35.4,"˚C",8.1999999999999993,"kW",8.1999999999999993,5,"˚C",5,"˚",1]
[-5,"˚C",0.2,"kW",12,"˚C",0.9,"kW",35.4,"˚C",8.1999999999999993,"kW",7.4545454545454533,5,"˚C",5,"˚",1.1000000000000001]
[-10,"˚C",0.3,"kW",14,"˚C",0.9,"kW",35.4,"˚C",8.3000000000000007,"kW",6.9166666666666679,5,"˚C",10,"˚",1.2]
[-15,"˚C",0.4,"kW",17,"˚C",0.9,"kW",37.4,"˚C",8.4,"kW",6.4615384615384617,5,"˚C",10,"˚",1.3]
[-20,"˚C",0.6,"kW",20,"˚C",0.9,"kW",40.4,"˚C",8.6,"kW",5.7333333333333334,5,"˚C",10,"˚",1.5]
[-25,"˚C",0.7,"kW",23,"˚C",0.9,"kW",43.4,"˚C",8.8000000000000007,"kW",5.5,5,"˚C",10,"˚",1.6]
[-30,"˚C",0.8,"kW",26.3,"˚C",1,"kW",46.1,"˚C",9,"kW",5,5,"˚C",10,"˚",1.8]
[-35,"˚C",0.9,"kW",30,"˚C",1,"kW",50.3,"˚C",9.3000000000000007,"kW",4.8947368421052637,5,"˚C",10,"˚",1.9]
[-40,"˚C",1.1000000000000001,"kW",34.1,"˚C",1,"kW",54.4,"˚C",9.5,"kW",4.5238095238095237,5,"˚C",10,"˚",2.1]
[-45,"˚C",1.2,"kW",38.4,"˚C",1.1000000000000001,"kW",58.4,"˚C",9.8000000000000007,"kW",4.2608695652173916,5,"˚C",10,"˚",2.2999999999999998]
[]
[]
[]
[]
[]
[]
[]
[]
[]
[]
["Fixed values from Cool Pack"]
["Two stage cycle - Flooded evaporator, open intercooler, one stage compression"]
["Refrigerant","R410A"]
["Evaporator input",null,null,"1. Compressor input",null,null,"1. Compressor output",null,null,"2. Compressor input",null,null,"2. Compressor output"]
["Temperature",null,"˚C","Temperature",null,"˚C","Temperature",null,"˚C","Temperature",null,"˚C","Temperature",null,"˚C"]
["Pressure",null,"bar","Pressure",null,"bar","Pressure",null,"bar","Pressure",null,"bar","Pressure",null,"bar"]
[null,null,null,"Power",null,"kW",null,null,null,"Power",null,"kW"]
[null,null,null,"Isentropic efficiency",70,"%",null,null,null,"Isentropic efficiency",{"$f":"E119","v":70},"%"]
[null,null,null,"Heat loss",5,"%",null,null,null,null,null,null,"Condenser temperature"]
[null,null,null,"mR140A total",0.03,"kg/s",null,null,null,null,null,null,"Temperature",28,"˚C"]
[null,null,null,null,null,null,null,null,null,null,null,null,"Output",10,"˚C"]
[]
[]
["Evaporator temp",null,"Effect 1. comp",null,"Comp 1. out temp",null,"Effect 2. comp",null,"Comp 2. out temp",null,"Effect condenser",null,"COP","Inter mediat temp",null,"Inter mediat cooler",null,"Tot comp effect"]
[15,"˚C",null,"kW",null,"˚C",null,"kW",null,"˚C",null,"kW",{"$f":"K126/(C126+G126)","v":{"$error":"#DIV/0!"}},null,"˚C",null,"˚",{"$f":"C126+G126","v":0}]
[10,"˚C",null,"kW",null,"˚C",null,"kW",null,"˚C",null,"kW",{"$error":"#DIV/0!"},null,"˚C",null,"˚",{"$f":"C127+G127","v":0}]
[5,"˚C","Not possible to calculate whitout changing intermediat pressure/temperature","kW",null,"˚C",null,"kW",null,"˚C",null,"kW",{"$error":"#VALUE!"},null,"˚C",null,"˚",{"$error":"#VALUE!"}]
[0,"˚C",0.1,"kW",11,"˚C",0.8,"kW",43,"˚C",7.2,"kW",8,5,"˚C",5,"˚",0.9]
[-5,"˚C",0.2,"kW",15,"˚C",0.8,"kW",43.3,"˚C",7.3,"kW",7.3,5,"˚C",10,"˚",1]
[-10,"˚C",0.3,"kW",19.399999999999999,"˚C",0.8,"kW",48.3,"˚C",7.5,"kW",6.8181818181818175,5,"˚C",10,"˚",1.1000000000000001]
[-15,"˚C",0.4,"kW",24,"˚C",0.9,"kW",51.5,"˚C",7.7,"kW",5.9230769230769234,5,"˚C",10,"˚",1.3]
[-20,"˚C",0.5,"kW",28.7,"˚C",0.9,"kW",57,"˚C",8,"kW",5.7142857142857144,5,"˚C",10,"˚",1.4]
[-25,"˚C",0.6,"kW",34,"˚C",0.9,"kW",63.2,"˚C",8.4,"kW",5.6000000000000005,5,"˚C",10,"˚",1.5]
[-30,"˚C",0.7,"kW",39.5,"˚C",1,"kW",68.5,"˚C",8.6999999999999993,"kW",5.117647058823529,5,"˚C",10,"˚",1.7]
[-35,"˚C",0.9,"kW",45.5,"˚C",1,"kW",76,"˚C",9.1,"kW",4.7894736842105265,5,"˚C",10,"˚",1.9]
[-40,"˚C",1,"kW",52,"˚C",1.1000000000000001,"kW",82.2,"˚C",9.4,"kW",4.4761904761904763,5,"˚C",10,"˚",2.1]
[-45,"˚C",1.2,"kW",59,"˚C",1.1000000000000001,"kW",89.6,"˚C",9.9,"kW",4.304347826086957,5,"˚C",10,"˚",2.2999999999999998]

{"sheet":"Two stage","index":1,"n_rows":138,"n_cols":39,"rows_kept":138,"cut":false,"hidden":false,"merged":[]}
["Power consumtion two stage"]
[]
["Fixed values from Cool Pack"]
[]
["Refrigerant","R744"]
["Evaporator input",null,null,"1. Compressor input",null,null,"1. Compressor output",null,null,"2. Compressor input",null,null,"2. Compressor output"]
["Temperature",null,"˚C","Temperature",null,"˚C","Temperature",null,"˚C","Temperature",null,"˚C","Temperature",null,"˚C"]
["Pressure",null,"bar","Pressure",null,"bar","Pressure",null,"bar","Pressure",null,"bar","Pressure",85,"bar"]
[null,null,null,"Power",null,"kW",null,null,null,"Power",null,"kW"]
[null,null,null,"Isentropic efficiency",80,"%",null,null,null,"Isentropic efficiency",{"$f":"E10","v":80},"%"]
[null,null,null,"Heat loss",5,"%"]
[null,null,null,"mR744",2.3300000000000001E-2,"kg/s",null,null,null,null,null,null,"Gas cooler output"]
[null,null,null,null,null,null,null,null,null,null,null,null,"Temperature",10,"˚C"]
[null,null,null,null,null,null,null,null,null,null,null,null,"Pressure",null,"bar"]
[]
["Evaporator temp",null,"Effect 1. comp",null,"Comp 1. out temp",null,"Effect 2. comp",null,"Comp 2. out temp",null,"Effect gas cooler",null,"COP","Inter mediat pressure",null,"Inter mediat cooler",null,"Tot comp effect"]
[15,"˚C",null,"kW",null,"˚C",null,"kW",null,"˚C",null,"kW",{"$f":"K17/(C17+G17)","v":{"$error":"#DIV/0!"}},34.85,"bar",0,"˚",{"$f":"C17+G17","v":0}]
[10,"˚C",null,"kW",null,"˚C",null,"kW",null,"˚C",null,"kW",{"$f":"K18/(C18+G18)","v":{"$error":"#DIV/0!"}},34.85,"bar",0,"˚",{"$f":"C18+G18","v":0}]
[5,"˚C","Not possible to calculate whitout changing intermediat pressure/temperature","kW",null,"˚C",null,"kW",null,"˚C",null,"kW",{"$error":"#VALUE!"},34.85,"bar",0,"˚",{"$error":"#VALUE!"}]
[0,"˚C",0.01,"kW",3.4,"˚C",1.07,"kW",76.099999999999994,"˚C",6.08,"kW",{"$f":"K20/(C20+G20)","v":5.6296296296296298},34.85,"bar",0,"˚",1.08,"kW"]
[-5,"˚C",0.16,"kW",8.4,"˚C",1.1200000000000001,"kW",82.6,"˚C",6.32,"kW",4.9375,34.85,"bar",0,"˚",1.28,"kW"]
[-10,"˚C",0.32,"kW",13.9,"˚C",1.07,"kW",76.8,"˚C",6.1,"kW",4.3884892086330929,34.85,"bar",10,"˚",1.3900000000000001,"kW"]
[-15,"˚C",0.5,"kW",19.8,"˚C",1.1399999999999999,"kW",84.5,"˚C",6.39,"kW",3.8963414634146343,34.85,"bar",10,"˚",1.64,"kW"]
[-20,"˚C",0.7,"kW",26.3,"˚C",1.21,"kW",92.5,"˚C",6.66,"kW",3.4869109947643979,34.85,"bar",10,"˚",1.91,"kW"]
[-25,"˚C",0.91,"kW",33.200000000000003,"˚C",1.27,"kW",101,"˚C",6.94,"kW",3.1834862385321099,34.85,"bar",10,"˚",2.1800000000000002,"kW"]
[-30,"˚C",1.1399999999999999,"kW",40.6,"˚C",1.34,"kW",109.9,"˚C",7.22,"kW",2.911290322580645,34.85,"bar",10,"˚",2.48,"kW"]
[-35,"˚C",1.38,"kW",48.7,"˚C",1.4,"kW",119.5,"˚C",7.51,"kW",2.7014388489208634,34.85,"bar",10,"˚",2.78,"kW"]
[-40,"˚C",1.65,"kW",57.3,"˚C",1.47,"kW",129.6,"˚C",7.81,"kW",2.5032051282051282,34.85,"bar",10,"˚",3.12,"kW"]
[-45,"˚C",1.93,"kW",66.7,"˚C",1.54,"kW",140.5,"˚C",8.1199999999999992,"kW",2.3400576368876078,34.85,"bar",10,"˚",3.4699999999999998,"kW"]
[]
[]
[]
[]
[]
[]
[]
[]
[]
["Fixed values from Cool Pack"]
["Two stage cycle - Flooded evaporator, open intercooler, one stage compression"]
["Refrigerant","R717"]
["Evaporator input",null,null,"1. Compressor input",null,null,"1. Compressor output",null,null,"2. Compressor input",null,null,"2. Compressor output"]
["Temperature",null,"˚C","Temperature",null,"˚C","Temperature",null,"˚C","Temperature",null,"˚C","Temperature",null,"˚C"]
["Pressure",null,"bar","Pressure",null,"bar","Pressure",null,"bar","Pressure",null,"bar","Pressure",null,"bar"]
[null,null,null,"Power",null,"kW",null,null,null,"Power",null,"kW"]
[null,null,null,"Isentropic efficiency",70,"%",null,null,null,"Isentropic efficiency",{"$f":"E46","v":70},"%"]
[null,null,null,"Heat loss",5,"%",null,null,null,null,null,null,"Condenser temperature",null,null,null,null,null,null,null,null,null,null,null,null,null,null,null,null,null,null,null,null,null,null,null,null,null,1E-3]
[null,null,null,"mR717 total",4.7999999999999996E-3,"kg/s",null,null,null,null,null,null,"Temperature",28,"˚C",null,null,null,null,null,null,null,null,null,null,null,null,null,null,null,null,null,null,null,null,null,null,null,3.8E-3]
[null,null,null,null,null,null,null,null,null,null,null,null,"Output",10,"˚C",null,null,null,null,null,null,null,null,null,null,null,null,null,null,null,null,null,null,null,null,null,null,null,{"$f":"SUM(AM47:AM48)","v":4.8000000000000004E-3}]
[null,null,null,null,null,null,null,null,null,null,null,null,null,null,null,null,null,null,null,null,null,null,null,null,null,null,null,null,null,null,null,null,null,null,null,null,null,null,"HS="]
[null,null,null,null,null,null,null,null,null,null,null,null,null,null,null,null,null,null,null,null,null,null,null,null,null,null,null,null,null,null,null,null,null,null,null,null,null,null,{"$f":"(AM49-AM48)/AM49*100","v":20.833333333333339}]
["Evaporator temp",null,"Effect 1. comp",null,"Comp 1. out temp",null,"Effect 2. comp",null,"Comp 2. out temp",null,"Effect condenser",null,"COP","Inter mediat temp",null,"Inter mediat cooler",null,"Tot comp effect",null,"COP + water heating"]
[15,"˚C",null,"kW",null,"˚C",null,"kW",null,"˚C",null,"kW",{"$f":"K53/(C53+G53)","v":{"$error":"#DIV/0!"}},null,"˚C",null,"˚",{"$f":"C53+G53","v":0}]
[10,"˚C",null,"kW",null,"˚C",null,"kW",null,"˚C",null,"kW",{"$error":"#DIV/0!"},null,"˚C",null,"˚",{"$f":"C54+G54","v":0}]
[5,"˚C","Not possible to calculate whitout changing intermediat pressure/temperature","kW",null,"˚C",null,"kW",null,"˚C",null,"kW",{"$error":"#VALUE!"},null,"˚C",null,"˚",{"$error":"#VALUE!"}]
[0,"˚C",0.1,"kW",19,"˚C",0.8,"kW",77,"˚C",6.9,"kW",7.666666666666667,5,"˚C",10,"˚",0.9,"kW",{"$f":"(K56+2)/((C56+G56)+2)","v":3.0689655172413794}]
[-5,"˚C",0.3,"kW",30,"˚C",0.8,"kW",92,"˚C",7.2,"kW",6.545454545454545,5,"˚C",10,"˚",1.1000000000000001,"kW",{"$f":"(K57+2)/((C57+G57)+2)","v":2.9677419354838706}]
[-10,"˚C",0.4,"kW",43,"˚C",0.9,"kW",107,"˚C",7.5,"kW",5.7692307692307692,5,"˚C",10,"˚",1.3,"kW",2.8787878787878789]
[-15,"˚C",0.6,"kW",56,"˚C",0.9,"kW",124,"˚C",7.9,"kW",5.2666666666666666,5,"˚C",10,"˚",1.5,"kW",2.8285714285714287]
[-20,"˚C",0.7,"kW",71,"˚C",1,"kW",141,"˚C",8,"kW",4.7058823529411766,5,"˚C",10,"˚",1.7,"kW",2.7027027027027026]
[-25,"˚C",0.9,"kW",87,"˚C",1,"kW",160,"˚C",8.4,"kW",4.4210526315789478,5,"˚C",10,"˚",1.9,"kW",2.666666666666667]
[-30,"˚C",1.1000000000000001,"kW",104,"˚C",1.2,"kW",181,"˚C",9.1999999999999993,"kW",4,5,"˚C",10,"˚",2.2999999999999998,"kW",2.6046511627906974]
[-35,"˚C",1.3,"kW",123,"˚C",1.3,"kW",203,"˚C",9.6999999999999993,"kW",3.7307692307692304,5,"˚C",10,"˚",2.6,"kW",2.5434782608695654]
[-40,"˚C",1.6,"kW",143,"˚C",1.4,"kW",227,"˚C",10.4,"kW",3.4666666666666668,5,"˚C",10,"˚",3,"kW",2.48]
[-45,"˚C",1.8,"kW",165,"˚C",1.5,"kW",253,"˚C",11,"kW",3.3333333333333335,5,"˚C",10,"˚",3.3,"kW",2.4528301886792452]
[]
[]
[]
[]
[]
[]
[]
[]
[]
["Fixed values from Cool Pack"]
["Two stage cycle - Flooded evaporator, open intercooler, one stage compression"]
["Refrigerant","R290"]
["Evaporator input",null,null,"1. Compressor input",null,null,"1. Compressor output",null,null,"2. Compressor input",null,null,"2. Compressor output"]
["Temperature",null,"˚C","Temperature",null,"˚C","Temperature",null,"˚C","Temperature",null,"˚C","Temperature",null,"˚C"]
["Pressure",null,"bar","Pressure",null,"bar","Pressure",null,"bar","Pressure",null,"bar","Pressure",null,"bar"]
[null,null,null,"Power",null,"kW",null,null,null,"Power",null,"kW"]
[null,null,null,"Isentropic efficiency",70,"%",null,null,null,"Isentropic efficiency",{"$f":"E82","v":70},"%"]
[null,null,null,"Heat loss",5,"%",null,null,null,null,null,null,"Condenser temperature"]
[null,null,null,"mR290 total",1.7999999999999999E-2,"kg/s",null,null,null,null,null,null,"Temperature",28,"˚C",null,null,null,null,null,null,null,null,null,null,null,null,null,null,null,null,null,null,null,null,null,null,null,3.7000000000000002E-3]
[null,null,null,null,null,null,null,null,null,null,null,null,"Output",10,"˚C",null,null,null,null,null,null,null,null,null,null,null,null,null,null,null,null,null,null,null,null,null,null,null,1.43E-2]
[null,null,null,null,null,null,null,null,null,null,null,null,null,null,null,null,null,null,null,null,null,null,null,null,null,null,null,null,null,null,null,null,null,null,null,null,null,null,1.7999999999999999E-2]
[null,null,null,null,null,null,null,null,null,null,null,null,null,null,null,null,null,null,null,null,null,null,null,null,null,null,null,null,null,null,null,null,null,null,null,null,null,null,"HS="]
["Evaporator temp",null,"Effect 1. comp",null,"Comp 1. out temp",null,"Effect 2. comp",null,"Comp 2. out temp",null,"Effect condenser",null,"COP","Inter mediat temp",null,"Inter mediat cooler",null,"Tot comp effect",null,"COP + water heating",null,null,null,null,null,null,null,null,null,null,null,null,null,null,null,null,null,null,{"$f":"(AM86-AM85)/AM86*100","v":20.55555555555555}]
[15,"˚C",null,"kW",null,"˚C",null,"kW",null,"˚C",null,"kW",{"$f":"K89/(C89+G89)","v":{"$error":"#DIV/0!"}},null,"˚C",null,"˚",{"$f":"C89+G89","v":0}]
[10,"˚C",null,"kW",null,"˚C",null,"kW",null,"˚C",null,"kW",{"$error":"#DIV/0!"},null,"˚C",null,"˚",{"$f":"C90+G90","v":0}]
[5,"˚C","Not possible to calculate whitout changing intermediat pressure/temperature","kW",null,"˚C",null,"kW",null,"˚C",null,"kW",{"$error":"#VALUE!"},null,"˚C",null,"˚",{"$error":"#VALUE!"}]
[0,"˚C",0.2,"kW",10,"˚C",0.8,"kW",35,"˚C",7.5,"kW",7.5,5,"˚C",5,"˚",1,"kW",{"$f":"(K92+2)/((C92+G92)+2)","v":3.1666666666666665}]
[-5,"˚C",0.3,"kW",12,"˚C",0.8,"kW",35,"˚C",7.6,"kW",6.9090909090909083,5,"˚C",5,"˚",1.1000000000000001,"kW",{"$f":"(K93+2)/((C93+G93)+2)","v":3.096774193548387}]
[-10,"˚C",0.5,"kW",14,"˚C",0.8,"kW",35,"˚C",7.6,"kW",5.8461538461538458,5,"˚C",5,"˚",1.3,"kW",2.9090909090909092]
[-15,"˚C",0.6,"kW",17,"˚C",0.8,"kW",37,"˚C",7.7,"kW",5.5000000000000009,5,"˚C",10,"˚",1.4,"kW",2.8529411764705883]
[-20,"˚C",0.8,"kW",20,"˚C",0.9,"kW",40,"˚C",8,"kW",4.7058823529411757,5,"˚C",10,"˚",1.7000000000000002,"kW",2.7027027027027026]
[-25,"˚C",1,"kW",23,"˚C",0.9,"kW",42,"˚C",8.1999999999999993,"kW",4.3157894736842106,5,"˚C",10,"˚",1.9,"kW",2.6153846153846154]
[-30,"˚C",1.2,"kW",26,"˚C",0.9,"kW",46,"˚C",8.4,"kW",4,5,"˚C",10,"˚",2.1,"kW",2.536585365853659]
[-35,"˚C",1.3,"kW",30,"˚C",0.9,"kW",50,"˚C",8.5,"kW",3.8636363636363633,5,"˚C",10,"˚",2.2000000000000002,"kW",2.5]
[-40,"˚C",1.5,"kW",34,"˚C",1,"kW",54,"˚C",9,"kW",3.6,5,"˚C",10,"˚",2.5,"kW",2.4444444444444446]
[-45,"˚C",1.8,"kW",38,"˚C",1,"kW",58,"˚C",9.1999999999999993,"kW",3.2857142857142856,5,"˚C",10,"˚",2.8,"kW",2.3333333333333335]
[]
[]
[]
[]
[]
[]
[]
[]
[]
[]
["Fixed values from Cool Pack"]
["Two stage cycle - Flooded evaporator, open intercooler, one stage compression"]
["Refrigerant","R410A"]
["Evaporator input",null,null,"1. Compressor input",null,null,"1. Compressor output",null,null,"2. Compressor input",null,null,"2. Compressor output"]
["Temperature",null,"˚C","Temperature",null,"˚C","Temperature",null,"˚C","Temperature",null,"˚C","Temperature",null,"˚C"]
["Pressure",null,"bar","Pressure",null,"bar","Pressure",null,"bar","Pressure",null,"bar","Pressure",null,"bar"]
[null,null,null,"Power",null,"kW",null,null,null,"Power",null,"kW"]
[null,null,null,"Isentropic efficiency",70,"%",null,null,null,"Isentropic efficiency",{"$f":"E119","v":70},"%"]
[null,null,null,"Heat loss",5,"%",null,null,null,null,null,null,"Condenser temperature"]
[null,null,null,"mR140A total",2.93E-2,"kg/s",null,null,null,null,null,null,"Temperature",28,"˚C"]
[null,null,null,null,null,null,null,null,null,null,null,null,"Output",10,"˚C",null,null,null,null,null,null,null,null,null,null,null,null,null,null,null,null,null,null,null,null,null,null,null,6.0000000000000001E-3]
[null,null,null,null,null,null,null,null,null,null,null,null,null,null,null,null,null,null,null,null,null,null,null,null,null,null,null,null,null,null,null,null,null,null,null,null,null,null,2.3300000000000001E-2]
[null,null,null,null,null,null,null,null,null,null,null,null,null,null,null,null,null,null,null,null,null,null,null,null,null,null,null,null,null,null,null,null,null,null,null,null,null,null,2.93E-2]
["Evaporator temp",null,"Effect 1. comp",null,"Comp 1. out temp",null,"Effect 2. comp",null,"Comp 2. out temp",null,"Effect condenser",null,"COP","Inter mediat temp",null,"Inter mediat cooler",null,"Tot comp effect",null,"COP + water heating",null,null,null,null,null,null,null,null,null,null,null,null,null,null,null,null,null,null,"HS="]
[15,"˚C",null,"kW",null,"˚C",null,"kW",null,"˚C",null,"kW",{"$f":"K126/(C126+G126)","v":{"$error":"#DIV/0!"}},null,"˚C",null,"˚",{"$f":"C126+G126","v":0},null,null,null,null,null,null,null,null,null,null,null,null,null,null,null,null,null,null,null,null,{"$f":"(AM124-AM123)/AM124*100","v":20.477815699658699}]
[10,"˚C",null,"kW",null,"˚C",null,"kW",null,"˚C",null,"kW",{"$error":"#DIV/0!"},null,"˚C",null,"˚",{"$f":"C127+G127","v":0}]
[5,"˚C","Not possible to calculate whitout changing intermediat pressure/temperature","kW",null,"˚C",null,"kW",null,"˚C",null,"kW",{"$error":"#VALUE!"},null,"˚C",null,"˚",{"$error":"#VALUE!"}]
[0,"˚C",0.1,"kW",11,"˚C",0.8,"kW",43,"˚C",7.2,"kW",8,5,"˚C",5,"˚",0.9,"kW",{"$f":"(K129+2)/((C129+G129)+2)","v":3.172413793103448}]
[-5,"˚C",0.3,"kW",15,"˚C",0.8,"kW",43,"˚C",7.3,"kW",6.6363636363636358,5,"˚C",10,"˚",1.1000000000000001,"kW",{"$f":"(K130+2)/((C130+G130)+2)","v":3}]
[-10,"˚C",0.4,"kW",19,"˚C",0.8,"kW",47,"˚C",7.6,"kW",6.3333333333333321,5,"˚C",10,"˚",1.2000000000000002,"kW",2.9999999999999996]
[-15,"˚C",0.6,"kW",24,"˚C",0.9,"kW",53,"˚C",7.9,"kW",5.2666666666666666,5,"˚C",10,"˚",1.5,"kW",2.8285714285714287]
[-20,"˚C",0.8,"kW",29,"˚C",0.9,"kW",57,"˚C",8.1999999999999993,"kW",4.8235294117647047,5,"˚C",10,"˚",1.7000000000000002,"kW",2.7567567567567566]
[-25,"˚C",1,"kW",34,"˚C",1,"kW",62,"˚C",8.6,"kW",4.3,5,"˚C",10,"˚",2,"kW",2.65]
[-30,"˚C",1.2,"kW",40,"˚C",1,"kW",69,"˚C",9,"kW",4.0909090909090908,5,"˚C",10,"˚",2.2000000000000002,"kW",2.6190476190476191]
[-35,"˚C",1.4,"kW",46,"˚C",1.1000000000000001,"kW",74,"˚C",9.4,"kW",3.7600000000000002,5,"˚C",10,"˚",2.5,"kW",2.5333333333333332]
[-40,"˚C",1.6,"kW",52,"˚C",1.1000000000000001,"kW",82,"˚C",9.9,"kW",3.6666666666666665,5,"˚C",10,"˚",2.7,"kW",2.5319148936170213]
[-45,"˚C",1.8,"kW",59,"˚C",1.2,"kW",90,"˚C",10.4,"kW",3.4666666666666668,5,"˚C",10,"˚",3,"kW",2.48]

{"sheet":"Kolsaker two-st","index":2,"n_rows":345,"n_cols":49,"rows_kept":345,"cut":false,"hidden":false,"merged":[]}
["Kolsaker two-stage"]
[]
[]
[]
["Refrigerant",null,"R717",null,null,"Refrigerant",null,{"$f":"C5","v":"R717"},null,null,"Refrigerant",null,{"$f":"H5","v":"R717"},null,null,"Refrigerant",null,{"$f":"M5","v":"R717"},null,null,"Refrigerant",null,{"$f":"R5","v":"R717"},null,null,"Refrigerant",null,{"$f":"W5","v":"R717"},null,null,"Refrigerant",null,{"$f":"AB5","v":"R717"},null,null,"Refrigerant",null,{"$f":"AG5","v":"R717"},null,null,"Refrigerant",null,{"$f":"AL5","v":"R717"},null,null,"Refrigerant",null,{"$f":"AQ5","v":"R717"}]
["Two-stage Compression",null,null,null,null,"Two-stage Compression",null,null,null,null,"Two-stage Compression",null,null,null,null,"Two-stage Compression",null,null,null,null,"Two-stage Compression",null,null,null,null,"Two-stage Compression",null,null,null,null,"Two-stage Compression",null,null,null,null,"Two-stage Compression",null,null,null,null,"Two-stage Compression",null,null,null,null,"Two-stage Compression"]
["Evaporation temperature",null,0,"˚C",null,"Evaporation temperature",null,-5,"˚C",null,"Evaporation temperature",null,-10,"˚C",null,"Evaporation temperature",null,-15,"˚C",null,"Evaporation temperature",null,-20,"˚C",null,"Evaporation temperature",null,-25,"˚C",null,"Evaporation temperature",null,-30,"˚C",null,"Evaporation temperature",null,-35,"˚C",null,"Evaporation temperature",null,-40,"˚C",null,"Evaporation temperature",null,-45,"˚C"]
["Evaporation pressure",null,{"$f":"r_psatgasT(C5,C7)/100000","v":4.2935164557056895},"bar",null,"Evaporation pressure",null,{"$f":"r_psatgasT(H5,H7)/100000","v":3.5477431603231757},"bar",null,"Evaporation pressure",null,{"$f":"r_psatgasT(M5,M7)/100000","v":2.9076839865545141},"bar",null,"Evaporation pressure",null,{"$f":"r_psatgasT(R5,R7)/100000","v":2.3624127223893781},"bar",null,"Evaporation pressure",null,{"$f":"r_psatgasT(W5,W7)/100000","v":1.901574057592299},"bar",null,"Evaporation pressure",null,{"$f":"r_psatgasT(AB5,AB7)/100000","v":1.5154253730688649},"bar",null,"Evaporation pressure",null,{"$f":"r_psatgasT(AG5,AG7)/100000","v":1.1948575624957021},"bar",null,"Evaporation pressure",null,{"$f":"r_psatgasT(AL5,AL7)/100000","v":0.93139234305794216},"bar",null,"Evaporation pressure",null,{"$f":"r_psatgasT(AQ5,AQ7)/100000","v":0.71718340385044299},"bar",null,"Evaporation pressure",null,{"$f":"r_psatgasT(AV5,AV7)/100000","v":0.54502918270776124},"bar"]
["Temperature in to compressor",null,{"$f":"C7+2","v":2},"˚C",null,"Temperature in to compressor",null,{"$f":"H7+2","v":-3},"˚C",null,"Temperature in to compressor",null,{"$f":"M7+2","v":-8},"˚C",null,"Temperature in to compressor",null,{"$f":"R7+2","v":-13},"˚C",null,"Temperature in to compressor",null,{"$f":"W7+2","v":-18},"˚C",null,"Temperature in to compressor",null,{"$f":"AB7+2","v":-23},"˚C",null,"Temperature in to compressor",null,{"$f":"AG7+2","v":-28},"˚C",null,"Temperature in to compressor",null,{"$f":"AL7+2","v":-33},"˚C",null,"Temperature in to compressor",null,{"$f":"AQ7+2","v":-38},"˚C",null,"Temperature in to compressor",null,{"$f":"AV7+2","v":-43},"˚C"]
["1. Compressor",null,null,null,null,"1. Compressor",null,null,null,null,"1. Compressor",null,null,null,null,"1. Compressor",null,null,null,null,"1. Compressor",null,null,null,null,"1. Compressor",null,null,null,null,"1. Compressor",null,null,null,null,"1. Compressor",null,null,null,null,"1. Compressor",null,null,null,null,"1. Compressor"]
["Enthalpy input compressor",null,{"$f":"r_hgastp(C5,C9,C8*100000)/1000","v":1629.028125311577},"kJ/kg",null,"Enthalpy input compressor",null,{"$f":"r_hgastp(H5,H9,H8*100000)/1000","v":1623.2086526543858},"kJ/kg",null,"Enthalpy input compressor",null,{"$f":"r_hgastp(M5,M9,M8*100000)/1000","v":1617.005571612166},"kJ/kg",null,"Enthalpy input compressor",null,{"$f":"r_hgastp(R5,R9,R8*100000)/1000","v":1610.438127721251},"kJ/kg",null,"Enthalpy input compressor",null,{"$f":"r_hgastp(W5,W9,W8*100000)/1000","v":1603.5321018430971},"kJ/kg",null,"Enthalpy input compressor",null,{"$f":"r_hgastp(AB5,AB9,AB8*100000)/1000","v":1596.3249312726459},"kJ/kg",null,"Enthalpy input compressor",null,{"$f":"r_hgastp(AG5,AG9,AG8*100000)/1000","v":1588.8541500219831},"kJ/kg",null,"Enthalpy input compressor",null,{"$f":"r_hgastp(AL5,AL9,AL8*100000)/1000","v":1581.145123837284},"kJ/kg",null,"Enthalpy input compressor",null,{"$f":"r_hgastp(AQ5,AQ9,AQ8*100000)/1000","v":1573.2120722908089},"kJ/kg",null,"Enthalpy input compressor",null,{"$f":"r_hgastp(AV5,AV9,AV8*100000)/1000","v":1565.065805460333},"kJ/kg"]
["Entropy",null,{"$f":"R_SgasTP(C5,C9,C8*100000)","v":6202.2694910059918},"J/kgK",null,"Entropy",null,{"$f":"R_SgasTP(H5,H9,H8*100000)","v":6268.2841795536406},"J/kgK",null,"Entropy",null,{"$f":"R_SgasTP(M5,M9,M8*100000)","v":6336.9070862804338},"J/kgK",null,"Entropy",null,{"$f":"R_SgasTP(R5,R9,R8*100000)","v":6408.3963880374449},"J/kgK",null,"Entropy",null,{"$f":"R_SgasTP(W5,W9,W8*100000)","v":6483.0568210069514},"J/kgK",null,"Entropy",null,{"$f":"R_SgasTP(AB5,AB9,AB8*100000)","v":6561.2648411092396},"J/kgK",null,"Entropy",null,{"$f":"R_SgasTP(AG5,AG9,AG8*100000)","v":6643.4283727965294},"J/kgK",null,"Entropy",null,{"$f":"R_SgasTP(AL5,AL9,AL8*100000)","v":6729.9387344969409},"J/kgK",null,"Entropy",null,{"$f":"R_SgasTP(AQ5,AQ9,AQ8*100000)","v":6821.1737993729948},"J/kgK",null,"Entropy",null,{"$f":"R_SgasTP(AV5,AV9,AV8*100000)","v":6917.5318106252926},"J/kgK"]
["Specific volume",null,{"$f":"R_vgasTP(C5,C9,C8*100000)","v":0.29222924261993322},"m3/kg",null,"Specific volume",null,{"$f":"R_vgasTP(H5,H9,H8*100000)","v":0.35003969452210881},"m3/kg",null,"Specific volume",null,{"$f":"R_vgasTP(M5,M9,M8*100000)","v":0.42227786935938799},"m3/kg",null,"Specific volume",null,{"$f":"R_vgasTP(R5,R9,R8*100000)","v":0.51333872864913854},"m3/kg",null,"Specific volume",null,{"$f":"R_vgasTP(W5,W9,W8*100000)","v":0.62922397471082092},"m3/kg",null,"Specific volume",null,{"$f":"R_vgasTP(AB5,AB9,AB8*100000)","v":0.77824863932320532},"m3/kg",null,"Specific volume",null,{"$f":"R_vgasTP(AG5,AG9,AG8*100000)","v":0.97203217888177396},"m3/kg",null,"Specific volume",null,{"$f":"R_vgasTP(AL5,AL9,AL8*100000)","v":1.226958816968579},"m3/kg",null,"Specific volume",null,{"$f":"R_vgasTP(AQ5,AQ9,AQ8*100000)","v":1.56644549781353},"m3/kg",null,"Specific volume",null,{"$f":"R_vgasTP(AV5,AV9,AV8*100000)","v":2.024498548667415},"m3/kg"]
[]
["Intermediat temperature",null,5,"˚C",null,"Intermediat temperature",null,5,"˚C",null,"Intermediat temperature",null,5,"˚C",null,"Intermediat temperature",null,5,"˚C",null,"Intermediat temperature",null,5,"˚C",null,"Intermediat temperature",null,5,"˚C",null,"Intermediat temperature",null,5,"˚C",null,"Intermediat temperature",null,5,"˚C",null,"Intermediat temperature",null,5,"˚C",null,"Intermediat temperature",null,5,"˚C"]
["Intermediat pressure",null,{"$f":"r_psatgasT(C5,C15)/100000","v":5.1564701792426098},"bar",null,"Intermediat pressure",null,{"$f":"r_psatgasT(H5,H15)/100000","v":5.1564701792426098},"bar",null,"Intermediat pressure",null,{"$f":"r_psatgasT(M5,M15)/100000","v":5.1564701792426098},"bar",null,"Intermediat pressure",null,{"$f":"r_psatgasT(R5,R15)/100000","v":5.1564701792426098},"bar",null,"Intermediat pressure",null,{"$f":"r_psatgasT(W5,W15)/100000","v":5.1564701792426098},"bar",null,"Intermediat pressure",null,{"$f":"r_psatgasT(AB5,AB15)/100000","v":5.1564701792426098},"bar",null,"Intermediat pressure",null,{"$f":"r_psatgasT(AG5,AG15)/100000","v":5.1564701792426098},"bar",null,"Intermediat pressure",null,{"$f":"r_psatgasT(AL5,AL15)/100000","v":5.1564701792426098},"bar",null,"Intermediat pressure",null,{"$f":"r_psatgasT(AQ5,AQ15)/100000","v":5.1564701792426098},"bar",null,"Intermediat pressure",null,{"$f":"r_psatgasT(AV5,AV15)/100000","v":5.1564701792426098},"bar"]
["Intermediat pressure ratio",null,{"$f":"C16/C8","v":1.2009899653208813},null,null,"Intermediat pressure ratio",null,{"$f":"H16/H8","v":1.4534508125928962},null,null,"Intermediat pressure ratio",null,{"$f":"M16/M8","v":1.7733942901246345},null,null,"Intermediat pressure ratio",null,{"$f":"R16/R8","v":2.1827135158784965},null,null,"Intermediat pressure ratio",null,{"$f":"W16/W8","v":2.7116851740034447},null,null,"Intermediat pressure ratio",null,{"$f":"AB16/AB8","v":3.4026553011979206},null,null,"Intermediat pressure ratio",null,{"$f":"AG16/AG8","v":4.3155521972613009},null,null,"Intermediat pressure ratio",null,{"$f":"AL16/AL8","v":5.5363029529670769},null,null,"Intermediat pressure ratio",null,{"$f":"AQ16/AQ8","v":7.1898905517868181},null,null,"Intermediat pressure ratio",null,{"$f":"AV16/AV8","v":9.4609065768271954}]
["Isentropic efficiency",null,0.7,null,null,"Isentropic efficiency",null,0.7,null,null,"Isentropic efficiency",null,0.7,null,null,"Isentropic efficiency",null,0.7,null,null,"Isentropic efficiency",null,0.7,null,null,"Isentropic efficiency",null,0.7,null,null,"Isentropic efficiency",null,0.7,null,null,"Isentropic efficiency",null,0.7,null,null,"Isentropic efficiency",null,0.7,null,null,"Isentropic efficiency",null,0.7]
[]
["Isentropic entalpy",null,{"$f":"R_hgasSP(C5,C12,C16*100000)/1000","v":1652.4992133448939},"kJ/kg",null,"Isentropic entalpy",null,{"$f":"R_hgasSP(H5,H12,H16*100000)/1000","v":1671.7082937160189},"kJ/kg",null,"Isentropic entalpy",null,{"$f":"R_hgasSP(M5,M12,M16*100000)/1000","v":1692.139635128917},"kJ/kg",null,"Isentropic entalpy",null,{"$f":"R_hgasSP(R5,R12,R16*100000)/1000","v":1714.058794746074},"kJ/kg",null,"Isentropic entalpy",null,{"$f":"R_hgasSP(W5,W12,W16*100000)/1000","v":1737.6562574904731},"kJ/kg",null,"Isentropic entalpy",null,{"$f":"R_hgasSP(AB5,AB12,AB16*100000)/1000","v":1763.2459901843172},"kJ/kg",null,"Isentropic entalpy",null,{"$f":"R_hgasSP(AG5,AG12,AG16*100000)/1000","v":1790.908972225385},"kJ/kg",null,"Isentropic entalpy",null,{"$f":"R_hgasSP(AL5,AL12,AL16*100000)/1000","v":1821.176046829524},"kJ/kg",null,"Isentropic entalpy",null,{"$f":"R_hgasSP(AQ5,AQ12,AQ16*100000)/1000","v":1854.3287794776361},"kJ/kg",null,"Isentropic entalpy",null,{"$f":"R_hgasSP(AV5,AV12,AV16*100000)/1000","v":1890.7730157161029},"kJ/kg"]
["Real entropy",null,{"$f":"C11+(C20-C11)/C18","v":1662.5582510734582},"kJ/kg",null,"Real entropy",null,{"$f":"H11+(H20-H11)/H18","v":1692.4938541710046},"kJ/kg",null,"Real entropy",null,{"$f":"M11+(M20-M11)/M18","v":1724.3399480646674},"kJ/kg",null,"Real entropy",null,{"$f":"R11+(R20-R11)/R18","v":1758.4676520424268},"kJ/kg",null,"Real entropy",null,{"$f":"W11+(W20-W11)/W18","v":1795.1380384822057},"kJ/kg",null,"Real entropy",null,{"$f":"AB11+(AB20-AB11)/AB18","v":1834.7835868607476},"kJ/kg",null,"Real entropy",null,{"$f":"AG11+(AG20-AG11)/AG18","v":1877.503896026843},"kJ/kg",null,"Real entropy",null,{"$f":"AL11+(AL20-AL11)/AL18","v":1924.0464423976268},"kJ/kg",null,"Real entropy",null,{"$f":"AQ11+(AQ20-AQ11)/AQ18","v":1974.8073682719905},"kJ/kg",null,"Real entropy",null,{"$f":"AV11+(AV20-AV11)/AV18","v":2030.361820111433},"kJ/kg"]
["Temperature out of compressor",null,{"$f":"R_tgasHP(C5,C21*1000,C16*100000)","v":17.54835644876113},"˚C",null,"Temperature out of compressor",null,{"$f":"R_tgasHP(H5,H21*1000,H16*100000)","v":29.32968325819985},"˚C",null,"Temperature out of compressor",null,{"$f":"R_tgasHP(M5,M21*1000,M16*100000)","v":42.314503780499017},"˚C",null,"Temperature out of compressor",null,{"$f":"R_tgasHP(R5,R21*1000,R16*100000)","v":56.56524883177309},"˚C",null,"Temperature out of compressor",null,{"$f":"R_tgasHP(W5,W21*1000,W16*100000)","v":72.099046323283005},"˚C",null,"Temperature out of compressor",null,{"$f":"R_tgasHP(AB5,AB21*1000,AB16*100000)","v":89.006840715808494},"˚C",null,"Temperature out of compressor",null,{"$f":"R_tgasHP(AG5,AG21*1000,AG16*100000)","v":107.2377003816281},"˚C",null,"Temperature out of compressor",null,{"$f":"R_tgasHP(AL5,AL21*1000,AL16*100000)","v":127.01520023319679},"˚C",null,"Temperature out of compressor",null,{"$f":"R_tgasHP(AQ5,AQ21*1000,AQ16*100000)","v":148.40732598944649},"˚C",null,"Temperature out of compressor",null,{"$f":"R_tgasHP(AV5,AV21*1000,AV16*100000)","v":171.54933666174679},"˚C"]
["Enthalpy on the dewpoint line",null,{"$f":"R_hsatgasT(C5,C15)/1000","v":1628.9138084843519},"kJ/kg",null,"Enthalpy on the dewpoint line",null,{"$f":"R_hsatgasT(H5,H15)/1000","v":1628.9138084843519},"kJ/kg",null,"Enthalpy on the dewpoint line",null,{"$f":"R_hsatgasT(M5,M15)/1000","v":1628.9138084843519},"kJ/kg",null,"Enthalpy on the dewpoint line",null,{"$f":"R_hsatgasT(R5,R15)/1000","v":1628.9138084843519},"kJ/kg",null,"Enthalpy on the dewpoint line",null,{"$f":"R_hsatgasT(W5,W15)/1000","v":1628.9138084843519},"kJ/kg",null,"Enthalpy on the dewpoint line",null,{"$f":"R_hsatgasT(AB5,AB15)/1000","v":1628.9138084843519},"kJ/kg",null,"Enthalpy on the dewpoint line",null,{"$f":"R_hsatgasT(AG5,AG15)/1000","v":1628.9138084843519},"kJ/kg",null,"Enthalpy on the dewpoint line",null,{"$f":"R_hsatgasT(AL5,AL15)/1000","v":1628.9138084843519},"kJ/kg",null,"Enthalpy on the dewpoint line",null,{"$f":"R_hsatgasT(AQ5,AQ15)/1000","v":1628.9138084843519},"kJ/kg",null,"Enthalpy on the dewpoint line",null,{"$f":"R_hsatgasT(AV5,AV15)/1000","v":1628.9138084843519},"kJ/kg"]
["2. Compressor",null,null,null,null,"2. Compressor",null,null,null,null,"2. Compressor",null,null,null,null,"2. Compressor",null,null,null,null,"2. Compressor",null,null,null,null,"2. Compressor",null,null,null,null,"2. Compressor",null,null,null,null,"2. Compressor",null,null,null,null,"2. Compressor",null,null,null,null,"2. Compressor"]
["Intermediat cooling",null,10,"K",null,"Intermediat cooling",null,10,"K",null,"Intermediat cooling",null,10,"K",null,"Intermediat cooling",null,10,"K",null,"Intermediat cooling",null,10,"K",null,"Intermediat cooling",null,10,"K",null,"Intermediat cooling",null,10,"K",null,"Intermediat cooling",null,10,"K",null,"Intermediat cooling",null,10,"K",null,"Intermediat cooling",null,10,"K"]
["Temperature in to compressor",null,{"$f":"C22-C25","v":7.5483564487611297},"˚C",null,"Temperature in to compressor",null,{"$f":"H22-H25","v":19.32968325819985},"˚C",null,"Temperature in to compressor",null,{"$f":"M22-M25","v":32.314503780499017},"˚C",null,"Temperature in to compressor",null,{"$f":"R22-R25","v":46.56524883177309},"˚C",null,"Temperature in to compressor",null,{"$f":"W22-W25","v":62.099046323283005},"˚C",null,"Temperature in to compressor",null,{"$f":"AB22-AB25","v":79.006840715808494},"˚C",null,"Temperature in to compressor",null,{"$f":"AG22-AG25","v":97.237700381628102},"˚C",null,"Temperature in to compressor",null,{"$f":"AL22-AL25","v":117.01520023319679},"˚C",null,"Temperature in to compressor",null,{"$f":"AQ22-AQ25","v":138.40732598944649},"˚C",null,"Temperature in to compressor",null,{"$f":"AV22-AV25","v":161.54933666174679},"˚C"]
["Enthalpy input compressor",null,{"$f":"r_hgastp(C5,C26,C16*100000)/1000","v":1635.9459968176709},"kJ/kg",null,"Enthalpy input compressor",null,{"$f":"r_hgastp(H5,H26,H16*100000)/1000","v":1667.165703561865},"kJ/kg",null,"Enthalpy input compressor",null,{"$f":"r_hgastp(M5,M26,M16*100000)/1000","v":1699.887079136895},"kJ/kg",null,"Enthalpy input compressor",null,{"$f":"r_hgastp(R5,R26,R16*100000)/1000","v":1734.589221509397},"kJ/kg",null,"Enthalpy input compressor",null,{"$f":"r_hgastp(W5,W26,W16*100000)/1000","v":1771.5744365164301},"kJ/kg",null,"Enthalpy input compressor",null,{"$f":"r_hgastp(AB5,AB26,AB16*100000)/1000","v":1811.3529904222301},"kJ/kg",null,"Enthalpy input compressor",null,{"$f":"r_hgastp(AG5,AG26,AG16*100000)/1000","v":1854.0608113522851},"kJ/kg",null,"Enthalpy input compressor",null,{"$f":"r_hgastp(AL5,AL26,AL16*100000)/1000","v":1900.476122839784},"kJ/kg",null,"Enthalpy input compressor",null,{"$f":"r_hgastp(AQ5,AQ26,AQ16*100000)/1000","v":1951.0149249684721},"kJ/kg",null,"Enthalpy input compressor",null,{"$f":"r_hgastp(AV5,AV26,AV16*100000)/1000","v":2006.26645434443},"kJ/kg"]
["Entropy",null,{"$f":"R_SgasTP(C5,C26,C16*100000)","v":6143.9772231579773},"J/kgK",null,"Entropy",null,{"$f":"R_SgasTP(H5,H26,H16*100000)","v":6252.7929370551101},"J/kgK",null,"Entropy",null,{"$f":"R_SgasTP(M5,M26,M16*100000)","v":6362.212445136468},"J/kgK",null,"Entropy",null,{"$f":"R_SgasTP(R5,R26,R16*100000)","v":6473.4806850393234},"J/kgK",null,"Entropy",null,{"$f":"R_SgasTP(W5,W26,W16*100000)","v":6586.414761674856},"J/kgK",null,"Entropy",null,{"$f":"R_SgasTP(AB5,AB26,AB16*100000)","v":6702.2096970312277},"J/kgK",null,"Entropy",null,{"$f":"R_SgasTP(AG5,AG26,AG16*100000)","v":6820.4504606675773},"J/kgK",null,"Entropy",null,{"$f":"R_SgasTP(AL5,AL26,AL16*100000)","v":6942.532521711405},"J/kgK",null,"Entropy",null,{"$f":"R_SgasTP(AQ5,AQ26,AQ16*100000)","v":7068.6329650165153},"J/kgK",null,"Entropy",null,{"$f":"R_SgasTP(AV5,AV26,AV16*100000)","v":7199.2364572840042},"J/kgK"]
["Specific volume",null,{"$f":"R_vgasTP(C5,C26,C16*100000)","v":0.24623963438362489},"m3/kg",null,"Specific volume",null,{"$f":"R_vgasTP(H5,H26,H16*100000)","v":0.25993880710430051},"m3/kg",null,"Specific volume",null,{"$f":"R_vgasTP(M5,M26,M16*100000)","v":0.27444576554970063},"m3/kg",null,"Specific volume",null,{"$f":"R_vgasTP(R5,R26,R16*100000)","v":0.2900142094973398},"m3/kg",null,"Specific volume",null,{"$f":"R_vgasTP(W5,W26,W16*100000)","v":0.30636892379686692},"m3/kg",null,"Specific volume",null,{"$f":"R_vgasTP(AB5,AB26,AB16*100000)","v":0.32384781172130372},"m3/kg",null,"Specific volume",null,{"$f":"R_vgasTP(AG5,AG26,AG16*100000)","v":0.34236343707255162},"m3/kg",null,"Specific volume",null,{"$f":"R_vgasTP(AL5,AL26,AL16*100000)","v":0.36218738244472148},"m3/kg",null,"Specific volume",null,{"$f":"R_vgasTP(AQ5,AQ26,AQ16*100000)","v":0.38340176429984479},"m3/kg",null,"Specific volume",null,{"$f":"R_vgasTP(AV5,AV26,AV16*100000)","v":0.40614999945457098},"m3/kg"]
[]
["Condensating temperature",null,28,"˚C",null,"Condensating temperature",null,28,"˚C",null,"Condensating temperature",null,28,"˚C",null,"Condensating temperature",null,28,"˚C",null,"Condensating temperature",null,28,"˚C",null,"Condensating temperature",null,28,"˚C",null,"Condensating temperature",null,28,"˚C",null,"Condensating temperature",null,28,"˚C",null,"Condensating temperature",null,28,"˚C",null,"Condensating temperature",null,28,"˚C"]
["Condensating pressure",null,{"$f":"r_psatgasT(C5,C31)/100000","v":10.98753082742004},"bar",null,"Condensating pressure",null,{"$f":"r_psatgasT(H5,H31)/100000","v":10.98753082742004},"bar",null,"Condensating pressure",null,{"$f":"r_psatgasT(M5,M31)/100000","v":10.98753082742004},"bar",null,"Condensating pressure",null,{"$f":"r_psatgasT(R5,R31)/100000","v":10.98753082742004},"bar",null,"Condensating pressure",null,{"$f":"r_psatgasT(W5,W31)/100000","v":10.98753082742004},"bar",null,"Condensating pressure",null,{"$f":"r_psatgasT(AB5,AB31)/100000","v":10.98753082742004},"bar",null,"Condensating pressure",null,{"$f":"r_psatgasT(AG5,AG31)/100000","v":10.98753082742004},"bar",null,"Condensating pressure",null,{"$f":"r_psatgasT(AL5,AL31)/100000","v":10.98753082742004},"bar",null,"Condensating pressure",null,{"$f":"r_psatgasT(AQ5,AQ31)/100000","v":10.98753082742004},"bar",null,"Condensating pressure",null,{"$f":"r_psatgasT(AV5,AV31)/100000","v":10.98753082742004},"bar"]
["Pressure ration",null,{"$f":"C32/C16","v":2.1308240803273502},null,null,"Pressure ration",null,{"$f":"H32/H16","v":2.1308240803273502},null,null,"Pressure ration",null,{"$f":"M32/M16","v":2.1308240803273502},null,null,"Pressure ration",null,{"$f":"R32/R16","v":2.1308240803273502},null,null,"Pressure ration",null,{"$f":"W32/W16","v":2.1308240803273502},null,null,"Pressure ration",null,{"$f":"AB32/AB16","v":2.1308240803273502},null,null,"Pressure ration",null,{"$f":"AG32/AG16","v":2.1308240803273502},null,null,"Pressure ration",null,{"$f":"AL32/AL16","v":2.1308240803273502},null,null,"Pressure ration",null,{"$f":"AQ32/AQ16","v":2.1308240803273502},null,null,"Pressure ration",null,{"$f":"AV32/AV16","v":2.1308240803273502}]
["Pressure ration TOTAL",null,{"$f":"C32/C8","v":2.5590983383372432},null,null,"Pressure ration TOTAL",null,{"$f":"H32/H8","v":3.0970479910442976},null,null,"Pressure ration TOTAL",null,{"$f":"M32/M8","v":3.7787912573125979},null,null,"Pressure ration TOTAL",null,{"$f":"R32/R8","v":4.6509785200898737},null,null,"Pressure ration TOTAL",null,{"$f":"W32/W8","v":5.7781240670332004},null,null,"Pressure ration TOTAL",null,{"$f":"AB32/AB8","v":7.2504598528460411},null,null,"Pressure ration TOTAL",null,{"$f":"AG32/AG8","v":9.1956825418339871},null,null,"Pressure ration TOTAL",null,{"$f":"AL32/AL8","v":11.796887648169664},null,null,"Pressure ration TOTAL",null,{"$f":"AQ32/AQ8","v":15.320391922665449},null,null,"Pressure ration TOTAL",null,{"$f":"AV32/AV8","v":20.159527555630788}]
["Isentropic efficiency",null,0.7,null,null,"Isentropic efficiency",null,0.7,null,null,"Isentropic efficiency",null,0.7,null,null,"Isentropic efficiency",null,0.7,null,null,"Isentropic efficiency",null,0.7,null,null,"Isentropic efficiency",null,0.7,null,null,"Isentropic efficiency",null,0.7,null,null,"Isentropic efficiency",null,0.7,null,null,"Isentropic efficiency",null,0.7,null,null,"Isentropic efficiency",null,0.7]
[]
["Isentropic entalpy",null,{"$f":"R_hgasSP(C5,C28,C32*100000)/1000","v":1740.597859068745},"kJ/kg",null,"Isentropic entalpy",null,{"$f":"R_hgasSP(H5,H28,H32*100000)/1000","v":1777.5668607859391},"kJ/kg",null,"Isentropic entalpy",null,{"$f":"R_hgasSP(M5,M28,M32*100000)/1000","v":1816.4258974204649},"kJ/kg",null,"Isentropic entalpy",null,{"$f":"R_hgasSP(R5,R28,R32*100000)/1000","v":1857.7072767256789},"kJ/kg",null,"Isentropic entalpy",null,{"$f":"R_hgasSP(W5,W28,W32*100000)/1000","v":1901.53809391557},"kJ/kg",null,"Isentropic entalpy",null,{"$f":"R_hgasSP(AB5,AB28,AB32*100000)/1000","v":1948.6063776895612},"kJ/kg",null,"Isentropic entalpy",null,{"$f":"R_hgasSP(AG5,AG28,AG32*100000)/1000","v":1999.002236655097},"kJ/kg",null,"Isentropic entalpy",null,{"$f":"R_hgasSP(AL5,AL28,AL32*100000)/1000","v":2053.6202290309529},"kJ/kg",null,"Isentropic entalpy",null,{"$f":"R_hgasSP(AQ5,AQ28,AQ32*100000)/1000","v":2112.9107449295389},"kJ/kg",null,"Isentropic entalpy",null,{"$f":"R_hgasSP(AV5,AV28,AV32*100000)/1000","v":2177.520605951664},"kJ/kg"]
["Real entropy",null,{"$f":"C27+(C37-C27)/C35","v":1785.4486571763482},"kJ/kg",null,"Real entropy",null,{"$f":"H27+(H37-H27)/H35","v":1824.8816424533993},"kJ/kg",null,"Real entropy",null,{"$f":"M27+(M37-M27)/M35","v":1866.3711052562808},"kJ/kg",null,"Real entropy",null,{"$f":"R27+(R37-R27)/R35","v":1910.4721575326569},"kJ/kg",null,"Real entropy",null,{"$f":"W27+(W37-W27)/W35","v":1957.2368042294872},"kJ/kg",null,"Real entropy",null,{"$f":"AB27+(AB37-AB27)/AB35","v":2007.4292579469889},"kJ/kg",null,"Real entropy",null,{"$f":"AG27+(AG37-AG27)/AG35","v":2061.119990356302},"kJ/kg",null,"Real entropy",null,{"$f":"AL27+(AL37-AL27)/AL35","v":2119.2534173985969},"kJ/kg",null,"Real entropy",null,{"$f":"AQ27+(AQ37-AQ27)/AQ35","v":2182.2946677699961},"kJ/kg",null,"Real entropy",null,{"$f":"AV27+(AV37-AV27)/AV35","v":2250.9152423547644},"kJ/kg"]
["Temperature out of compressor",null,{"$f":"R_tgasHP(C5,C38*1000,C32*100000)","v":77.513687677429516},"˚C",null,"Temperature out of compressor",null,{"$f":"R_tgasHP(H5,H38*1000,H32*100000)","v":93.062414955933093},"˚C",null,"Temperature out of compressor",null,{"$f":"R_tgasHP(M5,M38*1000,M32*100000)","v":109.6719665870538},"˚C",null,"Temperature out of compressor",null,{"$f":"R_tgasHP(R5,R38*1000,R32*100000)","v":127.49479452725571},"˚C",null,"Temperature out of compressor",null,{"$f":"R_tgasHP(W5,W38*1000,W32*100000)","v":146.4417913226128},"˚C",null,"Temperature out of compressor",null,{"$f":"R_tgasHP(AB5,AB38*1000,AB32*100000)","v":166.73035006054829},"˚C",null,"Temperature out of compressor",null,{"$f":"R_tgasHP(AG5,AG38*1000,AG32*100000)","v":188.29776393625551},"˚C",null,"Temperature out of compressor",null,{"$f":"R_tgasHP(AL5,AL38*1000,AL32*100000)","v":211.4323407260953},"˚C",null,"Temperature out of compressor",null,{"$f":"R_tgasHP(AQ5,AQ38*1000,AQ32*100000)","v":236.2208898958537},"˚C",null,"Temperature out of compressor",null,{"$f":"R_tgasHP(AV5,AV38*1000,AV32*100000)","v":262.82345705284291},"˚C"]
["Enthalpy on the dewpoint line",null,{"$f":"R_hsatgasT(C5,C31)/1000","v":1647.0569069437411},"kJ/kg",null,"Enthalpy on the dewpoint line",null,{"$f":"R_hsatgasT(H5,H31)/1000","v":1647.0569069437411},"kJ/kg",null,"Enthalpy on the dewpoint line",null,{"$f":"R_hsatgasT(M5,M31)/1000","v":1647.0569069437411},"kJ/kg",null,"Enthalpy on the dewpoint line",null,{"$f":"R_hsatgasT(R5,R31)/1000","v":1647.0569069437411},"kJ/kg",null,"Enthalpy on the dewpoint line",null,{"$f":"R_hsatgasT(W5,W31)/1000","v":1647.0569069437411},"kJ/kg",null,"Enthalpy on the dewpoint line",null,{"$f":"R_hsatgasT(AB5,AB31)/1000","v":1647.0569069437411},"kJ/kg",null,"Enthalpy on the dewpoint line",null,{"$f":"R_hsatgasT(AG5,AG31)/1000","v":1647.0569069437411},"kJ/kg",null,"Enthalpy on the dewpoint line",null,{"$f":"R_hsatgasT(AL5,AL31)/1000","v":1647.0569069437411},"kJ/kg",null,"Enthalpy on the dewpoint line",null,{"$f":"R_hsatgasT(AQ5,AQ31)/1000","v":1647.0569069437411},"kJ/kg",null,"Enthalpy on the dewpoint line",null,{"$f":"R_hsatgasT(AV5,AV31)/1000","v":1647.0569069437411},"kJ/kg"]
["Subcooling of condenser",null,18,"K",null,"Subcooling of condenser",null,18,"K",null,"Subcooling of condenser",null,18,"K",null,"Subcooling of condenser",null,18,"K",null,"Subcooling of condenser",null,18,"K",null,"Subcooling of condenser",null,18,"K",null,"Subcooling of condenser",null,18,"K",null,"Subcooling of condenser",null,18,"K",null,"Subcooling of condenser",null,18,"K",null,"Subcooling of condenser",null,18,"K"]
["Enthalpy out of the condenser",null,{"$f":"R_hsatliqT(C5,C31-C41)/1000","v":408.51500138371409},"kJ/kg",null,"Enthalpy out of the condenser",null,{"$f":"R_hsatliqT(H5,H31-H41)/1000","v":408.51500138371409},"kJ/kg",null,"Enthalpy out of the condenser",null,{"$f":"R_hsatliqT(M5,M31-M41)/1000","v":408.51500138371409},"kJ/kg",null,"Enthalpy out of the condenser",null,{"$f":"R_hsatliqT(R5,R31-R41)/1000","v":408.51500138371409},"kJ/kg",null,"Enthalpy out of the condenser",null,{"$f":"R_hsatliqT(W5,W31-W41)/1000","v":408.51500138371409},"kJ/kg",null,"Enthalpy out of the condenser",null,{"$f":"R_hsatliqT(AB5,AB31-AB41)/1000","v":408.51500138371409},"kJ/kg",null,"Enthalpy out of the condenser",null,{"$f":"R_hsatliqT(AG5,AG31-AG41)/1000","v":408.51500138371409},"kJ/kg",null,"Enthalpy out of the condenser",null,{"$f":"R_hsatliqT(AL5,AL31-AL41)/1000","v":408.51500138371409},"kJ/kg",null,"Enthalpy out of the condenser",null,{"$f":"R_hsatliqT(AQ5,AQ31-AQ41)/1000","v":408.51500138371409},"kJ/kg",null,"Enthalpy out of the condenser",null,{"$f":"R_hsatliqT(AV5,AV31-AV41)/1000","v":408.51500138371409},"kJ/kg"]
[]
["Enthalpy in to evaporator",null,{"$f":"R_HsatliqP(C5,C15*100000)/1000","v":381.18927247962228},"kJ/kg",null,"Enthalpy in to evaporator",null,{"$f":"R_HsatliqP(H5,H15*100000)/1000","v":381.18927247962228},"kJ/kg",null,"Enthalpy in to evaporator",null,{"$f":"R_HsatliqP(M5,M15*100000)/1000","v":381.18927247962228},"kJ/kg",null,"Enthalpy in to evaporator",null,{"$f":"R_HsatliqP(R5,R15*100000)/1000","v":381.18927247962228},"kJ/kg",null,"Enthalpy in to evaporator",null,{"$f":"R_HsatliqP(W5,W15*100000)/1000","v":381.18927247962228},"kJ/kg",null,"Enthalpy in to evaporator",null,{"$f":"R_HsatliqP(AB5,AB15*100000)/1000","v":381.18927247962228},"kJ/kg",null,"Enthalpy in to evaporator",null,{"$f":"R_HsatliqP(AG5,AG15*100000)/1000","v":381.18927247962228},"kJ/kg",null,"Enthalpy in to evaporator",null,{"$f":"R_HsatliqP(AL5,AL15*100000)/1000","v":381.18927247962228},"kJ/kg",null,"Enthalpy in to evaporator",null,{"$f":"R_HsatliqP(AQ5,AQ15*100000)/1000","v":381.18927247962228},"kJ/kg",null,"Enthalpy in to evaporator",null,{"$f":"R_HsatliqP(AV5,AV15*100000)/1000","v":381.18927247962228},"kJ/kg"]
["Moist vapor - xf",null,{"$f":"(C27-C42)/(C27-C44)","v":0.97822228932982414},null,null,"Moist vapor - xf",null,{"$f":"(H27-H42)/(H27-H44)","v":0.97875098777580605},null,null,"Moist vapor - xf",null,{"$f":"(M27-M42)/(M27-M44)","v":0.97927824800637298},null,null,"Moist vapor - xf",null,{"$f":"(R27-R42)/(R27-R44)","v":0.97980956854351819},null,null,"Moist vapor - xf",null,{"$f":"(W27-W42)/(W27-W44)","v":0.98034664810090821},null,null,"Moist vapor - xf",null,{"$f":"(AB27-AB42)/(AB27-AB44)","v":0.98089328615929239},null,null,"Moist vapor - xf",null,{"$f":"(AG27-AG42)/(AG27-AG44)","v":0.9814473101130009},null,null,"Moist vapor - xf",null,{"$f":"(AL27-AL42)/(AL27-AL44)","v":0.98201410819976898},null,null,"Moist vapor - xf",null,{"$f":"(AQ27-AQ42)/(AQ27-AQ44)","v":0.98259314411076881},null,null,"Moist vapor - xf",null,{"$f":"(AV27-AV42)/(AV27-AV44)","v":0.98318496548407941}]
["Cooling capacity",null,{"$f":"C48*(C11-C44)","v":4.9913554113278185},"kW",null,"Cooling capacity",null,{"$f":"H48*(H11-H44)","v":4.9680775206990537},"kW",null,"Cooling capacity",null,{"$f":"M48*(M11-M44)","v":4.9432651965301746},"kW",null,"Cooling capacity",null,{"$f":"R48*(R11-R44)","v":4.916995420966515},"kW",null,"Cooling capacity",null,{"$f":"W48*(W11-W44)","v":4.8893713174538993},"kW",null,"Cooling capacity",null,{"$f":"AB48*(AB11-AB44)","v":4.8605426351720942},"kW",null,"Cooling capacity",null,{"$f":"AG48*(AG11-AG44)","v":4.8306595101694434},"kW",null,"Cooling capacity",null,{"$f":"AL48*(AL11-AL44)","v":4.7998234054306472},"kW",null,"Cooling capacity",null,{"$f":"AQ48*(AQ11-AQ44)","v":4.7680911992447461},"kW",null,"Cooling capacity",null,{"$f":"AV48*(AV11-AV44)","v":4.7355061319228424},"kW"]
["Cooling COP",null,{"$f":"C46/C56","v":6.8448777583172271},null,null,"Cooling COP",null,{"$f":"H46/H56","v":5.5071407232459455},null,null,"Cooling COP",null,{"$f":"M46/M56","v":4.550230044374505},null,null,"Cooling COP",null,{"$f":"R46/R56","v":3.8303463732739811},null,null,"Cooling COP",null,{"$f":"W46/W56","v":3.2726487352866447},null,null,"Cooling COP",null,{"$f":"AB46/AB56","v":2.826036462024637},null,null,"Cooling COP",null,{"$f":"AG46/AG56","v":2.4628444486552095},null,null,"Cooling COP",null,{"$f":"AL46/AL56","v":2.160092888869817},null,null,"Cooling COP",null,{"$f":"AQ46/AQ56","v":1.9045410898360238},null,null,"Cooling COP",null,{"$f":"AV46/AV56","v":1.6861435745216453}]
["Refrigerant mass flow",null,4.0000000000000001E-3,"kg/s",null,"Refrigerant mass flow",null,{"$f":"C48","v":4.0000000000000001E-3},"kg/s",null,"Refrigerant mass flow",null,{"$f":"H48","v":4.0000000000000001E-3},"kg/s",null,"Refrigerant mass flow",null,{"$f":"M48","v":4.0000000000000001E-3},"kg/s",null,"Refrigerant mass flow",null,{"$f":"R48","v":4.0000000000000001E-3},"kg/s",null,"Refrigerant mass flow",null,{"$f":"W48","v":4.0000000000000001E-3},"kg/s",null,"Refrigerant mass flow",null,{"$f":"AB48","v":4.0000000000000001E-3},"kg/s",null,"Refrigerant mass flow",null,{"$f":"AG48","v":4.0000000000000001E-3},"kg/s",null,"Refrigerant mass flow",null,{"$f":"AL48","v":4.0000000000000001E-3},"kg/s",null,"Refrigerant mass flow",null,{"$f":"AQ48","v":4.0000000000000001E-3},"kg/s"]
["Volume flow",null,{"$f":"C50/3600","v":2.166666666666667E-3},"m3/s",null,"Volume flow",null,{"$f":"H50/3600","v":2.166666666666667E-3},"m3/s",null,"Volume flow",null,{"$f":"M50/3600","v":2.166666666666667E-3},"m3/s",null,"Volume flow",null,{"$f":"R50/3600","v":2.166666666666667E-3},"m3/s",null,"Volume flow",null,{"$f":"W50/3600","v":2.166666666666667E-3},"m3/s",null,"Volume flow",null,{"$f":"AB50/3600","v":2.166666666666667E-3},"m3/s",null,"Volume flow",null,{"$f":"AG50/3600","v":2.166666666666667E-3},"m3/s",null,"Volume flow",null,{"$f":"AL50/3600","v":2.166666666666667E-3},"m3/s",null,"Volume flow",null,{"$f":"AQ50/3600","v":2.166666666666667E-3},"m3/s",null,"Volume flow",null,{"$f":"AV50/3600","v":2.166666666666667E-3},"m3/s"]
["Volume flow",null,{"$f":"C52*C51","v":7.8000000000000007},"m3/h",null,"Volume flow",null,{"$f":"H52*H51","v":7.8000000000000007},"m3/h",null,"Volume flow",null,{"$f":"M52*M51","v":7.8000000000000007},"m3/h",null,"Volume flow",null,{"$f":"R52*R51","v":7.8000000000000007},"m3/h",null,"Volume flow",null,{"$f":"W52*W51","v":7.8000000000000007},"m3/h",null,"Volume flow",null,{"$f":"AB52*AB51","v":7.8000000000000007},"m3/h",null,"Volume flow",null,{"$f":"AG52*AG51","v":7.8000000000000007},"m3/h",null,"Volume flow",null,{"$f":"AL52*AL51","v":7.8000000000000007},"m3/h",null,"Volume flow",null,{"$f":"AQ52*AQ51","v":7.8000000000000007},"m3/h",null,"Volume flow",null,{"$f":"AV52*AV51","v":7.8000000000000007},"m3/h"]
["Volumetric efficiency",null,0.65,null,null,"Volumetric efficiency",null,0.65,null,null,"Volumetric efficiency",null,0.65,null,null,"Volumetric efficiency",null,0.65,null,null,"Volumetric efficiency",null,0.65,null,null,"Volumetric efficiency",null,0.65,null,null,"Volumetric efficiency",null,0.65,null,null,"Volumetric efficiency",null,0.65,null,null,"Volumetric efficiency",null,0.65,null,null,"Volumetric efficiency",null,0.65]
["Cylinder volume",null,12,"m3/h",null,"Cylinder volume",null,12,"m3/h",null,"Cylinder volume",null,12,"m3/h",null,"Cylinder volume",null,12,"m3/h",null,"Cylinder volume",null,12,"m3/h",null,"Cylinder volume",null,12,"m3/h",null,"Cylinder volume",null,12,"m3/h",null,"Cylinder volume",null,12,"m3/h",null,"Cylinder volume",null,12,"m3/h",null,"Cylinder volume",null,12,"m3/h"]
[]
["Compressor effect 1. compressor",null,{"$f":"(C48*C45)*(C21-C11)","v":0.1311996655372174},"kW",null,"Compressor effect 1. compressor",null,{"$f":"(H48*H45)*(H21-H11)","v":0.27125183769054578},"kW",null,"Compressor effect 1. compressor",null,{"$f":"(M48*M45)*(M21-M11)","v":0.42044088049304812},"kW",null,"Compressor effect 1. compressor",null,{"$f":"(R48*R45)*(R21-R11)","v":0.58016297742733403},"kW",null,"Compressor effect 1. compressor",null,{"$f":"(W48*W45)*(W21-W11)","v":0.75136095096154076},"kW",null,"Compressor effect 1. compressor",null,{"$f":"(AB48*AB45)*(AB21-AB11)","v":0.93560997717175998},"kW",null,"Compressor effect 1. compressor",null,{"$f":"(AG48*AG45)*(AG21-AG11)","v":1.1331780671250828},"kW",null,"Compressor effect 1. compressor",null,{"$f":"(AL48*AL45)*(AL21-AL11)","v":1.3469357301862399},"kW",null,"Compressor effect 1. compressor",null,{"$f":"(AQ48*AQ45)*(AQ21-AQ11)","v":1.5784191381529762},"kW",null,"Compressor effect 1. compressor",null,{"$f":"(AV48*AV45)*(AV21-AV11)","v":1.8298881844184858},"kW"]
["Compressor effect 2. compressor",null,{"$f":"C48*(C38-C27)","v":0.59801064143470928},"kW",null,"Compressor effect 2. compressor",null,{"$f":"H48*(H38-H27)","v":0.63086375556613716},"kW",null,"Compressor effect 2. compressor",null,{"$f":"M48*(M38-M27)","v":0.66593610447754326},"kW",null,"Compressor effect 2. compressor",null,{"$f":"R48*(R38-R27)","v":0.70353174409303942},"kW",null,"Compressor effect 2. compressor",null,{"$f":"W48*(W38-W27)","v":0.74264947085222865},"kW",null,"Compressor effect 2. compressor",null,{"$f":"AB48*(AB38-AB27)","v":0.78430507009903527},"kW",null,"Compressor effect 2. compressor",null,{"$f":"AG48*(AG38-AG27)","v":0.82823671601606752},"kW",null,"Compressor effect 2. compressor",null,{"$f":"AL48*(AL38-AL27)","v":0.87510917823525147},"kW",null,"Compressor effect 2. compressor",null,{"$f":"AQ48*(AQ38-AQ27)","v":0.92511897120609599},"kW",null,"Compressor effect 2. compressor",null,{"$f":"AV48*(AV38-AV27)","v":0.97859515204133729},"kW"]
["Compressor effect TOTAL",null,{"$f":"C55+C54","v":0.72921030697192668},"kW",null,"Compressor effect TOTAL",null,{"$f":"H55+H54","v":0.90211559325668289},"kW",null,"Compressor effect TOTAL",null,{"$f":"M55+M54","v":1.0863769849705913},"kW",null,"Compressor effect TOTAL",null,{"$f":"R55+R54","v":1.2836947215203733},"kW",null,"Compressor effect TOTAL",null,{"$f":"W55+W54","v":1.4940104218137695},"kW",null,"Compressor effect TOTAL",null,{"$f":"AB55+AB54","v":1.7199150472707951},"kW",null,"Compressor effect TOTAL",null,{"$f":"AG55+AG54","v":1.9614147831411504},"kW",null,"Compressor effect TOTAL",null,{"$f":"AL55+AL54","v":2.2220449084214913},"kW",null,"Compressor effect TOTAL",null,{"$f":"AQ55+AQ54","v":2.5035381093590723},"kW",null,"Compressor effect TOTAL",null,{"$f":"AV55+AV54","v":2.808483336459823},"kW"]
["Over heating heat",null,{"$f":"(C48*(C38-C40))+((C48/2)*(C21-C23))","v":0.62085588610864129},"kW",null,"Over heating heat",null,{"$f":"(H48*(H38-H40))+((H48/2)*(H21-H23))","v":0.83845903341193839},"kW",null,"Over heating heat",null,{"$f":"(M48*(M38-M40))+((M48/2)*(M21-M23))","v":1.0681090724107898},"kW",null,"Over heating heat",null,{"$f":"(R48*(R38-R40))+((R48/2)*(R21-R23))","v":1.3127686894718131},"kW",null,"Over heating heat",null,{"$f":"(W48*(W38-W40))+((W48/2)*(W21-W23))","v":1.5731680491386926},"kW",null,"Over heating heat",null,{"$f":"(AB48*(AB38-AB40))+((AB48/2)*(AB21-AB23))","v":1.8532289607657826},"kW",null,"Over heating heat",null,{"$f":"(AG48*(AG38-AG40))+((AG48/2)*(AG21-AG23))","v":2.153432508735226},"kW",null,"Over heating heat",null,{"$f":"(AL48*(AL38-AL40))+((AL48/2)*(AL21-AL23))","v":2.4790513096459734},"kW",null,"Over heating heat",null,{"$f":"(AQ48*(AQ38-AQ40))+((AQ48/2)*(AQ21-AQ23))","v":2.8327381628802972},"kW",null,"Over heating heat",null,{"$f":"(AV48*(AV38-AV40))+((AV48/2)*(AV21-AV23))","v":3.2183293648982554},"kW"]
["Heating capacity",null,{"$f":"(C48*(C38-C42))","v":5.5077346231705357},"kW",null,"Heating capacity",null,{"$f":"(H48*(H38-H42))","v":5.6654665642787405},"kW",null,"Heating capacity",null,{"$f":"(M48*(M38-M42))","v":5.8314244154902664},"kW",null,"Heating capacity",null,{"$f":"(R48*(R38-R42))","v":6.0078286245957715},"kW",null,"Heating capacity",null,{"$f":"(W48*(W38-W42))","v":6.1948872113830928},"kW",null,"Heating capacity",null,{"$f":"(AB48*(AB38-AB42))","v":6.3956570262530983},"kW",null,"Heating capacity",null,{"$f":"(AG48*(AG38-AG42))","v":6.6104199558903511},"kW",null,"Heating capacity",null,{"$f":"(AL48*(AL38-AL42))","v":6.8429536640595305},"kW",null,"Heating capacity",null,{"$f":"(AQ48*(AQ38-AQ42))","v":7.0951186655451277},"kW",null,"Heating capacity",null,{"$f":"(AV48*(AV38-AV42))","v":7.3696009638842011},"kW"]
["Heating COP",null,{"$f":"C58/C56","v":7.5530125815714424},null,null,"Heating COP",null,{"$f":"H58/H56","v":6.280200238891914},null,null,"Heating COP",null,{"$f":"M58/M56","v":5.3677724180139235},null,null,"Heating COP",null,{"$f":"R58/R56","v":4.680106978612689},null,null,"Heating COP",null,{"$f":"W58/W56","v":4.1464819260513126},null,null,"Heating COP",null,{"$f":"AB58/AB56","v":3.7185889130988703},null,null,"Heating COP",null,{"$f":"AG58/AG56","v":3.3702305155995358},null,null,"Heating COP",null,{"$f":"AL58/AL56","v":3.0795748718331111},null,null,"Heating COP",null,{"$f":"AQ58/AQ56","v":2.8340366136313939},null,null,"Heating COP",null,{"$f":"AV58/AV56","v":2.6240500943024299}]
["pluss (+) 2 kW water heating",null,{"$f":"(C58+2)/(C56+2)","v":2.7508816759161396},null,null,"pluss (+) 2 kW water heating",null,{"$f":"(H58+2)/(H56+2)","v":2.6413374374508432},null,null,"pluss (+) 2 kW water heating",null,{"$f":"(M58+2)/(M56+2)","v":2.5374166712705994},null,null,"pluss (+) 2 kW water heating",null,{"$f":"(R58+2)/(R56+2)","v":2.4386641584294688},null,null,"pluss (+) 2 kW water heating",null,{"$f":"(W58+2)/(W56+2)","v":2.3454100652421812},null,null,"pluss (+) 2 kW water heating",null,{"$f":"(AB58+2)/(AB56+2)","v":2.2569485914504344},null,null,"pluss (+) 2 kW water heating",null,{"$f":"(AG58+2)/(AG56+2)","v":2.1735719249936341},null,null,"pluss (+) 2 kW water heating",null,{"$f":"(AL58+2)/(AL56+2)","v":2.0944717206633578},null,null,"pluss (+) 2 kW water heating",null,{"$f":"(AQ58+2)/(AQ56+2)","v":2.0195496173650707},null,null,"pluss (+) 2 kW water heating",null,{"$f":"(AV58+2)/(AV56+2)","v":1.9485563967416046}]
[]
[]
["Evaporator temp",null,"Effect 1. comp",null,"Comp 1. out temp",null,"Effect 2. comp",null,"Comp 2. out temp",null,"Effect condenser",null,"COP","Inter mediat temp",null,"Inter mediat cooler",null,"Tot comp effect",null,"COP + water heating"]
[15,"˚C",null,"kW",null,"˚C",null,"kW",null,"˚C",null,"kW",{"$f":"K64/(C64+G64)","v":{"$error":"#DIV/0!"}},null,"˚C",null,"˚",{"$f":"C64+G64","v":0}]
[10,"˚C",null,"kW",null,"˚C",null,"kW",null,"˚C",null,"kW",{"$error":"#DIV/0!"},null,"˚C",null,"˚",{"$f":"C65+G65","v":0}]
[5,"˚C","Not possible to calculate whitout changing intermediat pressure/temperature","kW",null,"˚C",null,"kW",null,"˚C",null,"kW",{"$error":"#VALUE!"},null,"˚C",null,"˚",{"$error":"#VALUE!"}]
[0,"˚C",{"$f":"C54","v":0.1311996655372174},"kW",{"$f":"C22","v":17.54835644876113},"˚C",{"$f":"C55","v":0.59801064143470928},"kW",{"$f":"C39","v":77.513687677429516},"˚C",{"$f":"C58","v":5.5077346231705357},"kW",7.5530125815714424,5,"˚C",10,"˚",0.72921030697192668,"kW",{"$f":"(K67+2)/((C67+G67)+2)","v":2.7508816759161396}]
[-5,"˚C",{"$f":"H54","v":0.27125183769054578},"kW",{"$f":"H22","v":29.32968325819985},"˚C",{"$f":"H55","v":0.63086375556613716},"kW",{"$f":"H39","v":93.062414955933093},"˚C",{"$f":"H58","v":5.6654665642787405},"kW",6.280200238891914,5,"˚C",10,"˚",0.90211559325668289,"kW",{"$f":"(K68+2)/((C68+G68)+2)","v":2.6413374374508432}]
[-10,"˚C",{"$f":"M54","v":0.42044088049304812},"kW",{"$f":"M22","v":42.314503780499017},"˚C",{"$f":"M55","v":0.66593610447754326},"kW",{"$f":"M39","v":109.6719665870538},"˚C",{"$f":"M58","v":5.8314244154902664},"kW",5.3677724180139235,5,"˚C",10,"˚",1.0863769849705913,"kW",2.5374166712705994]
[-15,"˚C",{"$f":"R54","v":0.58016297742733403},"kW",{"$f":"R22","v":56.56524883177309},"˚C",{"$f":"R55","v":0.70353174409303942},"kW",{"$f":"R39","v":127.49479452725571},"˚C",{"$f":"R58","v":6.0078286245957715},"kW",4.680106978612689,5,"˚C",10,"˚",1.2836947215203733,"kW",2.4386641584294688]
[-20,"˚C",{"$f":"W54","v":0.75136095096154076},"kW",{"$f":"W22","v":72.099046323283005},"˚C",{"$f":"W55","v":0.74264947085222865},"kW",{"$f":"W39","v":146.4417913226128},"˚C",{"$f":"W58","v":6.1948872113830928},"kW",4.1464819260513126,5,"˚C",10,"˚",1.4940104218137695,"kW",2.3454100652421812]
[-25,"˚C",{"$f":"AB54","v":0.93560997717175998},"kW",{"$f":"AB22","v":89.006840715808494},"˚C",{"$f":"AB55","v":0.78430507009903527},"kW",{"$f":"AB39","v":166.73035006054829},"˚C",{"$f":"AB58","v":6.3956570262530983},"kW",3.7185889130988703,5,"˚C",10,"˚",1.7199150472707951,"kW",2.2569485914504344]
[-30,"˚C",{"$f":"AG54","v":1.1331780671250828},"kW",{"$f":"AG22","v":107.2377003816281},"˚C",{"$f":"AG55","v":0.82823671601606752},"kW",{"$f":"AG39","v":188.29776393625551},"˚C",{"$f":"AG58","v":6.6104199558903511},"kW",3.3702305155995358,5,"˚C",10,"˚",1.9614147831411504,"kW",2.1735719249936341]
[-35,"˚C",{"$f":"AL54","v":1.3469357301862399},"kW",{"$f":"AL22","v":127.01520023319679},"˚C",{"$f":"AL55","v":0.87510917823525147},"kW",{"$f":"AL39","v":211.4323407260953},"˚C",{"$f":"AL58","v":6.8429536640595305},"kW",3.0795748718331111,5,"˚C",10,"˚",2.2220449084214913,"kW",2.0944717206633578]
[-40,"˚C",{"$f":"AQ54","v":1.5784191381529762},"kW",{"$f":"AQ22","v":148.40732598944649},"˚C",{"$f":"AQ55","v":0.92511897120609599},"kW",{"$f":"AQ39","v":236.2208898958537},"˚C",{"$f":"AQ58","v":7.0951186655451277},"kW",2.8340366136313939,5,"˚C",10,"˚",2.5035381093590723,"kW",2.0195496173650707]
[-45,"˚C",{"$f":"AV54","v":1.8298881844184858},"kW",{"$f":"AV22","v":171.54933666174679},"˚C",{"$f":"AV55","v":0.97859515204133729},"kW",{"$f":"AV39","v":262.82345705284291},"˚C",{"$f":"AV58","v":7.3696009638842011},"kW",2.6240500943024299,5,"˚C",10,"˚",2.808483336459823,"kW",1.9485563967416046]
[]
[]
[]
[]
[]
[]
[]
[]
[]
["Refrigerant",null,"R290",null,null,"Refrigerant",null,{"$f":"C86","v":"R290"},null,null,"Refrigerant",null,{"$f":"H86","v":"R290"},null,null,"Refrigerant",null,{"$f":"M86","v":"R290"},null,null,"Refrigerant",null,{"$f":"R86","v":"R290"},null,null,"Refrigerant",null,{"$f":"W86","v":"R290"},null,null,"Refrigerant",null,{"$f":"AB86","v":"R290"},null,null,"Refrigerant",null,{"$f":"AG86","v":"R290"},null,null,"Refrigerant",null,{"$f":"AL86","v":"R290"},null,null,"Refrigerant",null,{"$f":"AQ86","v":"R290"}]
["Two-stage Compression",null,null,null,null,"Two-stage Compression",null,null,null,null,"Two-stage Compression",null,null,null,null,"Two-stage Compression",null,null,null,null,"Two-stage Compression",null,null,null,null,"Two-stage Compression",null,null,null,null,"Two-stage Compression",null,null,null,null,"Two-stage Compression",null,null,null,null,"Two-stage Compression",null,null,null,null,"Two-stage Compression"]
["Evaporation temperature",null,0,"˚C",null,"Evaporation temperature",null,-5,"˚C",null,"Evaporation temperature",null,-10,"˚C",null,"Evaporation temperature",null,-15,"˚C",null,"Evaporation temperature",null,-20,"˚C",null,"Evaporation temperature",null,-25,"˚C",null,"Evaporation temperature",null,-30,"˚C",null,"Evaporation temperature",null,-35,"˚C",null,"Evaporation temperature",null,-40,"˚C",null,"Evaporation temperature",null,-45,"˚C"]
["Evaporation pressure",null,{"$f":"r_psatgasT(C86,C88)/100000","v":4.7365407678816895},"bar",null,"Evaporation pressure",null,{"$f":"r_psatgasT(H86,H88)/100000","v":4.0535298137043325},"bar",null,"Evaporation pressure",null,{"$f":"r_psatgasT(M86,M88)/100000","v":3.4475700679768848},"bar",null,"Evaporation pressure",null,{"$f":"r_psatgasT(R86,R88)/100000","v":2.9128360301781218},"bar",null,"Evaporation pressure",null,{"$f":"r_psatgasT(W86,W88)/100000","v":2.4436662283859851},"bar",null,"Evaporation pressure",null,{"$f":"r_psatgasT(AB86,AB88)/100000","v":2.0345711011718488},"bar",null,"Evaporation pressure",null,{"$f":"r_psatgasT(AG86,AG88)/100000","v":1.680242350704366},"bar",null,"Evaporation pressure",null,{"$f":"r_psatgasT(AL86,AL88)/100000","v":1.3755636304047159},"bar",null,"Evaporation pressure",null,{"$f":"r_psatgasT(AQ86,AQ88)/100000","v":1.1156223800690139},"bar",null,"Evaporation pressure",null,{"$f":"r_psatgasT(AV86,AV88)/100000","v":0.89572256181788867},"bar"]
["Temperature in to compressor",null,{"$f":"C88+2","v":2},"˚C",null,"Temperature in to compressor",null,{"$f":"H88+2","v":-3},"˚C",null,"Temperature in to compressor",null,{"$f":"M88+2","v":-8},"˚C",null,"Temperature in to compressor",null,{"$f":"R88+2","v":-13},"˚C",null,"Temperature in to compressor",null,{"$f":"W88+2","v":-18},"˚C",null,"Temperature in to compressor",null,{"$f":"AB88+2","v":-23},"˚C",null,"Temperature in to compressor",null,{"$f":"AG88+2","v":-28},"˚C",null,"Temperature in to compressor",null,{"$f":"AL88+2","v":-33},"˚C",null,"Temperature in to compressor",null,{"$f":"AQ88+2","v":-38},"˚C",null,"Temperature in to compressor",null,{"$f":"AV88+2","v":-43},"˚C"]
["1. Compressor",null,null,null,null,"1. Compressor",null,null,null,null,"1. Compressor",null,null,null,null,"1. Compressor",null,null,null,null,"1. Compressor",null,null,null,null,"1. Compressor",null,null,null,null,"1. Compressor",null,null,null,null,"1. Compressor",null,null,null,null,"1. Compressor",null,null,null,null,"1. Compressor"]
["Enthalpy input compressor",null,{"$f":"r_hgastp(C86,C90,C89*100000)/1000","v":580.18656379068909},"kJ/kg",null,"Enthalpy input compressor",null,{"$f":"r_hgastp(H86,H90,H89*100000)/1000","v":574.24740141990981},"kJ/kg",null,"Enthalpy input compressor",null,{"$f":"r_hgastp(M86,M90,M89*100000)/1000","v":568.2186543898207},"kJ/kg",null,"Enthalpy input compressor",null,{"$f":"r_hgastp(R86,R90,R89*100000)/1000","v":562.11402313664451},"kJ/kg",null,"Enthalpy input compressor",null,{"$f":"r_hgastp(W86,W90,W89*100000)/1000","v":555.94623205415041},"kJ/kg",null,"Enthalpy input compressor",null,{"$f":"r_hgastp(AB86,AB90,AB89*100000)/1000","v":549.72718448587136},"kJ/kg",null,"Enthalpy input compressor",null,{"$f":"r_hgastp(AG86,AG90,AG89*100000)/1000","v":543.46808703573322},"kJ/kg",null,"Enthalpy input compressor",null,{"$f":"r_hgastp(AL86,AL90,AL89*100000)/1000","v":537.17954813782887},"kJ/kg",null,"Enthalpy input compressor",null,{"$f":"r_hgastp(AQ86,AQ90,AQ89*100000)/1000","v":530.87165450284499},"kJ/kg",null,"Enthalpy input compressor",null,{"$f":"r_hgastp(AV86,AV90,AV89*100000)/1000","v":524.5540281096047},"kJ/kg"]
["Entropy",null,{"$f":"R_SgasTP(C86,C90,C89*100000)","v":2391.8155262799419},"J/kgK",null,"Entropy",null,{"$f":"R_SgasTP(H86,H90,H89*100000)","v":2396.496485573799},"J/kgK",null,"Entropy",null,{"$f":"R_SgasTP(M86,M90,M89*100000)","v":2401.8239976810978},"J/kgK",null,"Entropy",null,{"$f":"R_SgasTP(R86,R90,R89*100000)","v":2407.895570465108},"J/kgK",null,"Entropy",null,{"$f":"R_SgasTP(W86,W90,W89*100000)","v":2414.812947343974},"J/kgK",null,"Entropy",null,{"$f":"R_SgasTP(AB86,AB90,AB89*100000)","v":2422.6831750751098},"J/kgK",null,"Entropy",null,{"$f":"R_SgasTP(AG86,AG90,AG89*100000)","v":2431.61967914143},"J/kgK",null,"Entropy",null,{"$f":"R_SgasTP(AL86,AL90,AL89*100000)","v":2441.7433689307982},"J/kgK",null,"Entropy",null,{"$f":"R_SgasTP(AQ86,AQ90,AQ89*100000)","v":2453.1837930952802},"J/kgK",null,"Entropy",null,{"$f":"R_SgasTP(AV86,AV90,AV89*100000)","v":2466.0803649673908},"J/kgK"]
["Specific volume",null,{"$f":"R_vgasTP(C86,C90,C89*100000)","v":9.8093605912614942E-2},"m3/kg",null,"Specific volume",null,{"$f":"R_vgasTP(H86,H90,H89*100000)","v":0.113968928898788},"m3/kg",null,"Specific volume",null,{"$f":"R_vgasTP(M86,M90,M89*100000)","v":0.133049998915238},"m3/kg",null,"Specific volume",null,{"$f":"R_vgasTP(R86,R90,R89*100000)","v":0.15614630549376399},"m3/kg",null,"Specific volume",null,{"$f":"R_vgasTP(W86,W90,W89*100000)","v":0.18431300998457939},"m3/kg",null,"Specific volume",null,{"$f":"R_vgasTP(AB86,AB90,AB89*100000)","v":0.21893844618164021},"m3/kg",null,"Specific volume",null,{"$f":"R_vgasTP(AG86,AG90,AG89*100000)","v":0.26186753266233748},"m3/kg",null,"Specific volume",null,{"$f":"R_vgasTP(AL86,AL90,AL89*100000)","v":0.31557786356498579},"m3/kg",null,"Specific volume",null,{"$f":"R_vgasTP(AQ86,AQ90,AQ89*100000)","v":0.38343406160671872},"m3/kg",null,"Specific volume",null,{"$f":"R_vgasTP(AV86,AV90,AV89*100000)","v":0.47005997727193349},"m3/kg"]
[]
["Intermediat temperature",null,5,"˚C",null,"Intermediat temperature",null,5,"˚C",null,"Intermediat temperature",null,5,"˚C",null,"Intermediat temperature",null,5,"˚C",null,"Intermediat temperature",null,5,"˚C",null,"Intermediat temperature",null,5,"˚C",null,"Intermediat temperature",null,5,"˚C",null,"Intermediat temperature",null,5,"˚C",null,"Intermediat temperature",null,5,"˚C",null,"Intermediat temperature",null,5,"˚C"]
["Intermediat pressure",null,{"$f":"r_psatgasT(C86,C96)/100000","v":5.5025861444976254},"bar",null,"Intermediat pressure",null,{"$f":"r_psatgasT(H86,H96)/100000","v":5.5025861444976254},"bar",null,"Intermediat pressure",null,{"$f":"r_psatgasT(M86,M96)/100000","v":5.5025861444976254},"bar",null,"Intermediat pressure",null,{"$f":"r_psatgasT(R86,R96)/100000","v":5.5025861444976254},"bar",null,"Intermediat pressure",null,{"$f":"r_psatgasT(W86,W96)/100000","v":5.5025861444976254},"bar",null,"Intermediat pressure",null,{"$f":"r_psatgasT(AB86,AB96)/100000","v":5.5025861444976254},"bar",null,"Intermediat pressure",null,{"$f":"r_psatgasT(AG86,AG96)/100000","v":5.5025861444976254},"bar",null,"Intermediat pressure",null,{"$f":"r_psatgasT(AL86,AL96)/100000","v":5.5025861444976254},"bar",null,"Intermediat pressure",null,{"$f":"r_psatgasT(AQ86,AQ96)/100000","v":5.5025861444976254},"bar",null,"Intermediat pressure",null,{"$f":"r_psatgasT(AV86,AV96)/100000","v":5.5025861444976254},"bar"]
["Intermediat pressure ratio",null,{"$f":"C97/C89","v":1.1617309792434305},null,null,"Intermediat pressure ratio",null,{"$f":"H97/H89","v":1.3574801216199932},null,null,"Intermediat pressure ratio",null,{"$f":"M97/M89","v":1.596076667334182},null,null,"Intermediat pressure ratio",null,{"$f":"R97/R89","v":1.8890820106208102},null,null,"Intermediat pressure ratio",null,{"$f":"W97/W89","v":2.2517748457538014},null,null,"Intermediat pressure ratio",null,{"$f":"AB97/AB89","v":2.7045435479390765},null,null,"Intermediat pressure ratio",null,{"$f":"AG97/AG89","v":3.2748764737366094},null,null,"Intermediat pressure ratio",null,{"$f":"AL97/AL89","v":4.0002410814530363},null,null,"Intermediat pressure ratio",null,{"$f":"AQ97/AQ89","v":4.932301684515533},null,null,"Intermediat pressure ratio",null,{"$f":"AV97/AV89","v":6.1431813588908666}]
["Isentropic efficiency",null,0.7,null,null,"Isentropic efficiency",null,0.7,null,null,"Isentropic efficiency",null,0.7,null,null,"Isentropic efficiency",null,0.7,null,null,"Isentropic efficiency",null,0.7,null,null,"Isentropic efficiency",null,0.7,null,null,"Isentropic efficiency",null,0.7,null,null,"Isentropic efficiency",null,0.7,null,null,"Isentropic efficiency",null,0.7,null,null,"Isentropic efficiency",null,0.7]
[]
["Isentropic entalpy",null,{"$f":"R_hgasSP(C86,C93,C97*100000)/1000","v":587.17934670626505},"kJ/kg",null,"Isentropic entalpy",null,{"$f":"R_hgasSP(H86,H93,H97*100000)/1000","v":588.49569713338894},"kJ/kg",null,"Isentropic entalpy",null,{"$f":"R_hgasSP(M86,M93,M97*100000)/1000","v":589.99825868818834},"kJ/kg",null,"Isentropic entalpy",null,{"$f":"R_hgasSP(R86,R93,R97*100000)/1000","v":591.71638314449785},"kJ/kg",null,"Isentropic entalpy",null,{"$f":"R_hgasSP(W86,W93,W97*100000)/1000","v":593.68127735399946},"kJ/kg",null,"Isentropic entalpy",null,{"$f":"R_hgasSP(AB86,AB93,AB97*100000)/1000","v":595.92646829094531},"kJ/kg",null,"Isentropic entalpy",null,{"$f":"R_hgasSP(AG86,AG93,AG97*100000)/1000","v":598.4883086318564},"kJ/kg",null,"Isentropic entalpy",null,{"$f":"R_hgasSP(AL86,AL93,AL97*100000)/1000","v":601.40653719344152},"kJ/kg",null,"Isentropic entalpy",null,{"$f":"R_hgasSP(AQ86,AQ93,AQ97*100000)/1000","v":604.72491001659648},"kJ/kg",null,"Isentropic entalpy",null,{"$f":"R_hgasSP(AV86,AV93,AV97*100000)/1000","v":608.49192013686456},"kJ/kg"]
["Real entropy",null,{"$f":"C92+(C101-C92)/C99","v":590.17625367008327},"kJ/kg",null,"Real entropy",null,{"$f":"H92+(H101-H92)/H99","v":594.60210958202288},"kJ/kg",null,"Real entropy",null,{"$f":"M92+(M101-M92)/M99","v":599.33237481606022},"kJ/kg",null,"Real entropy",null,{"$f":"R92+(R101-R92)/R99","v":604.40310886214934},"kJ/kg",null,"Real entropy",null,{"$f":"W92+(W101-W92)/W99","v":609.85343962536331},"kJ/kg",null,"Real entropy",null,{"$f":"AB92+(AB101-AB92)/AB99","v":615.72616135026271},"kJ/kg",null,"Real entropy",null,{"$f":"AG92+(AG101-AG92)/AG99","v":622.06840360162346},"kJ/kg",null,"Real entropy",null,{"$f":"AL92+(AL101-AL92)/AL99","v":628.93238964584691},"kJ/kg",null,"Real entropy",null,{"$f":"AQ92+(AQ101-AQ92)/AQ99","v":636.37630523677569},"kJ/kg",null,"Real entropy",null,{"$f":"AV92+(AV101-AV92)/AV99","v":644.46530243426162},"kJ/kg"]
["Temperature out of compressor",null,{"$f":"R_tgasHP(C86,C102*1000,C97*100000)","v":9.4312973373587852},"˚C",null,"Temperature out of compressor",null,{"$f":"R_tgasHP(H86,H102*1000,H97*100000)","v":12.00984174687585},"˚C",null,"Temperature out of compressor",null,{"$f":"R_tgasHP(M86,M102*1000,M97*100000)","v":14.752783423562279},"˚C",null,"Temperature out of compressor",null,{"$f":"R_tgasHP(R86,R102*1000,R97*100000)","v":17.678179846543909},"˚C",null,"Temperature out of compressor",null,{"$f":"R_tgasHP(W86,W102*1000,W97*100000)","v":20.805204067960229},"˚C",null,"Temperature out of compressor",null,{"$f":"R_tgasHP(AB86,AB102*1000,AB97*100000)","v":24.154360621539581},"˚C",null,"Temperature out of compressor",null,{"$f":"R_tgasHP(AG86,AG102*1000,AG97*100000)","v":27.747969252960271},"˚C",null,"Temperature out of compressor",null,{"$f":"R_tgasHP(AL86,AL102*1000,AL97*100000)","v":31.6092057088477},"˚C",null,"Temperature out of compressor",null,{"$f":"R_tgasHP(AQ86,AQ102*1000,AQ97*100000)","v":35.764557739642953},"˚C",null,"Temperature out of compressor",null,{"$f":"R_tgasHP(AV86,AV102*1000,AV97*100000)","v":40.242290935623323},"˚C"]
["Enthalpy on the dewpoint line",null,{"$f":"R_hsatgasT(C86,C96)/1000","v":582.61626311269742},"kJ/kg",null,"Enthalpy on the dewpoint line",null,{"$f":"R_hsatgasT(H86,H96)/1000","v":582.61626311269742},"kJ/kg",null,"Enthalpy on the dewpoint line",null,{"$f":"R_hsatgasT(M86,M96)/1000","v":582.61626311269742},"kJ/kg",null,"Enthalpy on the dewpoint line",null,{"$f":"R_hsatgasT(R86,R96)/1000","v":582.61626311269742},"kJ/kg",null,"Enthalpy on the dewpoint line",null,{"$f":"R_hsatgasT(W86,W96)/1000","v":582.61626311269742},"kJ/kg",null,"Enthalpy on the dewpoint line",null,{"$f":"R_hsatgasT(AB86,AB96)/1000","v":582.61626311269742},"kJ/kg",null,"Enthalpy on the dewpoint line",null,{"$f":"R_hsatgasT(AG86,AG96)/1000","v":582.61626311269742},"kJ/kg",null,"Enthalpy on the dewpoint line",null,{"$f":"R_hsatgasT(AL86,AL96)/1000","v":582.61626311269742},"kJ/kg",null,"Enthalpy on the dewpoint line",null,{"$f":"R_hsatgasT(AQ86,AQ96)/1000","v":582.61626311269742},"kJ/kg",null,"Enthalpy on the dewpoint line",null,{"$f":"R_hsatgasT(AV86,AV96)/1000","v":582.61626311269742},"kJ/kg"]
["2. Compressor",null,null,null,null,"2. Compressor",null,null,null,null,"2. Compressor",null,null,null,null,"2. Compressor",null,null,null,null,"2. Compressor",null,null,null,null,"2. Compressor",null,null,null,null,"2. Compressor",null,null,null,null,"2. Compressor",null,null,null,null,"2. Compressor",null,null,null,null,"2. Compressor"]
["Intermediat cooling",null,10,"K",null,"Intermediat cooling",null,10,"K",null,"Intermediat cooling",null,10,"K",null,"Intermediat cooling",null,10,"K",null,"Intermediat cooling",null,10,"K",null,"Intermediat cooling",null,10,"K",null,"Intermediat cooling",null,10,"K",null,"Intermediat cooling",null,10,"K",null,"Intermediat cooling",null,10,"K",null,"Intermediat cooling",null,10,"K"]
["Temperature in to compressor",null,{"$f":"C103-C106","v":-0.56870266264121483},"˚C",null,"Temperature in to compressor",null,{"$f":"H103-H106","v":2.0098417468758498},"˚C",null,"Temperature in to compressor",null,{"$f":"M103-M106","v":4.7527834235622795},"˚C",null,"Temperature in to compressor",null,{"$f":"R103-R106","v":7.6781798465439088},"˚C",null,"Temperature in to compressor",null,{"$f":"W103-W106","v":10.805204067960229},"˚C",null,"Temperature in to compressor",null,{"$f":"AB103-AB106","v":14.154360621539581},"˚C",null,"Temperature in to compressor",null,{"$f":"AG103-AG106","v":17.747969252960271},"˚C",null,"Temperature in to compressor",null,{"$f":"AL103-AL106","v":21.6092057088477},"˚C",null,"Temperature in to compressor",null,{"$f":"AQ103-AQ106","v":25.764557739642953},"˚C",null,"Temperature in to compressor",null,{"$f":"AV103-AV106","v":30.242290935623323},"˚C"]
["Enthalpy input compressor",null,{"$f":"r_hgastp(C86,C107,C97*100000)/1000","v":573.19469953069597},"kJ/kg",null,"Enthalpy input compressor",null,{"$f":"r_hgastp(H86,H107,H97*100000)/1000","v":577.54666602530085},"kJ/kg",null,"Enthalpy input compressor",null,{"$f":"r_hgastp(M86,M107,M97*100000)/1000","v":582.19617161459917},"kJ/kg",null,"Enthalpy input compressor",null,{"$f":"r_hgastp(R86,R107,R97*100000)/1000","v":587.17850583567986},"kJ/kg",null,"Enthalpy input compressor",null,{"$f":"r_hgastp(W86,W107,W97*100000)/1000","v":592.53195661793825},"kJ/kg",null,"Enthalpy input compressor",null,{"$f":"r_hgastp(AB86,AB107,AB97*100000)/1000","v":598.29840069562931},"kJ/kg",null,"Enthalpy input compressor",null,{"$f":"r_hgastp(AG86,AG107,AG97*100000)/1000","v":604.5244084430451},"kJ/kg",null,"Enthalpy input compressor",null,{"$f":"r_hgastp(AL86,AL107,AL97*100000)/1000","v":611.25990080056238},"kJ/kg",null,"Enthalpy input compressor",null,{"$f":"r_hgastp(AQ86,AQ107,AQ97*100000)/1000","v":618.56280920241602},"kJ/kg",null,"Enthalpy input compressor",null,{"$f":"r_hgastp(AV86,AV107,AV97*100000)/1000","v":626.49690144406145},"kJ/kg"]
["Entropy",null,{"$f":"R_SgasTP(C86,C107,C97*100000)","v":2341.2735758163012},"J/kgK",null,"Entropy",null,{"$f":"R_SgasTP(H86,H107,H97*100000)","v":2357.1642373907198},"J/kgK",null,"Entropy",null,{"$f":"R_SgasTP(M86,M107,M97*100000)","v":2373.977980051588},"J/kgK",null,"Entropy",null,{"$f":"R_SgasTP(R86,R107,R97*100000)","v":2391.812532050722},"J/kgK",null,"Entropy",null,{"$f":"R_SgasTP(W86,W107,W97*100000)","v":2410.7701672203661},"J/kgK",null,"Entropy",null,{"$f":"R_SgasTP(AB86,AB107,AB97*100000)","v":2430.9588064765298},"J/kgK",null,"Entropy",null,{"$f":"R_SgasTP(AG86,AG107,AG97*100000)","v":2452.4946792079681},"J/kgK",null,"Entropy",null,{"$f":"R_SgasTP(AL86,AL107,AL97*100000)","v":2475.4963171516538},"J/kgK",null,"Entropy",null,{"$f":"R_SgasTP(AQ86,AQ107,AQ97*100000)","v":2500.098924118879},"J/kgK",null,"Entropy",null,{"$f":"R_SgasTP(AV86,AV107,AV97*100000)","v":2526.4448122673939},"J/kgK"]
["Specific volume",null,{"$f":"R_vgasTP(C86,C107,C97*100000)","v":8.1559632813679256E-2},"m3/kg",null,"Specific volume",null,{"$f":"R_vgasTP(H86,H107,H97*100000)","v":8.2669536134313659E-2},"m3/kg",null,"Specific volume",null,{"$f":"R_vgasTP(M86,M107,M97*100000)","v":8.3842352337201609E-2},"m3/kg",null,"Specific volume",null,{"$f":"R_vgasTP(R86,R107,R97*100000)","v":8.5084764070488733E-2},"m3/kg",null,"Specific volume",null,{"$f":"R_vgasTP(W86,W107,W97*100000)","v":8.6403756352219002E-2},"m3/kg",null,"Specific volume",null,{"$f":"R_vgasTP(AB86,AB107,AB97*100000)","v":8.7806695787510117E-2},"m3/kg",null,"Specific volume",null,{"$f":"R_vgasTP(AG86,AG107,AG97*100000)","v":8.9301518276953512E-2},"m3/kg",null,"Specific volume",null,{"$f":"R_vgasTP(AL86,AL107,AL97*100000)","v":9.0896315848439782E-2},"m3/kg",null,"Specific volume",null,{"$f":"R_vgasTP(AQ86,AQ107,AQ97*100000)","v":9.2600337815312891E-2},"m3/kg",null,"Specific volume",null,{"$f":"R_vgasTP(AV86,AV107,AV97*100000)","v":9.4423331954408496E-2},"m3/kg"]
[]
["Condensating temperature",null,28,"˚C",null,"Condensating temperature",null,28,"˚C",null,"Condensating temperature",null,28,"˚C",null,"Condensating temperature",null,28,"˚C",null,"Condensating temperature",null,28,"˚C",null,"Condensating temperature",null,28,"˚C",null,"Condensating temperature",null,28,"˚C",null,"Condensating temperature",null,28,"˚C",null,"Condensating temperature",null,28,"˚C",null,"Condensating temperature",null,28,"˚C"]
["Condensating pressure",null,{"$f":"r_psatgasT(C86,C112)/100000","v":10.273569009704531},"bar",null,"Condensating pressure",null,{"$f":"r_psatgasT(H86,H112)/100000","v":10.273569009704531},"bar",null,"Condensating pressure",null,{"$f":"r_psatgasT(M86,M112)/100000","v":10.273569009704531},"bar",null,"Condensating pressure",null,{"$f":"r_psatgasT(R86,R112)/100000","v":10.273569009704531},"bar",null,"Condensating pressure",null,{"$f":"r_psatgasT(W86,W112)/100000","v":10.273569009704531},"bar",null,"Condensating pressure",null,{"$f":"r_psatgasT(AB86,AB112)/100000","v":10.273569009704531},"bar",null,"Condensating pressure",null,{"$f":"r_psatgasT(AG86,AG112)/100000","v":10.273569009704531},"bar",null,"Condensating pressure",null,{"$f":"r_psatgasT(AL86,AL112)/100000","v":10.273569009704531},"bar",null,"Condensating pressure",null,{"$f":"r_psatgasT(AQ86,AQ112)/100000","v":10.273569009704531},"bar",null,"Condensating pressure",null,{"$f":"r_psatgasT(AV86,AV112)/100000","v":10.273569009704531},"bar"]
["Pressure ration",null,{"$f":"C113/C97","v":1.8670437390567169},null,null,"Pressure ration",null,{"$f":"H113/H97","v":1.8670437390567169},null,null,"Pressure ration",null,{"$f":"M113/M97","v":1.8670437390567169},null,null,"Pressure ration",null,{"$f":"R113/R97","v":1.8670437390567169},null,null,"Pressure ration",null,{"$f":"W113/W97","v":1.8670437390567169},null,null,"Pressure ration",null,{"$f":"AB113/AB97","v":1.8670437390567169},null,null,"Pressure ration",null,{"$f":"AG113/AG97","v":1.8670437390567169},null,null,"Pressure ration",null,{"$f":"AL113/AL97","v":1.8670437390567169},null,null,"Pressure ration",null,{"$f":"AQ113/AQ97","v":1.8670437390567169},null,null,"Pressure ration",null,{"$f":"AV113/AV97","v":1.8670437390567169}]
["Pressure ration TOTAL",null,{"$f":"C113/C89","v":2.1690025512646756},null,null,"Pressure ration TOTAL",null,{"$f":"H113/H89","v":2.5344747619645589},null,null,"Pressure ration TOTAL",null,{"$f":"M113/M89","v":2.979944948800795},null,null,"Pressure ration TOTAL",null,{"$f":"R113/R89","v":3.5269987404942582},null,null,"Pressure ration TOTAL",null,{"$f":"W113/W89","v":4.2041621275300392},null,null,"Pressure ration TOTAL",null,{"$f":"AB113/AB89","v":5.0495010981858925},null,null,"Pressure ration TOTAL",null,{"$f":"AG113/AG89","v":6.1143376164740753},null,null,"Pressure ration TOTAL",null,{"$f":"AL113/AL89","v":7.4686250658443623},null,null,"Pressure ration TOTAL",null,{"$f":"AQ113/AQ89","v":9.2088229792136236},null,null,"Pressure ration TOTAL",null,{"$f":"AV113/AV89","v":11.469588294007126}]
["Isentropic efficiency",null,0.7,null,null,"Isentropic efficiency",null,0.7,null,null,"Isentropic efficiency",null,0.7,null,null,"Isentropic efficiency",null,0.7,null,null,"Isentropic efficiency",null,0.7,null,null,"Isentropic efficiency",null,0.7,null,null,"Isentropic efficiency",null,0.7,null,null,"Isentropic efficiency",null,0.7,null,null,"Isentropic efficiency",null,0.7,null,null,"Isentropic efficiency",null,0.7]
[]
["Isentropic entalpy",null,{"$f":"R_hgasSP(C86,C109,C113*100000)/1000","v":601.41020870512511},"kJ/kg",null,"Isentropic entalpy",null,{"$f":"R_hgasSP(H86,H109,H113*100000)/1000","v":606.16718899799457},"kJ/kg",null,"Isentropic entalpy",null,{"$f":"R_hgasSP(M86,M109,M113*100000)/1000","v":611.24393727436211},"kJ/kg",null,"Isentropic entalpy",null,{"$f":"R_hgasSP(R86,R109,R113*100000)/1000","v":616.67809087431431},"kJ/kg",null,"Isentropic entalpy",null,{"$f":"R_hgasSP(W86,W109,W113*100000)/1000","v":622.51038146729343},"kJ/kg",null,"Isentropic entalpy",null,{"$f":"R_hgasSP(AB86,AB109,AB113*100000)/1000","v":628.78525351575183},"kJ/kg",null,"Isentropic entalpy",null,{"$f":"R_hgasSP(AG86,AG109,AG113*100000)/1000","v":635.55203615717141},"kJ/kg",null,"Isentropic entalpy",null,{"$f":"R_hgasSP(AL86,AL109,AL113*100000)/1000","v":642.86344975726763},"kJ/kg",null,"Isentropic entalpy",null,{"$f":"R_hgasSP(AQ86,AQ109,AQ113*100000)/1000","v":650.78062657264957},"kJ/kg",null,"Isentropic entalpy",null,{"$f":"R_hgasSP(AV86,AV109,AV113*100000)/1000","v":659.37069684345875},"kJ/kg"]
["Real entropy",null,{"$f":"C108+(C118-C108)/C116","v":613.50256977988045},"kJ/kg",null,"Real entropy",null,{"$f":"H108+(H118-H108)/H116","v":618.43312741486329},"kJ/kg",null,"Real entropy",null,{"$f":"M108+(M118-M108)/M116","v":623.69297969997479},"kJ/kg",null,"Real entropy",null,{"$f":"R108+(R118-R108)/R116","v":629.32077017658617},"kJ/kg",null,"Real entropy",null,{"$f":"W108+(W118-W108)/W116","v":635.35827783130276},"kJ/kg",null,"Real entropy",null,{"$f":"AB108+(AB118-AB108)/AB116","v":641.85104758151863},"kJ/kg",null,"Real entropy",null,{"$f":"AG108+(AG118-AG108)/AG116","v":648.84959089179699},"kJ/kg",null,"Real entropy",null,{"$f":"AL108+(AL118-AL108)/AL116","v":656.40782788156992},"kJ/kg",null,"Real entropy",null,{"$f":"AQ108+(AQ118-AQ108)/AQ116","v":664.58826258846398},"kJ/kg",null,"Real entropy",null,{"$f":"AV108+(AV118-AV108)/AV116","v":673.45946630034325},"kJ/kg"]
["Temperature out of compressor",null,{"$f":"R_tgasHP(C86,C119*1000,C113*100000)","v":31.310094947644931},"˚C",null,"Temperature out of compressor",null,{"$f":"R_tgasHP(H86,H119*1000,H113*100000)","v":33.89370892042399},"˚C",null,"Temperature out of compressor",null,{"$f":"R_tgasHP(M86,M119*1000,M113*100000)","v":36.644519611046967},"˚C",null,"Temperature out of compressor",null,{"$f":"R_tgasHP(R86,R119*1000,R113*100000)","v":39.580770995265603},"˚C",null,"Temperature out of compressor",null,{"$f":"R_tgasHP(W86,W119*1000,W113*100000)","v":42.721839665562918},"˚C",null,"Temperature out of compressor",null,{"$f":"R_tgasHP(AB86,AB119*1000,AB113*100000)","v":46.088447251538639},"˚C",null,"Temperature out of compressor",null,{"$f":"R_tgasHP(AG86,AG119*1000,AG113*100000)","v":49.703142663970603},"˚C",null,"Temperature out of compressor",null,{"$f":"R_tgasHP(AL86,AL119*1000,AL113*100000)","v":53.589332850363689},"˚C",null,"Temperature out of compressor",null,{"$f":"R_tgasHP(AQ86,AQ119*1000,AQ113*100000)","v":57.773749945613133},"˚C",null,"Temperature out of compressor",null,{"$f":"R_tgasHP(AV86,AV119*1000,AV113*100000)","v":62.284904682873098},"˚C"]
["Enthalpy on the dewpoint line",null,{"$f":"R_hsatgasT(C86,C112)/1000","v":607.19680446671089},"kJ/kg",null,"Enthalpy on the dewpoint line",null,{"$f":"R_hsatgasT(H86,H112)/1000","v":607.19680446671089},"kJ/kg",null,"Enthalpy on the dewpoint line",null,{"$f":"R_hsatgasT(M86,M112)/1000","v":607.19680446671089},"kJ/kg",null,"Enthalpy on the dewpoint line",null,{"$f":"R_hsatgasT(R86,R112)/1000","v":607.19680446671089},"kJ/kg",null,"Enthalpy on the dewpoint line",null,{"$f":"R_hsatgasT(W86,W112)/1000","v":607.19680446671089},"kJ/kg",null,"Enthalpy on the dewpoint line",null,{"$f":"R_hsatgasT(AB86,AB112)/1000","v":607.19680446671089},"kJ/kg",null,"Enthalpy on the dewpoint line",null,{"$f":"R_hsatgasT(AG86,AG112)/1000","v":607.19680446671089},"kJ/kg",null,"Enthalpy on the dewpoint line",null,{"$f":"R_hsatgasT(AL86,AL112)/1000","v":607.19680446671089},"kJ/kg",null,"Enthalpy on the dewpoint line",null,{"$f":"R_hsatgasT(AQ86,AQ112)/1000","v":607.19680446671089},"kJ/kg",null,"Enthalpy on the dewpoint line",null,{"$f":"R_hsatgasT(AV86,AV112)/1000","v":607.19680446671089},"kJ/kg"]
["Subcooling of condenser",null,18,"K",null,"Subcooling of condenser",null,18,"K",null,"Subcooling of condenser",null,18,"K",null,"Subcooling of condenser",null,18,"K",null,"Subcooling of condenser",null,18,"K",null,"Subcooling of condenser",null,18,"K",null,"Subcooling of condenser",null,18,"K",null,"Subcooling of condenser",null,18,"K",null,"Subcooling of condenser",null,18,"K",null,"Subcooling of condenser",null,18,"K"]
["Enthalpy out of the condenser",null,{"$f":"R_hsatliqT(C86,C112-C122)/1000","v":225.69125737335608},"kJ/kg",null,"Enthalpy out of the condenser",null,{"$f":"R_hsatliqT(H86,H112-H122)/1000","v":225.69125737335608},"kJ/kg",null,"Enthalpy out of the condenser",null,{"$f":"R_hsatliqT(M86,M112-M122)/1000","v":225.69125737335608},"kJ/kg",null,"Enthalpy out of the condenser",null,{"$f":"R_hsatliqT(R86,R112-R122)/1000","v":225.69125737335608},"kJ/kg",null,"Enthalpy out of the condenser",null,{"$f":"R_hsatliqT(W86,W112-W122)/1000","v":225.69125737335608},"kJ/kg",null,"Enthalpy out of the condenser",null,{"$f":"R_hsatliqT(AB86,AB112-AB122)/1000","v":225.69125737335608},"kJ/kg",null,"Enthalpy out of the condenser",null,{"$f":"R_hsatliqT(AG86,AG112-AG122)/1000","v":225.69125737335608},"kJ/kg",null,"Enthalpy out of the condenser",null,{"$f":"R_hsatliqT(AL86,AL112-AL122)/1000","v":225.69125737335608},"kJ/kg",null,"Enthalpy out of the condenser",null,{"$f":"R_hsatliqT(AQ86,AQ112-AQ122)/1000","v":225.69125737335608},"kJ/kg",null,"Enthalpy out of the condenser",null,{"$f":"R_hsatliqT(AV86,AV112-AV122)/1000","v":225.69125737335608},"kJ/kg"]
[]
["Enthalpy in to evaporator",null,{"$f":"R_HsatliqP(C86,C96*100000)/1000","v":204.50694346106201},"kJ/kg",null,"Enthalpy in to evaporator",null,{"$f":"R_HsatliqP(H86,H96*100000)/1000","v":204.50694346106201},"kJ/kg",null,"Enthalpy in to evaporator",null,{"$f":"R_HsatliqP(M86,M96*100000)/1000","v":204.50694346106201},"kJ/kg",null,"Enthalpy in to evaporator",null,{"$f":"R_HsatliqP(R86,R96*100000)/1000","v":204.50694346106201},"kJ/kg",null,"Enthalpy in to evaporator",null,{"$f":"R_HsatliqP(W86,W96*100000)/1000","v":204.50694346106201},"kJ/kg",null,"Enthalpy in to evaporator",null,{"$f":"R_HsatliqP(AB86,AB96*100000)/1000","v":204.50694346106201},"kJ/kg",null,"Enthalpy in to evaporator",null,{"$f":"R_HsatliqP(AG86,AG96*100000)/1000","v":204.50694346106201},"kJ/kg",null,"Enthalpy in to evaporator",null,{"$f":"R_HsatliqP(AL86,AL96*100000)/1000","v":204.50694346106201},"kJ/kg",null,"Enthalpy in to evaporator",null,{"$f":"R_HsatliqP(AQ86,AQ96*100000)/1000","v":204.50694346106201},"kJ/kg",null,"Enthalpy in to evaporator",null,{"$f":"R_HsatliqP(AV86,AV96*100000)/1000","v":204.50694346106201},"kJ/kg"]
["Moist vapor - xf",null,{"$f":"(C108-C123)/(C108-C125)","v":0.94254131425972021},null,null,"Moist vapor - xf",null,{"$f":"(H108-H123)/(H108-H125)","v":0.94321164039401717},null,null,"Moist vapor - xf",null,{"$f":"(M108-M123)/(M108-M125)","v":0.94391072783340735},null,null,"Moist vapor - xf",null,{"$f":"(R108-R123)/(R108-R125)","v":0.94464100289857555},null,null,"Moist vapor - xf",null,{"$f":"(W108-W123)/(W108-W125)","v":0.94540477238839926},null,null,"Moist vapor - xf",null,{"$f":"(AB108-AB123)/(AB108-AB125)","v":0.94620423190217828},null,null,"Moist vapor - xf",null,{"$f":"(AG108-AG123)/(AG108-AG125)","v":0.94704152751618431},null,null,"Moist vapor - xf",null,{"$f":"(AL108-AL123)/(AL108-AL125)","v":0.94791847599374102},null,null,"Moist vapor - xf",null,{"$f":"(AQ108-AQ123)/(AQ108-AQ125)","v":0.94883706363061859},null,null,"Moist vapor - xf",null,{"$f":"(AV108-AV123)/(AV108-AV125)","v":0.94979900940404016}]
["Cooling capacity",null,{"$f":"C129*(C92-C125)","v":6.0108739252740335},"kW",null,"Cooling capacity",null,{"$f":"H129*(H92-H125)","v":5.9158473273415648},"kW",null,"Cooling capacity",null,{"$f":"M129*(M92-M125)","v":5.8193873748601392},"kW",null,"Cooling capacity",null,{"$f":"R129*(R92-R125)","v":5.7217132748093205},"kW",null,"Cooling capacity",null,{"$f":"W129*(W92-W125)","v":5.6230286174894148},"kW",null,"Cooling capacity",null,{"$f":"AB129*(AB92-AB125)","v":5.5235238563969498},"kW",null,"Cooling capacity",null,{"$f":"AG129*(AG92-AG125)","v":5.4233782971947395},"kW",null,"Cooling capacity",null,{"$f":"AL129*(AL92-AL125)","v":5.3227616748282696},"kW",null,"Cooling capacity",null,{"$f":"AQ129*(AQ92-AQ125)","v":5.2218353766685279},"kW",null,"Cooling capacity",null,{"$f":"AV129*(AV92-AV125)","v":5.1207533543766832},"kW"]
["Cooling COP",null,{"$f":"C127/C137","v":7.5553636432437941},null,null,"Cooling COP",null,{"$f":"H127/H137","v":6.1535968008315844},null,null,"Cooling COP",null,{"$f":"M127/M137","v":5.1324313465153253},null,null,"Cooling COP",null,{"$f":"R127/R137","v":4.3562664049250177},null,null,"Cooling COP",null,{"$f":"W127/W137","v":3.7470689090468414},null,null,"Cooling COP",null,{"$f":"AB127/AB137","v":3.2567591451363245},null,null,"Cooling COP",null,{"$f":"AG127/AG137","v":2.8540984717789901},null,null,"Cooling COP",null,{"$f":"AL127/AL137","v":2.5179171540401004},null,null,"Cooling COP",null,{"$f":"AQ127/AQ137","v":2.2333528392520354},null,null,"Cooling COP",null,{"$f":"AV127/AV137","v":1.9896722344333475}]
["Refrigerant mass flow",null,1.6E-2,"kg/s",null,"Refrigerant mass flow",null,{"$f":"C129","v":1.6E-2},"kg/s",null,"Refrigerant mass flow",null,{"$f":"H129","v":1.6E-2},"kg/s",null,"Refrigerant mass flow",null,{"$f":"M129","v":1.6E-2},"kg/s",null,"Refrigerant mass flow",null,{"$f":"R129","v":1.6E-2},"kg/s",null,"Refrigerant mass flow",null,{"$f":"W129","v":1.6E-2},"kg/s",null,"Refrigerant mass flow",null,{"$f":"AB129","v":1.6E-2},"kg/s",null,"Refrigerant mass flow",null,{"$f":"AG129","v":1.6E-2},"kg/s",null,"Refrigerant mass flow",null,{"$f":"AL129","v":1.6E-2},"kg/s",null,"Refrigerant mass flow",null,{"$f":"AQ129","v":1.6E-2},"kg/s"]
["Volume flow",null,{"$f":"C131/3600","v":2.166666666666667E-3},"m3/s",null,"Volume flow",null,{"$f":"H131/3600","v":2.166666666666667E-3},"m3/s",null,"Volume flow",null,{"$f":"M131/3600","v":2.166666666666667E-3},"m3/s",null,"Volume flow",null,{"$f":"R131/3600","v":2.166666666666667E-3},"m3/s",null,"Volume flow",null,{"$f":"W131/3600","v":2.166666666666667E-3},"m3/s",null,"Volume flow",null,{"$f":"AB131/3600","v":2.166666666666667E-3},"m3/s",null,"Volume flow",null,{"$f":"AG131/3600","v":2.166666666666667E-3},"m3/s",null,"Volume flow",null,{"$f":"AL131/3600","v":2.166666666666667E-3},"m3/s",null,"Volume flow",null,{"$f":"AQ131/3600","v":2.166666666666667E-3},"m3/s",null,"Volume flow",null,{"$f":"AV131/3600","v":2.166666666666667E-3},"m3/s"]
["Volume flow",null,{"$f":"C133*C132","v":7.8000000000000007},"m3/h",null,"Volume flow",null,{"$f":"H133*H132","v":7.8000000000000007},"m3/h",null,"Volume flow",null,{"$f":"M133*M132","v":7.8000000000000007},"m3/h",null,"Volume flow",null,{"$f":"R133*R132","v":7.8000000000000007},"m3/h",null,"Volume flow",null,{"$f":"W133*W132","v":7.8000000000000007},"m3/h",null,"Volume flow",null,{"$f":"AB133*AB132","v":7.8000000000000007},"m3/h",null,"Volume flow",null,{"$f":"AG133*AG132","v":7.8000000000000007},"m3/h",null,"Volume flow",null,{"$f":"AL133*AL132","v":7.8000000000000007},"m3/h",null,"Volume flow",null,{"$f":"AQ133*AQ132","v":7.8000000000000007},"m3/h",null,"Volume flow",null,{"$f":"AV133*AV132","v":7.8000000000000007},"m3/h"]
["Volumetric efficiency",null,0.65,null,null,"Volumetric efficiency",null,0.65,null,null,"Volumetric efficiency",null,0.65,null,null,"Volumetric efficiency",null,0.65,null,null,"Volumetric efficiency",null,0.65,null,null,"Volumetric efficiency",null,0.65,null,null,"Volumetric efficiency",null,0.65,null,null,"Volumetric efficiency",null,0.65,null,null,"Volumetric efficiency",null,0.65,null,null,"Volumetric efficiency",null,0.65]
["Cylinder volume",null,12,"m3/h",null,"Cylinder volume",null,12,"m3/h",null,"Cylinder volume",null,12,"m3/h",null,"Cylinder volume",null,12,"m3/h",null,"Cylinder volume",null,12,"m3/h",null,"Cylinder volume",null,12,"m3/h",null,"Cylinder volume",null,12,"m3/h",null,"Cylinder volume",null,12,"m3/h",null,"Cylinder volume",null,12,"m3/h",null,"Cylinder volume",null,12,"m3/h"]
[]
["Compressor effect 1. compressor",null,{"$f":"(C129*C126)*(C102-C92)","v":0.15065112684753942},"kW",null,"Compressor effect 1. compressor",null,{"$f":"(H129*H126)*(H102-H92)","v":0.30718076280525058},"kW",null,"Compressor effect 1. compressor",null,{"$f":"(M129*M126)*(M102-M92)","v":0.46989719189019041},"kW",null,"Compressor effect 1. compressor",null,{"$f":"(R129*R126)*(R102-R92)","v":0.63916806962247552},"kW",null,"Compressor effect 1. compressor",null,{"$f":"(W129*W126)*(W102-W92)","v":0.81542610086330747},"kW",null,"Compressor effect 1. compressor",null,{"$f":"(AB129*AB126)*(AB102-AB92)","v":0.99917617936481695},"kW",null,"Compressor effect 1. compressor",null,{"$f":"(AG129*AG126)*(AG102-AG92)","v":1.1910042218210615},"kW",null,"Compressor effect 1. compressor",null,{"$f":"(AL129*AL126)*(AL102-AL92)","v":1.3915874190460116},"kW",null,"Compressor effect 1. compressor",null,{"$f":"(AQ129*AQ126)*(AQ102-AQ92)","v":1.6017075680281088},"kW",null,"Compressor effect 1. compressor",null,{"$f":"(AV129*AV126)*(AV102-AV92)","v":1.8222657531189639},"kW"]
["Compressor effect 2. compressor",null,{"$f":"C129*(C119-C108)","v":0.64492592398695159},"kW",null,"Compressor effect 2. compressor",null,{"$f":"H129*(H119-H108)","v":0.6541833822329991},"kW",null,"Compressor effect 2. compressor",null,{"$f":"M129*(M119-M108)","v":0.66394892936600991},"kW",null,"Compressor effect 2. compressor",null,{"$f":"R129*(R119-R108)","v":0.67427622945450094},"kW",null,"Compressor effect 2. compressor",null,{"$f":"W129*(W119-W108)","v":0.68522113941383211},"kW",null,"Compressor effect 2. compressor",null,{"$f":"AB129*(AB119-AB108)","v":0.69684235017422913},"kW",null,"Compressor effect 2. compressor",null,{"$f":"AG129*(AG119-AG108)","v":0.7092029191800302},"kW",null,"Compressor effect 2. compressor",null,{"$f":"AL129*(AL119-AL108)","v":0.72236683329612061},"kW",null,"Compressor effect 2. compressor",null,{"$f":"AQ129*(AQ119-AQ108)","v":0.73640725417676733},"kW",null,"Compressor effect 2. compressor",null,{"$f":"AV129*(AV119-AV108)","v":0.75140103770050881},"kW"]
["Compressor effect TOTAL",null,{"$f":"C136+C135","v":0.79557705083449104},"kW",null,"Compressor effect TOTAL",null,{"$f":"H136+H135","v":0.96136414503824974},"kW",null,"Compressor effect TOTAL",null,{"$f":"M136+M135","v":1.1338461212562003},"kW",null,"Compressor effect TOTAL",null,{"$f":"R136+R135","v":1.3134442990769766},"kW",null,"Compressor effect TOTAL",null,{"$f":"W136+W135","v":1.5006472402771396},"kW",null,"Compressor effect TOTAL",null,{"$f":"AB136+AB135","v":1.696018529539046},"kW",null,"Compressor effect TOTAL",null,{"$f":"AG136+AG135","v":1.9002071410010917},"kW",null,"Compressor effect TOTAL",null,{"$f":"AL136+AL135","v":2.1139542523421322},"kW",null,"Compressor effect TOTAL",null,{"$f":"AQ136+AQ135","v":2.3381148222048762},"kW",null,"Compressor effect TOTAL",null,{"$f":"AV136+AV135","v":2.5736667908194728},"kW"]
["Over heating heat",null,{"$f":"(C129*(C119-C121))+((C129/2)*(C102-C104))","v":0.16137216946979971},"kW",null,"Over heating heat",null,{"$f":"(H129*(H119-H121))+((H129/2)*(H102-H104))","v":0.2756679389250421},"kW",null,"Over heating heat",null,{"$f":"(M129*(M119-M121))+((M129/2)*(M102-M104))","v":0.39766769735912477},"kW",null,"Over heating heat",null,{"$f":"(R129*(R119-R121))+((R129/2)*(R102-R104))","v":0.52827821735361979},"kW",null,"Over heating heat",null,{"$f":"(W129*(W119-W121))+((W129/2)*(W102-W104))","v":0.66848098593479699},"kW",null,"Over heating heat",null,{"$f":"(AB129*(AB119-AB121))+((AB129/2)*(AB102-AB104))","v":0.81934707573744614},"kW",null,"Over heating heat",null,{"$f":"(AG129*(AG119-AG121))+((AG129/2)*(AG102-AG104))","v":0.98206170671278603},"kW",null,"Over heating heat",null,{"$f":"(AL129*(AL119-AL121))+((AL129/2)*(AL102-AL104))","v":1.1579053869029403},"kW",null,"Over heating heat",null,{"$f":"(AQ129*(AQ119-AQ121))+((AQ129/2)*(AQ102-AQ104))","v":1.3483436669406756},"kW",null,"Over heating heat",null,{"$f":"(AV129*(AV119-AV121))+((AV129/2)*(AV102-AV104))","v":1.5549949039106314},"kW"]
["Heating capacity",null,{"$f":"(C129*(C119-C123))","v":6.2049809985043902},"kW",null,"Heating capacity",null,{"$f":"(H129*(H119-H123))","v":6.2838699206641158},"kW",null,"Heating capacity",null,{"$f":"(M129*(M119-M123))","v":6.3680275572258997},"kW",null,"Heating capacity",null,{"$f":"(R129*(R119-R123))","v":6.4580722048516819},"kW",null,"Heating capacity",null,{"$f":"(W129*(W119-W123))","v":6.5546723273271477},"kW",null,"Heating capacity",null,{"$f":"(AB129*(AB119-AB123))","v":6.6585566433306012},"kW",null,"Heating capacity",null,{"$f":"(AG129*(AG119-AG123))","v":6.7705333362950553},"kW",null,"Heating capacity",null,{"$f":"(AL129*(AL119-AL123))","v":6.8914651281314221},"kW",null,"Heating capacity",null,{"$f":"(AQ129*(AQ119-AQ123))","v":7.022352083441727},"kW",null,"Heating capacity",null,{"$f":"(AV129*(AV119-AV123))","v":7.1642913428317954},"kW"]
["Heating COP",null,{"$f":"C139/C137","v":7.7993463888832713},null,null,"Heating COP",null,{"$f":"H139/H137","v":6.5364096977156345},null,null,"Heating COP",null,{"$f":"M139/M137","v":5.6163066908679751},null,null,"Heating COP",null,{"$f":"R139/R137","v":4.9168984245392773},null,null,"Heating COP",null,{"$f":"W139/W137","v":4.36789683238056},null,null,"Heating COP",null,{"$f":"AB139/AB137","v":3.9259928634979615},null,null,"Heating COP",null,{"$f":"AG139/AG137","v":3.5630501486949027},null,null,"Heating COP",null,{"$f":"AL139/AL137","v":3.2599878263666775},null,null,"Heating COP",null,{"$f":"AQ139/AQ137","v":3.0034248176141953},null,null,"Heating COP",null,{"$f":"AV139/AV137","v":2.7836903240106841}]
["pluss (+) 2 kW water heating",null,{"$f":"(C139+2)/(C137+2)","v":2.9349865338375021},null,null,"pluss (+) 2 kW water heating",null,{"$f":"(H139+2)/(H137+2)","v":2.7973155326215786},null,null,"pluss (+) 2 kW water heating",null,{"$f":"(M139+2)/(M137+2)","v":2.6702100975754299},null,null,"pluss (+) 2 kW water heating",null,{"$f":"(R139+2)/(R137+2)","v":2.5526525999570415},null,null,"pluss (+) 2 kW water heating",null,{"$f":"(W139+2)/(W137+2)","v":2.443740182929683},null,null,"pluss (+) 2 kW water heating",null,{"$f":"(AB139+2)/(AB137+2)","v":2.3426713297377506},null,null,"pluss (+) 2 kW water heating",null,{"$f":"(AG139+2)/(AG137+2)","v":2.2487352643644116},null,null,"pluss (+) 2 kW water heating",null,{"$f":"(AL139+2)/(AL137+2)","v":2.1612941182001197},null,null,"pluss (+) 2 kW water heating",null,{"$f":"(AQ139+2)/(AQ137+2)","v":2.0797863710891953},null,null,"pluss (+) 2 kW water heating",null,{"$f":"(AV139+2)/(AV137+2)","v":2.0037076949345956}]
[]
[]
["Evaporator temp",null,"Effect 1. comp",null,"Comp 1. out temp",null,"Effect 2. comp",null,"Comp 2. out temp",null,"Effect condenser",null,"COP","Inter mediat temp",null,"Inter mediat cooler",null,"Tot comp effect",null,"COP + water heating"]
[15,"˚C",null,"kW",null,"˚C",null,"kW",null,"˚C",null,"kW",{"$f":"K145/(C145+G145)","v":{"$error":"#DIV/0!"}},null,"˚C",null,"˚",{"$f":"C145+G145","v":0}]
[10,"˚C",null,"kW",null,"˚C",null,"kW",null,"˚C",null,"kW",{"$error":"#DIV/0!"},null,"˚C",null,"˚",{"$f":"C146+G146","v":0}]
[5,"˚C","Not possible to calculate whitout changing intermediat pressure/temperature","kW",null,"˚C",null,"kW",null,"˚C",null,"kW",{"$error":"#VALUE!"},null,"˚C",null,"˚",{"$error":"#VALUE!"}]
[0,"˚C",{"$f":"C135","v":0.15065112684753942},"kW",{"$f":"C103","v":9.4312973373587852},"˚C",{"$f":"C136","v":0.64492592398695159},"kW",{"$f":"C120","v":31.310094947644931},"˚C",{"$f":"C139","v":6.2049809985043902},"kW",7.7993463888832713,5,"˚C",10,"˚",0.79557705083449104,"kW",{"$f":"(K148+2)/((C148+G148)+2)","v":2.9349865338375021}]
[-5,"˚C",{"$f":"H135","v":0.30718076280525058},"kW",{"$f":"H103","v":12.00984174687585},"˚C",{"$f":"H136","v":0.6541833822329991},"kW",{"$f":"H120","v":33.89370892042399},"˚C",{"$f":"H139","v":6.2838699206641158},"kW",6.5364096977156345,5,"˚C",10,"˚",0.96136414503824974,"kW",{"$f":"(K149+2)/((C149+G149)+2)","v":2.7973155326215786}]
[-10,"˚C",{"$f":"M135","v":0.46989719189019041},"kW",{"$f":"M103","v":14.752783423562279},"˚C",{"$f":"M136","v":0.66394892936600991},"kW",{"$f":"M120","v":36.644519611046967},"˚C",{"$f":"M139","v":6.3680275572258997},"kW",5.6163066908679751,5,"˚C",10,"˚",1.1338461212562003,"kW",2.6702100975754299]
[-15,"˚C",{"$f":"R135","v":0.63916806962247552},"kW",{"$f":"R103","v":17.678179846543909},"˚C",{"$f":"R136","v":0.67427622945450094},"kW",{"$f":"R120","v":39.580770995265603},"˚C",{"$f":"R139","v":6.4580722048516819},"kW",4.9168984245392773,5,"˚C",10,"˚",1.3134442990769766,"kW",2.5526525999570415]
[-20,"˚C",{"$f":"W135","v":0.81542610086330747},"kW",{"$f":"W103","v":20.805204067960229},"˚C",{"$f":"W136","v":0.68522113941383211},"kW",{"$f":"W120","v":42.721839665562918},"˚C",{"$f":"W139","v":6.5546723273271477},"kW",4.36789683238056,5,"˚C",10,"˚",1.5006472402771396,"kW",2.443740182929683]
[-25,"˚C",{"$f":"AB135","v":0.99917617936481695},"kW",{"$f":"AB103","v":24.154360621539581},"˚C",{"$f":"AB136","v":0.69684235017422913},"kW",{"$f":"AB120","v":46.088447251538639},"˚C",{"$f":"AB139","v":6.6585566433306012},"kW",3.9259928634979615,5,"˚C",10,"˚",1.696018529539046,"kW",2.3426713297377506]
[-30,"˚C",{"$f":"AG135","v":1.1910042218210615},"kW",{"$f":"AG103","v":27.747969252960271},"˚C",{"$f":"AG136","v":0.7092029191800302},"kW",{"$f":"AG120","v":49.703142663970603},"˚C",{"$f":"AG139","v":6.7705333362950553},"kW",3.5630501486949027,5,"˚C",10,"˚",1.9002071410010917,"kW",2.2487352643644116]
[-35,"˚C",{"$f":"AL135","v":1.3915874190460116},"kW",{"$f":"AL103","v":31.6092057088477},"˚C",{"$f":"AL136","v":0.72236683329612061},"kW",{"$f":"AL120","v":53.589332850363689},"˚C",{"$f":"AL139","v":6.8914651281314221},"kW",3.2599878263666775,5,"˚C",10,"˚",2.1139542523421322,"kW",2.1612941182001197]
[-40,"˚C",{"$f":"AQ135","v":1.6017075680281088},"kW",{"$f":"AQ103","v":35.764557739642953},"˚C",{"$f":"AQ136","v":0.73640725417676733},"kW",{"$f":"AQ120","v":57.773749945613133},"˚C",{"$f":"AQ139","v":7.022352083441727},"kW",3.0034248176141953,5,"˚C",10,"˚",2.3381148222048762,"kW",2.0797863710891953]
[-45,"˚C",{"$f":"AV135","v":1.8222657531189639},"kW",{"$f":"AV103","v":40.242290935623323},"˚C",{"$f":"AV136","v":0.75140103770050881},"kW",{"$f":"AV120","v":62.284904682873098},"˚C",{"$f":"AV139","v":7.1642913428317954},"kW",2.7836903240106841,5,"˚C",10,"˚",2.5736667908194728,"kW",2.0037076949345956]
[]
[]
[]
[]
[]
[]
[]
[]
[]
["Refrigerant",null,"R410A",null,null,"Refrigerant",null,{"$f":"C167","v":"R410A"},null,null,"Refrigerant",null,{"$f":"H167","v":"R410A"},null,null,"Refrigerant",null,{"$f":"M167","v":"R410A"},null,null,"Refrigerant",null,{"$f":"R167","v":"R410A"},null,null,"Refrigerant",null,{"$f":"W167","v":"R410A"},null,null,"Refrigerant",null,{"$f":"AB167","v":"R410A"},null,null,"Refrigerant",null,{"$f":"AG167","v":"R410A"},null,null,"Refrigerant",null,{"$f":"AL167","v":"R410A"},null,null,"Refrigerant",null,{"$f":"AQ167","v":"R410A"}]
["Two-stage Compression",null,null,null,null,"Two-stage Compression",null,null,null,null,"Two-stage Compression",null,null,null,null,"Two-stage Compression",null,null,null,null,"Two-stage Compression",null,null,null,null,"Two-stage Compression",null,null,null,null,"Two-stage Compression",null,null,null,null,"Two-stage Compression",null,null,null,null,"Two-stage Compression",null,null,null,null,"Two-stage Compression"]
["Evaporation temperature",null,0,"˚C",null,"Evaporation temperature",null,-5,"˚C",null,"Evaporation temperature",null,-10,"˚C",null,"Evaporation temperature",null,-15,"˚C",null,"Evaporation temperature",null,-20,"˚C",null,"Evaporation temperature",null,-25,"˚C",null,"Evaporation temperature",null,-30,"˚C",null,"Evaporation temperature",null,-35,"˚C",null,"Evaporation temperature",null,-40,"˚C",null,"Evaporation temperature",null,-45,"˚C"]
["Evaporation pressure",null,{"$f":"r_psatgasT(C167,C169)/100000","v":7.9647687637940727},"bar",null,"Evaporation pressure",null,{"$f":"r_psatgasT(H167,H169)/100000","v":6.7725408580391608},"bar",null,"Evaporation pressure",null,{"$f":"r_psatgasT(M167,M169)/100000","v":5.7211743670521793},"bar",null,"Evaporation pressure",null,{"$f":"r_psatgasT(R167,R169)/100000","v":4.7991589233029721},"bar",null,"Evaporation pressure",null,{"$f":"r_psatgasT(W167,W169)/100000","v":3.9954287428982243},"bar",null,"Evaporation pressure",null,{"$f":"r_psatgasT(AB167,AB169)/100000","v":3.2993634806834278},"bar",null,"Evaporation pressure",null,{"$f":"r_psatgasT(AG167,AG169)/100000","v":2.7007933327772173},"bar",null,"Evaporation pressure",null,{"$f":"r_psatgasT(AL167,AL169)/100000","v":2.190007642716719},"bar",null,"Evaporation pressure",null,{"$f":"r_psatgasT(AQ167,AQ169)/100000","v":1.757766315588021},"bar",null,"Evaporation pressure",null,{"$f":"r_psatgasT(AV167,AV169)/100000","v":1.3953133591916589},"bar"]
["Temperature in to compressor",null,{"$f":"C169+2","v":2},"˚C",null,"Temperature in to compressor",null,{"$f":"H169+2","v":-3},"˚C",null,"Temperature in to compressor",null,{"$f":"M169+2","v":-8},"˚C",null,"Temperature in to compressor",null,{"$f":"R169+2","v":-13},"˚C",null,"Temperature in to compressor",null,{"$f":"W169+2","v":-18},"˚C",null,"Temperature in to compressor",null,{"$f":"AB169+2","v":-23},"˚C",null,"Temperature in to compressor",null,{"$f":"AG169+2","v":-28},"˚C",null,"Temperature in to compressor",null,{"$f":"AL169+2","v":-33},"˚C",null,"Temperature in to compressor",null,{"$f":"AQ169+2","v":-38},"˚C",null,"Temperature in to compressor",null,{"$f":"AV169+2","v":-43},"˚C"]
["1. Compressor",null,null,null,null,"1. Compressor",null,null,null,null,"1. Compressor",null,null,null,null,"1. Compressor",null,null,null,null,"1. Compressor",null,null,null,null,"1. Compressor",null,null,null,null,"1. Compressor",null,null,null,null,"1. Compressor",null,null,null,null,"1. Compressor",null,null,null,null,"1. Compressor"]
["Enthalpy input compressor",null,{"$f":"r_hgastp(C167,C171,C170*100000)/1000","v":424.76944719434539},"kJ/kg",null,"Enthalpy input compressor",null,{"$f":"r_hgastp(H167,H171,H170*100000)/1000","v":423.17125464186034},"kJ/kg",null,"Enthalpy input compressor",null,{"$f":"r_hgastp(M167,M171,M170*100000)/1000","v":421.43851336078427},"kJ/kg",null,"Enthalpy input compressor",null,{"$f":"r_hgastp(R167,R171,R170*100000)/1000","v":419.58228119330931},"kJ/kg",null,"Enthalpy input compressor",null,{"$f":"r_hgastp(W167,W171,W170*100000)/1000","v":417.61198452208413},"kJ/kg",null,"Enthalpy input compressor",null,{"$f":"r_hgastp(AB167,AB171,AB170*100000)/1000","v":415.5357480009223},"kJ/kg",null,"Enthalpy input compressor",null,{"$f":"r_hgastp(AG167,AG171,AG170*100000)/1000","v":413.36068858778447},"kJ/kg",null,"Enthalpy input compressor",null,{"$f":"r_hgastp(AL167,AL171,AL170*100000)/1000","v":411.0931798324371},"kJ/kg",null,"Enthalpy input compressor",null,{"$f":"r_hgastp(AQ167,AQ171,AQ170*100000)/1000","v":408.73909060289839},"kJ/kg",null,"Enthalpy input compressor",null,{"$f":"r_hgastp(AV167,AV171,AV170*100000)/1000","v":406.3040006565551},"kJ/kg"]
["Entropy",null,{"$f":"R_SgasTP(C167,C171,C170*100000)","v":1822.811486237661},"J/kgK",null,"Entropy",null,{"$f":"R_SgasTP(H167,H171,H170*100000)","v":1832.6346373869881},"J/kgK",null,"Entropy",null,{"$f":"R_SgasTP(M167,M171,M170*100000)","v":1842.773552191685},"J/kgK",null,"Entropy",null,{"$f":"R_SgasTP(R167,R171,R170*100000)","v":1853.2987094289499},"J/kgK",null,"Entropy",null,{"$f":"R_SgasTP(W167,W171,W170*100000)","v":1864.280667188606},"J/kgK",null,"Entropy",null,{"$f":"R_SgasTP(AB167,AB171,AB170*100000)","v":1875.7914705326141},"J/kgK",null,"Entropy",null,{"$f":"R_SgasTP(AG167,AG171,AG170*100000)","v":1887.9060761174831},"J/kgK",null,"Entropy",null,{"$f":"R_SgasTP(AL167,AL171,AL170*100000)","v":1900.7038224185751},"J/kgK",null,"Entropy",null,{"$f":"R_SgasTP(AQ167,AQ171,AQ170*100000)","v":1914.269971844348},"J/kgK",null,"Entropy",null,{"$f":"R_SgasTP(AV167,AV171,AV170*100000)","v":1928.6973483631721},"J/kgK"]
["Specific volume",null,{"$f":"R_vgasTP(C167,C171,C170*100000)","v":3.3101712728921172E-2},"m3/kg",null,"Specific volume",null,{"$f":"R_vgasTP(H167,H171,H170*100000)","v":3.8939873562212922E-2},"m3/kg",null,"Specific volume",null,{"$f":"R_vgasTP(M167,M171,M170*100000)","v":4.602531522988737E-2},"m3/kg",null,"Specific volume",null,{"$f":"R_vgasTP(R167,R171,R170*100000)","v":5.4690092521419348E-2},"m3/kg",null,"Specific volume",null,{"$f":"R_vgasTP(W167,W171,W170*100000)","v":6.5372321033856581E-2},"m3/kg",null,"Specific volume",null,{"$f":"R_vgasTP(AB167,AB171,AB170*100000)","v":7.8655991364140088E-2},"m3/kg",null,"Specific volume",null,{"$f":"R_vgasTP(AG167,AG171,AG170*100000)","v":9.5328060996449387E-2},"m3/kg",null,"Specific volume",null,{"$f":"R_vgasTP(AL167,AL171,AL170*100000)","v":0.1164613845250925},"m3/kg",null,"Specific volume",null,{"$f":"R_vgasTP(AQ167,AQ171,AQ170*100000)","v":0.14353684001886241},"m3/kg",null,"Specific volume",null,{"$f":"R_vgasTP(AV167,AV171,AV170*100000)","v":0.17862582414520209},"m3/kg"]
[]
["Intermediat temperature",null,5,"˚C",null,"Intermediat temperature",null,5,"˚C",null,"Intermediat temperature",null,5,"˚C",null,"Intermediat temperature",null,5,"˚C",null,"Intermediat temperature",null,5,"˚C",null,"Intermediat temperature",null,5,"˚C",null,"Intermediat temperature",null,5,"˚C",null,"Intermediat temperature",null,5,"˚C",null,"Intermediat temperature",null,5,"˚C",null,"Intermediat temperature",null,5,"˚C"]
["Intermediat pressure",null,{"$f":"r_psatgasT(C167,C177)/100000","v":9.3098172513601298},"bar",null,"Intermediat pressure",null,{"$f":"r_psatgasT(H167,H177)/100000","v":9.3098172513601298},"bar",null,"Intermediat pressure",null,{"$f":"r_psatgasT(M167,M177)/100000","v":9.3098172513601298},"bar",null,"Intermediat pressure",null,{"$f":"r_psatgasT(R167,R177)/100000","v":9.3098172513601298},"bar",null,"Intermediat pressure",null,{"$f":"r_psatgasT(W167,W177)/100000","v":9.3098172513601298},"bar",null,"Intermediat pressure",null,{"$f":"r_psatgasT(AB167,AB177)/100000","v":9.3098172513601298},"bar",null,"Intermediat pressure",null,{"$f":"r_psatgasT(AG167,AG177)/100000","v":9.3098172513601298},"bar",null,"Intermediat pressure",null,{"$f":"r_psatgasT(AL167,AL177)/100000","v":9.3098172513601298},"bar",null,"Intermediat pressure",null,{"$f":"r_psatgasT(AQ167,AQ177)/100000","v":9.3098172513601298},"bar",null,"Intermediat pressure",null,{"$f":"r_psatgasT(AV167,AV177)/100000","v":9.3098172513601298},"bar"]
["Intermediat pressure ratio",null,{"$f":"C178/C170","v":1.16887476930659},null,null,"Intermediat pressure ratio",null,{"$f":"H178/H170","v":1.3746417255363124},null,null,"Intermediat pressure ratio",null,{"$f":"M178/M170","v":1.6272563383096099},null,null,"Intermediat pressure ratio",null,{"$f":"R178/R170","v":1.9398851757450748},null,null,"Intermediat pressure ratio",null,{"$f":"W178/W170","v":2.3301172040442717},null,null,"Intermediat pressure ratio",null,{"$f":"AB178/AB170","v":2.8217010056229697},null,null,"Intermediat pressure ratio",null,{"$f":"AG178/AG170","v":3.4470676220852758},null,null,"Intermediat pressure ratio",null,{"$f":"AL178/AL170","v":4.2510432702468748},null,null,"Intermediat pressure ratio",null,{"$f":"AQ178/AQ170","v":5.296390748189836},null,null,"Intermediat pressure ratio",null,{"$f":"AV178/AV170","v":6.672205343718308}]
["Isentropic efficiency",null,0.7,null,null,"Isentropic efficiency",null,0.7,null,null,"Isentropic efficiency",null,0.7,null,null,"Isentropic efficiency",null,0.7,null,null,"Isentropic efficiency",null,0.7,null,null,"Isentropic efficiency",null,0.7,null,null,"Isentropic efficiency",null,0.7,null,null,"Isentropic efficiency",null,0.7,null,null,"Isentropic efficiency",null,0.7,null,null,"Isentropic efficiency",null,0.7]
[]
["Isentropic entalpy",null,{"$f":"R_hgasSP(C167,C174,C178*100000)/1000","v":428.91489614908369},"kJ/kg",null,"Isentropic entalpy",null,{"$f":"R_hgasSP(H167,H174,H178*100000)/1000","v":431.70215963864263},"kJ/kg",null,"Isentropic entalpy",null,{"$f":"R_hgasSP(M167,M174,M178*100000)/1000","v":434.6048926396752},"kJ/kg",null,"Isentropic entalpy",null,{"$f":"R_hgasSP(R167,R174,R178*100000)/1000","v":437.6466869102984},"kJ/kg",null,"Isentropic entalpy",null,{"$f":"R_hgasSP(W167,W174,W178*100000)/1000","v":440.85166506823475},"kJ/kg",null,"Isentropic entalpy",null,{"$f":"R_hgasSP(AB167,AB174,AB178*100000)/1000","v":444.24670179594057},"kJ/kg",null,"Isentropic entalpy",null,{"$f":"R_hgasSP(AG167,AG174,AG178*100000)/1000","v":447.85992916449851},"kJ/kg",null,"Isentropic entalpy",null,{"$f":"R_hgasSP(AL167,AL174,AL178*100000)/1000","v":451.72263094344396},"kJ/kg",null,"Isentropic entalpy",null,{"$f":"R_hgasSP(AQ167,AQ174,AQ178*100000)/1000","v":455.8697642250325},"kJ/kg",null,"Isentropic entalpy",null,{"$f":"R_hgasSP(AV167,AV174,AV178*100000)/1000","v":460.34087063980178},"kJ/kg"]
["Real entropy",null,{"$f":"C173+(C182-C173)/C180","v":430.69151712968579},"kJ/kg",null,"Real entropy",null,{"$f":"H173+(H182-H173)/H180","v":435.35826178012076},"kJ/kg",null,"Real entropy",null,{"$f":"M173+(M182-M173)/M180","v":440.24762661634276},"kJ/kg",null,"Real entropy",null,{"$f":"R173+(R182-R173)/R180","v":445.38857507472227},"kJ/kg",null,"Real entropy",null,{"$f":"W173+(W182-W173)/W180","v":450.81152815944216},"kJ/kg",null,"Real entropy",null,{"$f":"AB173+(AB182-AB173)/AB180","v":456.55139627951985},"kJ/kg",null,"Real entropy",null,{"$f":"AG173+(AG182-AG173)/AG180","v":462.64531798309025},"kJ/kg",null,"Real entropy",null,{"$f":"AL173+(AL182-AL173)/AL180","v":469.1352528481612},"kJ/kg",null,"Real entropy",null,{"$f":"AQ173+(AQ182-AQ173)/AQ180","v":476.06862434880429},"kJ/kg",null,"Real entropy",null,{"$f":"AV173+(AV182-AV173)/AV180","v":483.49952920405036},"kJ/kg"]
["Temperature out of compressor",null,{"$f":"R_tgasHP(C167,C183*1000,C178*100000)","v":10.93223897556072},"˚C",null,"Temperature out of compressor",null,{"$f":"R_tgasHP(H167,H183*1000,H178*100000)","v":15.13801058048352},"˚C",null,"Temperature out of compressor",null,{"$f":"R_tgasHP(M167,M183*1000,M178*100000)","v":19.642887323295099},"˚C",null,"Temperature out of compressor",null,{"$f":"R_tgasHP(R167,R183*1000,R178*100000)","v":24.474268250112171},"˚C",null,"Temperature out of compressor",null,{"$f":"R_tgasHP(W167,W183*1000,W178*100000)","v":29.66091014359591},"˚C",null,"Temperature out of compressor",null,{"$f":"R_tgasHP(AB167,AB183*1000,AB178*100000)","v":35.23552014881443},"˚C",null,"Temperature out of compressor",null,{"$f":"R_tgasHP(AG167,AG183*1000,AG178*100000)","v":41.232289413145217},"˚C",null,"Temperature out of compressor",null,{"$f":"R_tgasHP(AL167,AL183*1000,AL178*100000)","v":47.689034107705652},"˚C",null,"Temperature out of compressor",null,{"$f":"R_tgasHP(AQ167,AQ183*1000,AQ178*100000)","v":54.647457657370353},"˚C",null,"Temperature out of compressor",null,{"$f":"R_tgasHP(AV167,AV183*1000,AV178*100000)","v":62.15391691485712},"˚C"]
["Enthalpy on the dewpoint line",null,{"$f":"R_hsatgasT(C167,C177)/1000","v":423.8985647127937},"kJ/kg",null,"Enthalpy on the dewpoint line",null,{"$f":"R_hsatgasT(H167,H177)/1000","v":423.8985647127937},"kJ/kg",null,"Enthalpy on the dewpoint line",null,{"$f":"R_hsatgasT(M167,M177)/1000","v":423.8985647127937},"kJ/kg",null,"Enthalpy on the dewpoint line",null,{"$f":"R_hsatgasT(R167,R177)/1000","v":423.8985647127937},"kJ/kg",null,"Enthalpy on the dewpoint line",null,{"$f":"R_hsatgasT(W167,W177)/1000","v":423.8985647127937},"kJ/kg",null,"Enthalpy on the dewpoint line",null,{"$f":"R_hsatgasT(AB167,AB177)/1000","v":423.8985647127937},"kJ/kg",null,"Enthalpy on the dewpoint line",null,{"$f":"R_hsatgasT(AG167,AG177)/1000","v":423.8985647127937},"kJ/kg",null,"Enthalpy on the dewpoint line",null,{"$f":"R_hsatgasT(AL167,AL177)/1000","v":423.8985647127937},"kJ/kg",null,"Enthalpy on the dewpoint line",null,{"$f":"R_hsatgasT(AQ167,AQ177)/1000","v":423.8985647127937},"kJ/kg",null,"Enthalpy on the dewpoint line",null,{"$f":"R_hsatgasT(AV167,AV177)/1000","v":423.8985647127937},"kJ/kg"]
["2. Compressor",null,null,null,null,"2. Compressor",null,null,null,null,"2. Compressor",null,null,null,null,"2. Compressor",null,null,null,null,"2. Compressor",null,null,null,null,"2. Compressor",null,null,null,null,"2. Compressor",null,null,null,null,"2. Compressor",null,null,null,null,"2. Compressor",null,null,null,null,"2. Compressor"]
["Intermediat cooling",null,10,"K",null,"Intermediat cooling",null,10,"K",null,"Intermediat cooling",null,10,"K",null,"Intermediat cooling",null,10,"K",null,"Intermediat cooling",null,10,"K",null,"Intermediat cooling",null,10,"K",null,"Intermediat cooling",null,10,"K",null,"Intermediat cooling",null,10,"K",null,"Intermediat cooling",null,10,"K",null,"Intermediat cooling",null,10,"K"]
["Temperature in to compressor",null,{"$f":"C184-C187","v":0.93223897556072011},"˚C",null,"Temperature in to compressor",null,{"$f":"H184-H187","v":5.1380105804835203},"˚C",null,"Temperature in to compressor",null,{"$f":"M184-M187","v":9.6428873232950991},"˚C",null,"Temperature in to compressor",null,{"$f":"R184-R187","v":14.474268250112171},"˚C",null,"Temperature in to compressor",null,{"$f":"W184-W187","v":19.66091014359591},"˚C",null,"Temperature in to compressor",null,{"$f":"AB184-AB187","v":25.23552014881443},"˚C",null,"Temperature in to compressor",null,{"$f":"AG184-AG187","v":31.232289413145217},"˚C",null,"Temperature in to compressor",null,{"$f":"AL184-AL187","v":37.689034107705652},"˚C",null,"Temperature in to compressor",null,{"$f":"AQ184-AQ187","v":44.647457657370353},"˚C",null,"Temperature in to compressor",null,{"$f":"AV184-AV187","v":52.15391691485712},"˚C"]
["Enthalpy input compressor",null,{"$f":"r_hgastp(C167,C188,C178*100000)/1000","v":419.06056510420001},"kJ/kg",null,"Enthalpy input compressor",null,{"$f":"r_hgastp(H167,H188,H178*100000)/1000","v":424.05988219311547},"kJ/kg",null,"Enthalpy input compressor",null,{"$f":"r_hgastp(M167,M188,M178*100000)/1000","v":429.23789707456211},"kJ/kg",null,"Enthalpy input compressor",null,{"$f":"r_hgastp(R167,R188,R178*100000)/1000","v":434.62883275890118},"kJ/kg",null,"Enthalpy input compressor",null,{"$f":"r_hgastp(W167,W188,W178*100000)/1000","v":440.26698886121193},"kJ/kg",null,"Enthalpy input compressor",null,{"$f":"r_hgastp(AB167,AB188,AB178*100000)/1000","v":446.19024126613903},"kJ/kg",null,"Enthalpy input compressor",null,{"$f":"r_hgastp(AG167,AG188,AG178*100000)/1000","v":452.43790913211473},"kJ/kg",null,"Enthalpy input compressor",null,{"$f":"r_hgastp(AL167,AL188,AL178*100000)/1000","v":459.05360221228676},"kJ/kg",null,"Enthalpy input compressor",null,{"$f":"r_hgastp(AQ167,AQ188,AQ178*100000)/1000","v":466.08597461027449},"kJ/kg",null,"Enthalpy input compressor",null,{"$f":"r_hgastp(AV167,AV188,AV178*100000)/1000","v":473.59003251732338},"kJ/kg"]
["Entropy",null,{"$f":"R_SgasTP(C167,C188,C178*100000)","v":1787.3933067943769},"J/kgK",null,"Entropy",null,{"$f":"R_SgasTP(H167,H188,H178*100000)","v":1805.4958025395331},"J/kgK",null,"Entropy",null,{"$f":"R_SgasTP(M167,M188,M178*100000)","v":1823.9542630290689},"J/kgK",null,"Entropy",null,{"$f":"R_SgasTP(R167,R188,R178*100000)","v":1842.857188574121},"J/kgK",null,"Entropy",null,{"$f":"R_SgasTP(W167,W188,W178*100000)","v":1862.2857535173671},"J/kgK",null,"Entropy",null,{"$f":"R_SgasTP(AB167,AB188,AB178*100000)","v":1882.3252029824339},"J/kgK",null,"Entropy",null,{"$f":"R_SgasTP(AG167,AG188,AG178*100000)","v":1903.056443145819},"J/kgK",null,"Entropy",null,{"$f":"R_SgasTP(AL167,AL188,AL178*100000)","v":1924.5645139393939},"J/kgK",null,"Entropy",null,{"$f":"R_SgasTP(AQ167,AQ188,AQ178*100000)","v":1946.9393506233509},"J/kgK",null,"Entropy",null,{"$f":"R_SgasTP(AV167,AV188,AV178*100000)","v":1970.277932984287},"J/kgK"]
["Specific volume",null,{"$f":"R_vgasTP(C167,C188,C178*100000)","v":2.6931123564048639E-2},"m3/kg",null,"Specific volume",null,{"$f":"R_vgasTP(H167,H188,H178*100000)","v":2.7860160489468121E-2},"m3/kg",null,"Specific volume",null,{"$f":"R_vgasTP(M167,M188,M178*100000)","v":2.8805998721907061E-2},"m3/kg",null,"Specific volume",null,{"$f":"R_vgasTP(R167,R188,R178*100000)","v":2.9773699137375129E-2},"m3/kg",null,"Specific volume",null,{"$f":"R_vgasTP(W167,W188,W178*100000)","v":3.076798540860063E-2},"m3/kg",null,"Specific volume",null,{"$f":"R_vgasTP(AB167,AB188,AB178*100000)","v":3.1793853887023597E-2},"m3/kg",null,"Specific volume",null,{"$f":"R_vgasTP(AG167,AG188,AG178*100000)","v":3.2856169011314808E-2},"m3/kg",null,"Specific volume",null,{"$f":"R_vgasTP(AL167,AL188,AL178*100000)","v":3.3960123558317429E-2},"m3/kg",null,"Specific volume",null,{"$f":"R_vgasTP(AQ167,AQ188,AQ178*100000)","v":3.5111306865230271E-2},"m3/kg",null,"Specific volume",null,{"$f":"R_vgasTP(AV167,AV188,AV178*100000)","v":3.6315848426639583E-2},"m3/kg"]
[]
["Condensating temperature",null,28,"˚C",null,"Condensating temperature",null,28,"˚C",null,"Condensating temperature",null,28,"˚C",null,"Condensating temperature",null,28,"˚C",null,"Condensating temperature",null,28,"˚C",null,"Condensating temperature",null,28,"˚C",null,"Condensating temperature",null,28,"˚C",null,"Condensating temperature",null,28,"˚C",null,"Condensating temperature",null,28,"˚C",null,"Condensating temperature",null,28,"˚C"]
["Condensating pressure",null,{"$f":"r_psatgasT(C167,C193)/100000","v":17.829772179326831},"bar",null,"Condensating pressure",null,{"$f":"r_psatgasT(H167,H193)/100000","v":17.829772179326831},"bar",null,"Condensating pressure",null,{"$f":"r_psatgasT(M167,M193)/100000","v":17.829772179326831},"bar",null,"Condensating pressure",null,{"$f":"r_psatgasT(R167,R193)/100000","v":17.829772179326831},"bar",null,"Condensating pressure",null,{"$f":"r_psatgasT(W167,W193)/100000","v":17.829772179326831},"bar",null,"Condensating pressure",null,{"$f":"r_psatgasT(AB167,AB193)/100000","v":17.829772179326831},"bar",null,"Condensating pressure",null,{"$f":"r_psatgasT(AG167,AG193)/100000","v":17.829772179326831},"bar",null,"Condensating pressure",null,{"$f":"r_psatgasT(AL167,AL193)/100000","v":17.829772179326831},"bar",null,"Condensating pressure",null,{"$f":"r_psatgasT(AQ167,AQ193)/100000","v":17.829772179326831},"bar",null,"Condensating pressure",null,{"$f":"r_psatgasT(AV167,AV193)/100000","v":17.829772179326831},"bar"]
["Pressure ration",null,{"$f":"C194/C178","v":1.9151581280203935},null,null,"Pressure ration",null,{"$f":"H194/H178","v":1.9151581280203935},null,null,"Pressure ration",null,{"$f":"M194/M178","v":1.9151581280203935},null,null,"Pressure ration",null,{"$f":"R194/R178","v":1.9151581280203935},null,null,"Pressure ration",null,{"$f":"W194/W178","v":1.9151581280203935},null,null,"Pressure ration",null,{"$f":"AB194/AB178","v":1.9151581280203935},null,null,"Pressure ration",null,{"$f":"AG194/AG178","v":1.9151581280203935},null,null,"Pressure ration",null,{"$f":"AL194/AL178","v":1.9151581280203935},null,null,"Pressure ration",null,{"$f":"AQ194/AQ178","v":1.9151581280203935},null,null,"Pressure ration",null,{"$f":"AV194/AV178","v":1.9151581280203935}]
["Pressure ration TOTAL",null,{"$f":"C194/C170","v":2.238580015075478},null,null,"Pressure ration TOTAL",null,{"$f":"H194/H170","v":2.6326562737768477},null,null,"Pressure ration TOTAL",null,{"$f":"M194/M170","v":3.1164532026863525},null,null,"Pressure ration TOTAL",null,{"$f":"R194/R170","v":3.7151868617544492},null,null,"Pressure ration TOTAL",null,{"$f":"W194/W170","v":4.4625429025655405},null,null,"Pressure ration TOTAL",null,{"$f":"AB194/AB170","v":5.4040036157621483},null,null,"Pressure ration TOTAL",null,{"$f":"AG194/AG170","v":6.6016795742725458},null,null,"Pressure ration TOTAL",null,{"$f":"AL194/AL170","v":8.1414200715796952},null,null,"Pressure ration TOTAL",null,{"$f":"AQ194/AQ170","v":10.143425790567777},null,null,"Pressure ration TOTAL",null,{"$f":"AV194/AV170","v":12.778328295843222}]
["Isentropic efficiency",null,0.7,null,null,"Isentropic efficiency",null,0.7,null,null,"Isentropic efficiency",null,0.7,null,null,"Isentropic efficiency",null,0.7,null,null,"Isentropic efficiency",null,0.7,null,null,"Isentropic efficiency",null,0.7,null,null,"Isentropic efficiency",null,0.7,null,null,"Isentropic efficiency",null,0.7,null,null,"Isentropic efficiency",null,0.7,null,null,"Isentropic efficiency",null,0.7]
[]
["Isentropic entalpy",null,{"$f":"R_hgasSP(C167,C190,C194*100000)/1000","v":435.75622705858689},"kJ/kg",null,"Isentropic entalpy",null,{"$f":"R_hgasSP(H167,H190,H194*100000)/1000","v":441.34780227994599},"kJ/kg",null,"Isentropic entalpy",null,{"$f":"R_hgasSP(M167,M190,M194*100000)/1000","v":447.12825338390019},"kJ/kg",null,"Isentropic entalpy",null,{"$f":"R_hgasSP(R167,R190,R194*100000)/1000","v":453.1348649294265},"kJ/kg",null,"Isentropic entalpy",null,{"$f":"R_hgasSP(W167,W190,W194*100000)/1000","v":459.40490709176214},"kJ/kg",null,"Isentropic entalpy",null,{"$f":"R_hgasSP(AB167,AB190,AB194*100000)/1000","v":465.97938520876858},"kJ/kg",null,"Isentropic entalpy",null,{"$f":"R_hgasSP(AG167,AG190,AG194*100000)/1000","v":472.90065048983195},"kJ/kg",null,"Isentropic entalpy",null,{"$f":"R_hgasSP(AL167,AL190,AL194*100000)/1000","v":480.2155398251121},"kJ/kg",null,"Isentropic entalpy",null,{"$f":"R_hgasSP(AQ167,AQ190,AQ194*100000)/1000","v":487.97617187625639},"kJ/kg",null,"Isentropic entalpy",null,{"$f":"R_hgasSP(AV167,AV190,AV194*100000)/1000","v":496.24134434506158},"kJ/kg"]
["Real entropy",null,{"$f":"C189+(C199-C189)/C197","v":442.91151075332414},"kJ/kg",null,"Real entropy",null,{"$f":"H189+(H199-H189)/H197","v":448.75691088858764},"kJ/kg",null,"Real entropy",null,{"$f":"M189+(M199-M189)/M197","v":454.79554894504508},"kJ/kg",null,"Real entropy",null,{"$f":"R189+(R199-R189)/R197","v":461.06602157393735},"kJ/kg",null,"Real entropy",null,{"$f":"W189+(W199-W189)/W197","v":467.60687204771222},"kJ/kg",null,"Real entropy",null,{"$f":"AB189+(AB199-AB189)/AB197","v":474.46044689846696},"kJ/kg",null,"Real entropy",null,{"$f":"AG189+(AG199-AG189)/AG197","v":481.67039678599645},"kJ/kg",null,"Real entropy",null,{"$f":"AL189+(AL199-AL189)/AL197","v":489.28494165918011},"kJ/kg",null,"Real entropy",null,{"$f":"AQ189+(AQ199-AQ189)/AQ197","v":497.35768499024863},"kJ/kg",null,"Real entropy",null,{"$f":"AV189+(AV199-AV189)/AV197","v":505.94904941409226},"kJ/kg"]
["Temperature out of compressor",null,{"$f":"R_tgasHP(C167,C200*1000,C194*100000)","v":38.996067891701607},"˚C",null,"Temperature out of compressor",null,{"$f":"R_tgasHP(H167,H200*1000,H194*100000)","v":43.521145930707121},"˚C",null,"Temperature out of compressor",null,{"$f":"R_tgasHP(M167,M200*1000,M194*100000)","v":48.365854231439407},"˚C",null,"Temperature out of compressor",null,{"$f":"R_tgasHP(R167,R200*1000,R194*100000)","v":53.557398831515457},"˚C",null,"Temperature out of compressor",null,{"$f":"R_tgasHP(W167,W200*1000,W194*100000)","v":59.124488613008509},"˚C",null,"Temperature out of compressor",null,{"$f":"R_tgasHP(AB167,AB200*1000,AB194*100000)","v":65.099932105313769},"˚C",null,"Temperature out of compressor",null,{"$f":"R_tgasHP(AG167,AG200*1000,AG194*100000)","v":71.5179671138103},"˚C",null,"Temperature out of compressor",null,{"$f":"R_tgasHP(AL167,AL200*1000,AL194*100000)","v":78.416547108662314},"˚C",null,"Temperature out of compressor",null,{"$f":"R_tgasHP(AQ167,AQ200*1000,AQ194*100000)","v":85.837616649233212},"˚C",null,"Temperature out of compressor",null,{"$f":"R_tgasHP(AV167,AV200*1000,AV194*100000)","v":93.82793236770766},"˚C"]
["Enthalpy on the dewpoint line",null,{"$f":"R_hsatgasT(C167,C193)/1000","v":427.50292764073419},"kJ/kg",null,"Enthalpy on the dewpoint line",null,{"$f":"R_hsatgasT(H167,H193)/1000","v":427.50292764073419},"kJ/kg",null,"Enthalpy on the dewpoint line",null,{"$f":"R_hsatgasT(M167,M193)/1000","v":427.50292764073419},"kJ/kg",null,"Enthalpy on the dewpoint line",null,{"$f":"R_hsatgasT(R167,R193)/1000","v":427.50292764073419},"kJ/kg",null,"Enthalpy on the dewpoint line",null,{"$f":"R_hsatgasT(W167,W193)/1000","v":427.50292764073419},"kJ/kg",null,"Enthalpy on the dewpoint line",null,{"$f":"R_hsatgasT(AB167,AB193)/1000","v":427.50292764073419},"kJ/kg",null,"Enthalpy on the dewpoint line",null,{"$f":"R_hsatgasT(AG167,AG193)/1000","v":427.50292764073419},"kJ/kg",null,"Enthalpy on the dewpoint line",null,{"$f":"R_hsatgasT(AL167,AL193)/1000","v":427.50292764073419},"kJ/kg",null,"Enthalpy on the dewpoint line",null,{"$f":"R_hsatgasT(AQ167,AQ193)/1000","v":427.50292764073419},"kJ/kg",null,"Enthalpy on the dewpoint line",null,{"$f":"R_hsatgasT(AV167,AV193)/1000","v":427.50292764073419},"kJ/kg"]
["Subcooling of condenser",null,18,"K",null,"Subcooling of condenser",null,18,"K",null,"Subcooling of condenser",null,18,"K",null,"Subcooling of condenser",null,18,"K",null,"Subcooling of condenser",null,18,"K",null,"Subcooling of condenser",null,18,"K",null,"Subcooling of condenser",null,18,"K",null,"Subcooling of condenser",null,18,"K",null,"Subcooling of condenser",null,18,"K",null,"Subcooling of condenser",null,18,"K"]
["Enthalpy out of the condenser",null,{"$f":"R_hsatliqT(C167,C193-C203)/1000","v":215.74554978637232},"kJ/kg",null,"Enthalpy out of the condenser",null,{"$f":"R_hsatliqT(H167,H193-H203)/1000","v":215.74554978637232},"kJ/kg",null,"Enthalpy out of the condenser",null,{"$f":"R_hsatliqT(M167,M193-M203)/1000","v":215.74554978637232},"kJ/kg",null,"Enthalpy out of the condenser",null,{"$f":"R_hsatliqT(R167,R193-R203)/1000","v":215.74554978637232},"kJ/kg",null,"Enthalpy out of the condenser",null,{"$f":"R_hsatliqT(W167,W193-W203)/1000","v":215.74554978637232},"kJ/kg",null,"Enthalpy out of the condenser",null,{"$f":"R_hsatliqT(AB167,AB193-AB203)/1000","v":215.74554978637232},"kJ/kg",null,"Enthalpy out of the condenser",null,{"$f":"R_hsatliqT(AG167,AG193-AG203)/1000","v":215.74554978637232},"kJ/kg",null,"Enthalpy out of the condenser",null,{"$f":"R_hsatliqT(AL167,AL193-AL203)/1000","v":215.74554978637232},"kJ/kg",null,"Enthalpy out of the condenser",null,{"$f":"R_hsatliqT(AQ167,AQ193-AQ203)/1000","v":215.74554978637232},"kJ/kg",null,"Enthalpy out of the condenser",null,{"$f":"R_hsatliqT(AV167,AV193-AV203)/1000","v":215.74554978637232},"kJ/kg"]
[]
["Enthalpy in to evaporator",null,{"$f":"R_HsatliqP(C167,C177*100000)/1000","v":178.81416361766341},"kJ/kg",null,"Enthalpy in to evaporator",null,{"$f":"R_HsatliqP(H167,H177*100000)/1000","v":178.81416361766341},"kJ/kg",null,"Enthalpy in to evaporator",null,{"$f":"R_HsatliqP(M167,M177*100000)/1000","v":178.81416361766341},"kJ/kg",null,"Enthalpy in to evaporator",null,{"$f":"R_HsatliqP(R167,R177*100000)/1000","v":178.81416361766341},"kJ/kg",null,"Enthalpy in to evaporator",null,{"$f":"R_HsatliqP(W167,W177*100000)/1000","v":178.81416361766341},"kJ/kg",null,"Enthalpy in to evaporator",null,{"$f":"R_HsatliqP(AB167,AB177*100000)/1000","v":178.81416361766341},"kJ/kg",null,"Enthalpy in to evaporator",null,{"$f":"R_HsatliqP(AG167,AG177*100000)/1000","v":178.81416361766341},"kJ/kg",null,"Enthalpy in to evaporator",null,{"$f":"R_HsatliqP(AL167,AL177*100000)/1000","v":178.81416361766341},"kJ/kg",null,"Enthalpy in to evaporator",null,{"$f":"R_HsatliqP(AQ167,AQ177*100000)/1000","v":178.81416361766341},"kJ/kg",null,"Enthalpy in to evaporator",null,{"$f":"R_HsatliqP(AV167,AV177*100000)/1000","v":178.81416361766341},"kJ/kg"]
["Moist vapor - xf",null,{"$f":"(C189-C204)/(C189-C206)","v":0.84627704748044463},null,null,"Moist vapor - xf",null,{"$f":"(H189-H204)/(H189-H206)","v":0.84941067928430869},null,null,"Moist vapor - xf",null,{"$f":"(M189-M204)/(M189-M206)","v":0.85252441668007761},null,null,"Moist vapor - xf",null,{"$f":"(R189-R204)/(R189-R206)","v":0.85563225794405584},null,null,"Moist vapor - xf",null,{"$f":"(W189-W204)/(W189-W206)","v":0.85874550739963662},null,null,"Moist vapor - xf",null,{"$f":"(AB189-AB204)/(AB189-AB206)","v":0.86187475523796364},null,null,"Moist vapor - xf",null,{"$f":"(AG189-AG204)/(AG189-AG206)","v":0.8650285774749823},null,null,"Moist vapor - xf",null,{"$f":"(AL189-AL204)/(AL189-AL206)","v":0.86821488669147839},null,null,"Moist vapor - xf",null,{"$f":"(AQ189-AQ204)/(AQ189-AQ206)","v":0.8714409672111586},null,null,"Moist vapor - xf",null,{"$f":"(AV189-AV204)/(AV189-AV206)","v":0.87471367209749418}]
["Cooling capacity",null,{"$f":"C210*(C173-C206)","v":6.3948373729937309},"kW",null,"Cooling capacity",null,{"$f":"H210*(H173-H206)","v":6.3532843666291203},"kW",null,"Cooling capacity",null,{"$f":"M210*(M173-M206)","v":6.3082330933211423},"kW",null,"Cooling capacity",null,{"$f":"R210*(R173-R206)","v":6.2599710569667932},"kW",null,"Cooling capacity",null,{"$f":"W210*(W173-W206)","v":6.2087433435149384},"kW",null,"Cooling capacity",null,{"$f":"AB210*(AB173-AB206)","v":6.1547611939647311},"kW",null,"Cooling capacity",null,{"$f":"AG210*(AG173-AG206)","v":6.098209649223147},"kW",null,"Cooling capacity",null,{"$f":"AL210*(AL173-AL206)","v":6.0392544215841157},"kW",null,"Cooling capacity",null,{"$f":"AQ210*(AQ173-AQ206)","v":5.9780481016161087},"kW",null,"Cooling capacity",null,{"$f":"AV210*(AV173-AV206)","v":5.9147357630111834},"kW"]
["Cooling COP",null,{"$f":"C208/C218","v":8.5215744080456286},null,null,"Cooling COP",null,{"$f":"H208/H218","v":6.9719097986142398},null,null,"Cooling COP",null,{"$f":"M208/M218","v":5.833314468989176},null,null,"Cooling COP",null,{"$f":"R208/R218","v":4.9624609777473552},null,null,"Cooling COP",null,{"$f":"W208/W218","v":4.2757116544144838},null,null,"Cooling COP",null,{"$f":"AB208/AB218","v":3.7208348033850411},null,null,"Cooling COP",null,{"$f":"AG208/AG218","v":3.2637055163367314},null,null,"Cooling COP",null,{"$f":"AL208/AL218","v":2.8810039412168535},null,null,"Cooling COP",null,{"$f":"AQ208/AQ218","v":2.5562715229389212},null,null,"Cooling COP",null,{"$f":"AV208/AV218","v":2.2775630931969251}]
["Refrigerant mass flow",null,2.5999999999999999E-2,"kg/s",null,"Refrigerant mass flow",null,{"$f":"C210","v":2.5999999999999999E-2},"kg/s",null,"Refrigerant mass flow",null,{"$f":"H210","v":2.5999999999999999E-2},"kg/s",null,"Refrigerant mass flow",null,{"$f":"M210","v":2.5999999999999999E-2},"kg/s",null,"Refrigerant mass flow",null,{"$f":"R210","v":2.5999999999999999E-2},"kg/s",null,"Refrigerant mass flow",null,{"$f":"W210","v":2.5999999999999999E-2},"kg/s",null,"Refrigerant mass flow",null,{"$f":"AB210","v":2.5999999999999999E-2},"kg/s",null,"Refrigerant mass flow",null,{"$f":"AG210","v":2.5999999999999999E-2},"kg/s",null,"Refrigerant mass flow",null,{"$f":"AL210","v":2.5999999999999999E-2},"kg/s",null,"Refrigerant mass flow",null,{"$f":"AQ210","v":2.5999999999999999E-2},"kg/s"]
["Volume flow",null,{"$f":"C212/3600","v":2.166666666666667E-3},"m3/s",null,"Volume flow",null,{"$f":"H212/3600","v":2.166666666666667E-3},"m3/s",null,"Volume flow",null,{"$f":"M212/3600","v":2.166666666666667E-3},"m3/s",null,"Volume flow",null,{"$f":"R212/3600","v":2.166666666666667E-3},"m3/s",null,"Volume flow",null,{"$f":"W212/3600","v":2.166666666666667E-3},"m3/s",null,"Volume flow",null,{"$f":"AB212/3600","v":2.166666666666667E-3},"m3/s",null,"Volume flow",null,{"$f":"AG212/3600","v":2.166666666666667E-3},"m3/s",null,"Volume flow",null,{"$f":"AL212/3600","v":2.166666666666667E-3},"m3/s",null,"Volume flow",null,{"$f":"AQ212/3600","v":2.166666666666667E-3},"m3/s",null,"Volume flow",null,{"$f":"AV212/3600","v":2.166666666666667E-3},"m3/s"]
["Volume flow",null,{"$f":"C214*C213","v":7.8000000000000007},"m3/h",null,"Volume flow",null,{"$f":"H214*H213","v":7.8000000000000007},"m3/h",null,"Volume flow",null,{"$f":"M214*M213","v":7.8000000000000007},"m3/h",null,"Volume flow",null,{"$f":"R214*R213","v":7.8000000000000007},"m3/h",null,"Volume flow",null,{"$f":"W214*W213","v":7.8000000000000007},"m3/h",null,"Volume flow",null,{"$f":"AB214*AB213","v":7.8000000000000007},"m3/h",null,"Volume flow",null,{"$f":"AG214*AG213","v":7.8000000000000007},"m3/h",null,"Volume flow",null,{"$f":"AL214*AL213","v":7.8000000000000007},"m3/h",null,"Volume flow",null,{"$f":"AQ214*AQ213","v":7.8000000000000007},"m3/h",null,"Volume flow",null,{"$f":"AV214*AV213","v":7.8000000000000007},"m3/h"]
["Volumetric efficiency",null,0.65,null,null,"Volumetric efficiency",null,0.65,null,null,"Volumetric efficiency",null,0.65,null,null,"Volumetric efficiency",null,0.65,null,null,"Volumetric efficiency",null,0.65,null,null,"Volumetric efficiency",null,0.65,null,null,"Volumetric efficiency",null,0.65,null,null,"Volumetric efficiency",null,0.65,null,null,"Volumetric efficiency",null,0.65,null,null,"Volumetric efficiency",null,0.65]
["Cylinder volume",null,12,"m3/h",null,"Cylinder volume",null,12,"m3/h",null,"Cylinder volume",null,12,"m3/h",null,"Cylinder volume",null,12,"m3/h",null,"Cylinder volume",null,12,"m3/h",null,"Cylinder volume",null,12,"m3/h",null,"Cylinder volume",null,12,"m3/h",null,"Cylinder volume",null,12,"m3/h",null,"Cylinder volume",null,12,"m3/h",null,"Cylinder volume",null,12,"m3/h"]
[]
["Compressor effect 1. compressor",null,{"$f":"(C210*C207)*(C183-C173)","v":0.13030450835616719},"kW",null,"Compressor effect 1. compressor",null,{"$f":"(H210*H207)*(H183-H173)","v":0.26914612430556489},"kW",null,"Compressor effect 1. compressor",null,{"$f":"(M210*M207)*(M183-M173)","v":0.41691593596807736},"kW",null,"Compressor effect 1. compressor",null,{"$f":"(R210*R207)*(R183-R173)","v":0.5740981350759522},"kW",null,"Compressor effect 1. compressor",null,{"$f":"(W210*W207)*(W183-W173)","v":0.74125893260378439},"kW",null,"Compressor effect 1. compressor",null,{"$f":"(AB210*AB207)*(AB183-AB173)","v":0.91910914734710936},"kW",null,"Compressor effect 1. compressor",null,{"$f":"(AG210*AG207)*(AG183-AG173)","v":1.1084479342872795},"kW",null,"Compressor effect 1. compressor",null,{"$f":"(AL210*AL207)*(AL183-AL173)","v":1.3102177880138208},"kW",null,"Compressor effect 1. compressor",null,{"$f":"(AQ210*AQ207)*(AQ183-AQ173)","v":1.5255165642446231},"kW",null,"Compressor effect 1. compressor",null,{"$f":"(AV210*AV207)*(AV183-AV173)","v":1.7556235903774493},"kW"]
["Compressor effect 2. compressor",null,{"$f":"C210*(C200-C189)","v":0.62012458687722727},"kW",null,"Compressor effect 2. compressor",null,{"$f":"H210*(H200-H189)","v":0.64212274608227637},"kW",null,"Compressor effect 2. compressor",null,{"$f":"M210*(M200-M189)","v":0.66449894863255721},"kW",null,"Compressor effect 2. compressor",null,{"$f":"R210*(R200-R189)","v":0.68736690919094023},"kW",null,"Compressor effect 2. compressor",null,{"$f":"W210*(W200-W189)","v":0.71083696284900744},"kW",null,"Compressor effect 2. compressor",null,{"$f":"AB210*(AB200-AB189)","v":0.73502534644052608},"kW",null,"Compressor effect 2. compressor",null,{"$f":"AG210*(AG200-AG189)","v":0.76004467900092465},"kW",null,"Compressor effect 2. compressor",null,{"$f":"AL210*(AL200-AL189)","v":0.78601482561922686},"kW",null,"Compressor effect 2. compressor",null,{"$f":"AQ210*(AQ200-AQ189)","v":0.81306446987932757},"kW",null,"Compressor effect 2. compressor",null,{"$f":"AV210*(AV200-AV189)","v":0.84133443931599083},"kW"]
["Compressor effect TOTAL",null,{"$f":"C217+C216","v":0.75042909523339452},"kW",null,"Compressor effect TOTAL",null,{"$f":"H217+H216","v":0.91126887038784132},"kW",null,"Compressor effect TOTAL",null,{"$f":"M217+M216","v":1.0814148846006346},"kW",null,"Compressor effect TOTAL",null,{"$f":"R217+R216","v":1.2614650442668924},"kW",null,"Compressor effect TOTAL",null,{"$f":"W217+W216","v":1.4520958954527918},"kW",null,"Compressor effect TOTAL",null,{"$f":"AB217+AB216","v":1.6541344937876354},"kW",null,"Compressor effect TOTAL",null,{"$f":"AG217+AG216","v":1.868492613288204},"kW",null,"Compressor effect TOTAL",null,{"$f":"AL217+AL216","v":2.0962326136330476},"kW",null,"Compressor effect TOTAL",null,{"$f":"AQ217+AQ216","v":2.3385810341239508},"kW",null,"Compressor effect TOTAL",null,{"$f":"AV217+AV216","v":2.59695802969344},"kW"]
["Over heating heat",null,{"$f":"(C210*(C200-C202))+((C210/2)*(C183-C185))","v":0.48893154234693592},"kW",null,"Over heating heat",null,{"$f":"(H210*(H200-H202))+((H210/2)*(H183-H185))","v":0.70157962631944149},"kW",null,"Over heating heat",null,{"$f":"(M210*(M200-M202))+((M210/2)*(M183-M185))","v":0.92214595865822102},"kW",null,"Over heating heat",null,{"$f":"(R210*(R200-R202))+((R210/2)*(R183-R185))","v":1.1520105769683535},"kW",null,"Over heating heat",null,{"$f":"(W210*(W200-W202))+((W210/2)*(W183-W185))","v":1.3925710793878587},"kW",null,"Over heating heat",null,{"$f":"(AB210*(AB200-AB202))+((AB210/2)*(AB183-AB185))","v":1.645382311068492},"kW",null,"Over heating heat",null,{"$f":"(AG210*(AG200-AG202))+((AG210/2)*(AG183-AG185))","v":1.9120619902906737},"kW",null,"Over heating heat",null,{"$f":"(AL210*(AL200-AL202))+((AL210/2)*(AL183-AL185))","v":2.1944093102393714},"kW",null,"Over heating heat",null,{"$f":"(AQ210*(AQ200-AQ202))+((AQ210/2)*(AQ183-AQ185))","v":2.4944344663555134},"kW",null,"Over heating heat",null,{"$f":"(AV210*(AV200-AV202))+((AV210/2)*(AV183-AV185))","v":2.8144117044936463},"kW"]
["Heating capacity",null,{"$f":"(C210*(C200-C204))","v":5.9063149851407468},"kW",null,"Heating capacity",null,{"$f":"(H210*(H200-H204))","v":6.0582953886575979},"kW",null,"Heating capacity",null,{"$f":"(M210*(M200-M204))","v":6.2152999781254916},"kW",null,"Heating capacity",null,{"$f":"(R210*(R200-R204))","v":6.3783322664766908},"kW",null,"Heating capacity",null,{"$f":"(W210*(W200-W204))","v":6.5483943787948373},"kW",null,"Heating capacity",null,{"$f":"(AB210*(AB200-AB204))","v":6.7265873249144592},"kW",null,"Heating capacity",null,{"$f":"(AG210*(AG200-AG204))","v":6.9140460219902273},"kW",null,"Heating capacity",null,{"$f":"(AL210*(AL200-AL204))","v":7.1120241886930016},"kW",null,"Heating capacity",null,{"$f":"(AQ210*(AQ200-AQ204))","v":7.3219155153007831},"kW",null,"Heating capacity",null,{"$f":"(AV210*(AV200-AV204))","v":7.5452909903207175},"kW"]
["Heating COP",null,{"$f":"C220/C218","v":7.8705836736031616},null,null,"Heating COP",null,{"$f":"H220/H218","v":6.6481974590870774},null,null,"Heating COP",null,{"$f":"M220/M218","v":5.747377871926366},null,null,"Heating COP",null,{"$f":"R220/R218","v":5.0562893482185194},null,null,"Heating COP",null,{"$f":"W220/W218","v":4.5096156523140092},null,null,"Heating COP",null,{"$f":"AB220/AB218","v":4.0665298681438697},null,null,"Heating COP",null,{"$f":"AG220/AG218","v":3.7003336126776416},null,null,"Heating COP",null,{"$f":"AL220/AL218","v":3.392764783087181},null,null,"Heating COP",null,{"$f":"AQ220/AQ218","v":3.1309223022257275},null,null,"Heating COP",null,{"$f":"AV220/AV218","v":2.905434321251394}]
["pluss (+) 2 kW water heating",null,{"$f":"(C220+2)/(C218+2)","v":2.8745750976975599},null,null,"pluss (+) 2 kW water heating",null,{"$f":"(H220+2)/(H218+2)","v":2.7679667345819783},null,null,"pluss (+) 2 kW water heating",null,{"$f":"(M220+2)/(M218+2)","v":2.6660804486865559},null,null,"pluss (+) 2 kW water heating",null,{"$f":"(R220+2)/(R218+2)","v":2.5688861149085103},null,null,"pluss (+) 2 kW water heating",null,{"$f":"(W220+2)/(W218+2)","v":2.4762911105844565},null,null,"pluss (+) 2 kW water heating",null,{"$f":"(AB220+2)/(AB218+2)","v":2.388140704659464},null,null,"pluss (+) 2 kW water heating",null,{"$f":"(AG220+2)/(AG218+2)","v":2.3042685906574141},null,null,"pluss (+) 2 kW water heating",null,{"$f":"(AL220+2)/(AL218+2)","v":2.2244889507413323},null,null,"pluss (+) 2 kW water heating",null,{"$f":"(AQ220+2)/(AQ218+2)","v":2.1486092899917613},null,null,"pluss (+) 2 kW water heating",null,{"$f":"(AV220+2)/(AV218+2)","v":2.076436401782261}]
[]
[]
["Evaporator temp",null,"Effect 1. comp",null,"Comp 1. out temp",null,"Effect 2. comp",null,"Comp 2. out temp",null,"Effect condenser",null,"COP","Inter mediat temp",null,"Inter mediat cooler",null,"Tot comp effect",null,"COP + water heating"]
[15,"˚C",null,"kW",null,"˚C",null,"kW",null,"˚C",null,"kW",{"$f":"K226/(C226+G226)","v":{"$error":"#DIV/0!"}},null,"˚C",null,"˚",{"$f":"C226+G226","v":0}]
[10,"˚C",null,"kW",null,"˚C",null,"kW",null,"˚C",null,"kW",{"$error":"#DIV/0!"},null,"˚C",null,"˚",{"$f":"C227+G227","v":0}]
[5,"˚C","Not possible to calculate whitout changing intermediat pressure/temperature","kW",null,"˚C",null,"kW",null,"˚C",null,"kW",{"$error":"#VALUE!"},null,"˚C",null,"˚",{"$error":"#VALUE!"}]
[0,"˚C",{"$f":"C216","v":0.13030450835616719},"kW",{"$f":"C184","v":10.93223897556072},"˚C",{"$f":"C217","v":0.62012458687722727},"kW",{"$f":"C201","v":38.996067891701607},"˚C",{"$f":"C220","v":5.9063149851407468},"kW",7.8705836736031616,5,"˚C",10,"˚",0.75042909523339452,"kW",{"$f":"(K229+2)/((C229+G229)+2)","v":2.8745750976975599}]
[-5,"˚C",{"$f":"H216","v":0.26914612430556489},"kW",{"$f":"H184","v":15.13801058048352},"˚C",{"$f":"H217","v":0.64212274608227637},"kW",{"$f":"H201","v":43.521145930707121},"˚C",{"$f":"H220","v":6.0582953886575979},"kW",6.6481974590870774,5,"˚C",10,"˚",0.91126887038784132,"kW",{"$f":"(K230+2)/((C230+G230)+2)","v":2.7679667345819783}]
[-10,"˚C",{"$f":"M216","v":0.41691593596807736},"kW",{"$f":"M184","v":19.642887323295099},"˚C",{"$f":"M217","v":0.66449894863255721},"kW",{"$f":"M201","v":48.365854231439407},"˚C",{"$f":"M220","v":6.2152999781254916},"kW",5.747377871926366,5,"˚C",10,"˚",1.0814148846006346,"kW",2.6660804486865559]
[-15,"˚C",{"$f":"R216","v":0.5740981350759522},"kW",{"$f":"R184","v":24.474268250112171},"˚C",{"$f":"R217","v":0.68736690919094023},"kW",{"$f":"R201","v":53.557398831515457},"˚C",{"$f":"R220","v":6.3783322664766908},"kW",5.0562893482185194,5,"˚C",10,"˚",1.2614650442668924,"kW",2.5688861149085103]
[-20,"˚C",{"$f":"W216","v":0.74125893260378439},"kW",{"$f":"W184","v":29.66091014359591},"˚C",{"$f":"W217","v":0.71083696284900744},"kW",{"$f":"W201","v":59.124488613008509},"˚C",{"$f":"W220","v":6.5483943787948373},"kW",4.5096156523140092,5,"˚C",10,"˚",1.4520958954527918,"kW",2.4762911105844565]
[-25,"˚C",{"$f":"AB216","v":0.91910914734710936},"kW",{"$f":"AB184","v":35.23552014881443},"˚C",{"$f":"AB217","v":0.73502534644052608},"kW",{"$f":"AB201","v":65.099932105313769},"˚C",{"$f":"AB220","v":6.7265873249144592},"kW",4.0665298681438697,5,"˚C",10,"˚",1.6541344937876354,"kW",2.388140704659464]
[-30,"˚C",{"$f":"AG216","v":1.1084479342872795},"kW",{"$f":"AG184","v":41.232289413145217},"˚C",{"$f":"AG217","v":0.76004467900092465},"kW",{"$f":"AG201","v":71.5179671138103},"˚C",{"$f":"AG220","v":6.9140460219902273},"kW",3.7003336126776416,5,"˚C",10,"˚",1.868492613288204,"kW",2.3042685906574141]
[-35,"˚C",{"$f":"AL216","v":1.3102177880138208},"kW",{"$f":"AL184","v":47.689034107705652},"˚C",{"$f":"AL217","v":0.78601482561922686},"kW",{"$f":"AL201","v":78.416547108662314},"˚C",{"$f":"AL220","v":7.1120241886930016},"kW",3.392764783087181,5,"˚C",10,"˚",2.0962326136330476,"kW",2.2244889507413323]
[-40,"˚C",{"$f":"AQ216","v":1.5255165642446231},"kW",{"$f":"AQ184","v":54.647457657370353},"˚C",{"$f":"AQ217","v":0.81306446987932757},"kW",{"$f":"AQ201","v":85.837616649233212},"˚C",{"$f":"AQ220","v":7.3219155153007831},"kW",3.1309223022257275,5,"˚C",10,"˚",2.3385810341239508,"kW",2.1486092899917613]
[-45,"˚C",{"$f":"AV216","v":1.7556235903774493},"kW",{"$f":"AV184","v":62.15391691485712},"˚C",{"$f":"AV217","v":0.84133443931599083},"kW",{"$f":"AV201","v":93.82793236770766},"˚C",{"$f":"AV220","v":7.5452909903207175},"kW",2.905434321251394,5,"˚C",10,"˚",2.59695802969344,"kW",2.076436401782261]
[]
[]
[]
[]
[]
[]
[]
[]
[]
[]
[]
[]
[]
[]
[]
[]
[]
[]
[]
[]
[]
[]
[]
[]
[]
[]
[]
[]
[]
[]
[]
[]
[]
[]
[]
["Refrigerant",null,"R744",null,null,"Refrigerant",null,{"$f":"C274","v":"R744"},null,null,"Refrigerant",null,{"$f":"H274","v":"R744"},null,null,"Refrigerant",null,{"$f":"M274","v":"R744"},null,null,"Refrigerant",null,{"$f":"R274","v":"R744"},null,null,"Refrigerant",null,{"$f":"W274","v":"R744"},null,null,"Refrigerant",null,{"$f":"AB274","v":"R744"},null,null,"Refrigerant",null,{"$f":"AG274","v":"R744"},null,null,"Refrigerant",null,{"$f":"AL274","v":"R744"},null,null,"Refrigerant",null,{"$f":"AQ274","v":"R744"}]
["Two-stage Compression",null,null,null,null,"Two-stage Compression",null,null,null,null,"Two-stage Compression",null,null,null,null,"Two-stage Compression",null,null,null,null,"Two-stage Compression",null,null,null,null,"Two-stage Compression",null,null,null,null,"Two-stage Compression",null,null,null,null,"Two-stage Compression",null,null,null,null,"Two-stage Compression",null,null,null,null,"Two-stage Compression"]
["Evaporation temperature",null,0,"˚C",null,"Evaporation temperature",null,-5,"˚C",null,"Evaporation temperature",null,-10,"˚C",null,"Evaporation temperature",null,-15,"˚C",null,"Evaporation temperature",null,-20,"˚C",null,"Evaporation temperature",null,-25,"˚C",null,"Evaporation temperature",null,-30,"˚C",null,"Evaporation temperature",null,-35,"˚C",null,"Evaporation temperature",null,-40,"˚C",null,"Evaporation temperature",null,-45,"˚C"]
["Evaporation pressure",null,{"$f":"r_psatgasT(C274,C276)/100000","v":34.857100117363849},"bar",null,"Evaporation pressure",null,{"$f":"r_psatgasT(H274,H276)/100000","v":30.468381507857156},"bar",null,"Evaporation pressure",null,{"$f":"r_psatgasT(M274,M276)/100000","v":26.498315391995458},"bar",null,"Evaporation pressure",null,{"$f":"r_psatgasT(R274,R276)/100000","v":22.919665892491071},"bar",null,"Evaporation pressure",null,{"$f":"r_psatgasT(W274,W276)/100000","v":19.707231041169571},"bar",null,"Evaporation pressure",null,{"$f":"r_psatgasT(AB274,AB276)/100000","v":16.837149787978237},"bar",null,"Evaporation pressure",null,{"$f":"r_psatgasT(AG274,AG276)/100000","v":14.2864023515114},"bar",null,"Evaporation pressure",null,{"$f":"r_psatgasT(AL274,AL276)/100000","v":12.0324759881664},"bar",null,"Evaporation pressure",null,{"$f":"r_psatgasT(AQ274,AQ276)/100000","v":10.053174076799701},"bar",null,"Evaporation pressure",null,{"$f":"r_psatgasT(AV274,AV276)/100000","v":8.3265482273138662},"bar"]
["Temperature in to compressor",null,{"$f":"C276+2","v":2},"˚C",null,"Temperature in to compressor",null,{"$f":"H276+2","v":-3},"˚C",null,"Temperature in to compressor",null,{"$f":"M276+2","v":-8},"˚C",null,"Temperature in to compressor",null,{"$f":"R276+2","v":-13},"˚C",null,"Temperature in to compressor",null,{"$f":"W276+2","v":-18},"˚C",null,"Temperature in to compressor",null,{"$f":"AB276+2","v":-23},"˚C",null,"Temperature in to compressor",null,{"$f":"AG276+2","v":-28},"˚C",null,"Temperature in to compressor",null,{"$f":"AL276+2","v":-33},"˚C",null,"Temperature in to compressor",null,{"$f":"AQ276+2","v":-38},"˚C",null,"Temperature in to compressor",null,{"$f":"AV276+2","v":-43},"˚C"]
["1. Compressor",null,null,null,null,"1. Compressor",null,null,null,null,"1. Compressor",null,null,null,null,"1. Compressor",null,null,null,null,"1. Compressor",null,null,null,null,"1. Compressor",null,null,null,null,"1. Compressor",null,null,null,null,"1. Compressor",null,null,null,null,"1. Compressor",null,null,null,null,"1. Compressor"]
["Enthalpy input compressor",null,{"$f":"r_hgastp(C274,C278,C277*100000)/1000","v":435.80240191166081},"kJ/kg",null,"Enthalpy input compressor",null,{"$f":"r_hgastp(H274,H278,H277*100000)/1000","v":437.88725187867578},"kJ/kg",null,"Enthalpy input compressor",null,{"$f":"r_hgastp(M274,M278,M277*100000)/1000","v":439.2994106446522},"kJ/kg",null,"Enthalpy input compressor",null,{"$f":"r_hgastp(R274,R278,R277*100000)/1000","v":440.14163138448458},"kJ/kg",null,"Enthalpy input compressor",null,{"$f":"r_hgastp(W274,W278,W277*100000)/1000","v":440.49195953246669},"kJ/kg",null,"Enthalpy input compressor",null,{"$f":"r_hgastp(AB274,AB278,AB277*100000)/1000","v":440.41180756801691},"kJ/kg",null,"Enthalpy input compressor",null,{"$f":"r_hgastp(AG274,AG278,AG277*100000)/1000","v":439.95114380147959},"kJ/kg",null,"Enthalpy input compressor",null,{"$f":"r_hgastp(AL274,AL278,AL277*100000)/1000","v":439.15192062485249},"kJ/kg",null,"Enthalpy input compressor",null,{"$f":"r_hgastp(AQ274,AQ278,AQ277*100000)/1000","v":438.05038354014289},"kJ/kg",null,"Enthalpy input compressor",null,{"$f":"r_hgastp(AV274,AV278,AV277*100000)/1000","v":436.67863788501131},"kJ/kg"]
["Entropy",null,{"$f":"R_SgasTP(C274,C278,C277*100000)","v":1865.069910177159},"J/kgK",null,"Entropy",null,{"$f":"R_SgasTP(H274,H278,H277*100000)","v":1890.61409725608},"J/kgK",null,"Entropy",null,{"$f":"R_SgasTP(M274,M278,M277*100000)","v":1915.113534724929},"J/kgK",null,"Entropy",null,{"$f":"R_SgasTP(R274,R278,R277*100000)","v":1938.9494437580011},"J/kgK",null,"Entropy",null,{"$f":"R_SgasTP(W274,W278,W277*100000)","v":1962.443590227711},"J/kgK",null,"Entropy",null,{"$f":"R_SgasTP(AB274,AB278,AB277*100000)","v":1985.8855698609259},"J/kgK",null,"Entropy",null,{"$f":"R_SgasTP(AG274,AG278,AG277*100000)","v":2009.550973932558},"J/kgK",null,"Entropy",null,{"$f":"R_SgasTP(AL274,AL278,AL277*100000)","v":2033.7129582427001},"J/kgK",null,"Entropy",null,{"$f":"R_SgasTP(AQ274,AQ278,AQ277*100000)","v":2058.647585039259},"J/kgK",null,"Entropy",null,{"$f":"R_SgasTP(AV274,AV278,AV277*100000)","v":2084.6314118469741},"J/kgK"]
["Specific volume",null,{"$f":"R_vgasTP(C274,C278,C277*100000)","v":1.050166950199527E-2},"m3/kg",null,"Specific volume",null,{"$f":"R_vgasTP(H274,H278,H277*100000)","v":1.2263395743855579E-2},"m3/kg",null,"Specific volume",null,{"$f":"R_vgasTP(M274,M278,M277*100000)","v":1.4326568453885869E-2},"m3/kg",null,"Specific volume",null,{"$f":"R_vgasTP(R274,R278,R277*100000)","v":1.6762449059681411E-2},"m3/kg",null,"Specific volume",null,{"$f":"R_vgasTP(W274,W278,W277*100000)","v":1.9660990726270412E-2},"m3/kg",null,"Specific volume",null,{"$f":"R_vgasTP(AB274,AB278,AB277*100000)","v":2.3137082968493559E-2},"m3/kg",null,"Specific volume",null,{"$f":"R_vgasTP(AG274,AG278,AG277*100000)","v":2.7339169064856051E-2},"m3/kg",null,"Specific volume",null,{"$f":"R_vgasTP(AL274,AL278,AL277*100000)","v":3.2461387899901141E-2},"m3/kg",null,"Specific volume",null,{"$f":"R_vgasTP(AQ274,AQ278,AQ277*100000)","v":3.8761043062282757E-2},"m3/kg",null,"Specific volume",null,{"$f":"R_vgasTP(AV274,AV278,AV277*100000)","v":4.6584301383920737E-2},"m3/kg"]
[]
["Intermediat temperature",null,5,"˚C",null,"Intermediat temperature",null,5,"˚C",null,"Intermediat temperature",null,5,"˚C",null,"Intermediat temperature",null,5,"˚C",null,"Intermediat temperature",null,5,"˚C",null,"Intermediat temperature",null,5,"˚C",null,"Intermediat temperature",null,5,"˚C",null,"Intermediat temperature",null,5,"˚C",null,"Intermediat temperature",null,5,"˚C",null,"Intermediat temperature",null,5,"˚C"]
["Intermediat pressure",null,{"$f":"r_psatgasT(C274,C284)/100000","v":39.694668858030347},"bar",null,"Intermediat pressure",null,{"$f":"r_psatgasT(H274,H284)/100000","v":39.694668858030347},"bar",null,"Intermediat pressure",null,{"$f":"r_psatgasT(M274,M284)/100000","v":39.694668858030347},"bar",null,"Intermediat pressure",null,{"$f":"r_psatgasT(R274,R284)/100000","v":39.694668858030347},"bar",null,"Intermediat pressure",null,{"$f":"r_psatgasT(W274,W284)/100000","v":39.694668858030347},"bar",null,"Intermediat pressure",null,{"$f":"r_psatgasT(AB274,AB284)/100000","v":39.694668858030347},"bar",null,"Intermediat pressure",null,{"$f":"r_psatgasT(AG274,AG284)/100000","v":39.694668858030347},"bar",null,"Intermediat pressure",null,{"$f":"r_psatgasT(AL274,AL284)/100000","v":39.694668858030347},"bar",null,"Intermediat pressure",null,{"$f":"r_psatgasT(AQ274,AQ284)/100000","v":39.694668858030347},"bar",null,"Intermediat pressure",null,{"$f":"r_psatgasT(AV274,AV284)/100000","v":39.694668858030347},"bar"]
["Intermediat pressure ratio",null,{"$f":"C285/C277","v":1.1387828799406263},null,null,"Intermediat pressure ratio",null,{"$f":"H285/H277","v":1.3028151445390668},null,null,"Intermediat pressure ratio",null,{"$f":"M285/M277","v":1.4980072608699195},null,null,"Intermediat pressure ratio",null,{"$f":"R285/R277","v":1.731904341198756},null,null,"Intermediat pressure ratio",null,{"$f":"W285/W277","v":2.0142184751934877},null,null,"Intermediat pressure ratio",null,{"$f":"AB285/AB277","v":2.3575646328437627},null,null,"Intermediat pressure ratio",null,{"$f":"AG285/AG277","v":2.7784929950423054},null,null,"Intermediat pressure ratio",null,{"$f":"AL285/AL277","v":3.2989609866721472},null,null,"Intermediat pressure ratio",null,{"$f":"AQ285/AQ277","v":3.9484712544305842},null,null,"Intermediat pressure ratio",null,{"$f":"AV285/AV277","v":4.7672418118973408}]
["Isentropic efficiency",null,0.7,null,null,"Isentropic efficiency",null,0.7,null,null,"Isentropic efficiency",null,0.7,null,null,"Isentropic efficiency",null,0.7,null,null,"Isentropic efficiency",null,0.7,null,null,"Isentropic efficiency",null,0.7,null,null,"Isentropic efficiency",null,0.7,null,null,"Isentropic efficiency",null,0.7,null,null,"Isentropic efficiency",null,0.7,null,null,"Isentropic efficiency",null,0.7]
[]
["Isentropic entalpy",null,{"$f":"R_hgasSP(C274,C281,C285*100000)/1000","v":440.49506237353796},"kJ/kg",null,"Isentropic entalpy",null,{"$f":"R_hgasSP(H274,H281,H285*100000)/1000","v":447.77673048608233},"kJ/kg",null,"Isentropic entalpy",null,{"$f":"R_hgasSP(M274,M281,M285*100000)/1000","v":454.88587862932792},"kJ/kg",null,"Isentropic entalpy",null,{"$f":"R_hgasSP(R274,R281,R285*100000)/1000","v":461.93427660816866},"kJ/kg",null,"Isentropic entalpy",null,{"$f":"R_hgasSP(W274,W281,W285*100000)/1000","v":469.04080521181669},"kJ/kg",null,"Isentropic entalpy",null,{"$f":"R_hgasSP(AB274,AB281,AB285*100000)/1000","v":476.23890782637886},"kJ/kg",null,"Isentropic entalpy",null,{"$f":"R_hgasSP(AG274,AG281,AG285*100000)/1000","v":483.68353757812798},"kJ/kg",null,"Isentropic entalpy",null,{"$f":"R_hgasSP(AL274,AL281,AL285*100000)/1000","v":491.45415310768607},"kJ/kg",null,"Isentropic entalpy",null,{"$f":"R_hgasSP(AQ274,AQ281,AQ285*100000)/1000","v":499.65784568574082},"kJ/kg",null,"Isentropic entalpy",null,{"$f":"R_hgasSP(AV274,AV281,AV285*100000)/1000","v":508.40943019170027},"kJ/kg"]
["Real entropy",null,{"$f":"C280+(C289-C280)/C287","v":442.50620257148529},"kJ/kg",null,"Real entropy",null,{"$f":"H280+(H289-H280)/H287","v":452.01507846068512},"kJ/kg",null,"Real entropy",null,{"$f":"M280+(M289-M280)/M287","v":461.56579347990322},"kJ/kg",null,"Real entropy",null,{"$f":"R280+(R289-R280)/R287","v":471.27398170403325},"kJ/kg",null,"Real entropy",null,{"$f":"W280+(W289-W280)/W287","v":481.27602478868096},"kJ/kg",null,"Real entropy",null,{"$f":"AB280+(AB289-AB280)/AB287","v":491.59337936567687},"kJ/kg",null,"Real entropy",null,{"$f":"AG280+(AG289-AG280)/AG287","v":502.42599205383442},"kJ/kg",null,"Real entropy",null,{"$f":"AL280+(AL289-AL280)/AL287","v":513.86939560032897},"kJ/kg",null,"Real entropy",null,{"$f":"AQ280+(AQ289-AQ280)/AQ287","v":526.06104374813992},"kJ/kg",null,"Real entropy",null,{"$f":"AV280+(AV289-AV280)/AV287","v":539.15119832313837},"kJ/kg"]
["Temperature out of compressor",null,{"$f":"R_tgasHP(C274,C290*1000,C285*100000)","v":12.284841712169049},"˚C",null,"Temperature out of compressor",null,{"$f":"R_tgasHP(H274,H290*1000,H285*100000)","v":18.226548877417429},"˚C",null,"Temperature out of compressor",null,{"$f":"R_tgasHP(M274,M290*1000,M285*100000)","v":24.80965911559241},"˚C",null,"Temperature out of compressor",null,{"$f":"R_tgasHP(R274,R290*1000,R285*100000)","v":32.088931898052749},"˚C",null,"Temperature out of compressor",null,{"$f":"R_tgasHP(W274,W290*1000,W285*100000)","v":39.943969826124828},"˚C",null,"Temperature out of compressor",null,{"$f":"R_tgasHP(AB274,AB290*1000,AB285*100000)","v":48.498241739893729},"˚C",null,"Temperature out of compressor",null,{"$f":"R_tgasHP(AG274,AG290*1000,AG285*100000)","v":57.819486405864318},"˚C",null,"Temperature out of compressor",null,{"$f":"R_tgasHP(AL274,AL290*1000,AL285*100000)","v":67.95528699189282},"˚C",null,"Temperature out of compressor",null,{"$f":"R_tgasHP(AQ274,AQ290*1000,AQ285*100000)","v":78.996414260585141},"˚C",null,"Temperature out of compressor",null,{"$f":"R_tgasHP(AV274,AV290*1000,AV285*100000)","v":91.050994283553507},"˚C"]
["Enthalpy on the dewpoint line",null,{"$f":"R_hsatgasT(C274,C284)/1000","v":428.62405835012709},"kJ/kg",null,"Enthalpy on the dewpoint line",null,{"$f":"R_hsatgasT(H274,H284)/1000","v":428.62405835012709},"kJ/kg",null,"Enthalpy on the dewpoint line",null,{"$f":"R_hsatgasT(M274,M284)/1000","v":428.62405835012709},"kJ/kg",null,"Enthalpy on the dewpoint line",null,{"$f":"R_hsatgasT(R274,R284)/1000","v":428.62405835012709},"kJ/kg",null,"Enthalpy on the dewpoint line",null,{"$f":"R_hsatgasT(W274,W284)/1000","v":428.62405835012709},"kJ/kg",null,"Enthalpy on the dewpoint line",null,{"$f":"R_hsatgasT(AB274,AB284)/1000","v":428.62405835012709},"kJ/kg",null,"Enthalpy on the dewpoint line",null,{"$f":"R_hsatgasT(AG274,AG284)/1000","v":428.62405835012709},"kJ/kg",null,"Enthalpy on the dewpoint line",null,{"$f":"R_hsatgasT(AL274,AL284)/1000","v":428.62405835012709},"kJ/kg",null,"Enthalpy on the dewpoint line",null,{"$f":"R_hsatgasT(AQ274,AQ284)/1000","v":428.62405835012709},"kJ/kg",null,"Enthalpy on the dewpoint line",null,{"$f":"R_hsatgasT(AV274,AV284)/1000","v":428.62405835012709},"kJ/kg"]
["2. Compressor",null,null,null,null,"2. Compressor",null,null,null,null,"2. Compressor",null,null,null,null,"2. Compressor",null,null,null,null,"2. Compressor",null,null,null,null,"2. Compressor",null,null,null,null,"2. Compressor",null,null,null,null,"2. Compressor",null,null,null,null,"2. Compressor",null,null,null,null,"2. Compressor"]
["Intermediat cooling",null,10,"K",null,"Intermediat cooling",null,10,"K",null,"Intermediat cooling",null,10,"K",null,"Intermediat cooling",null,10,"K",null,"Intermediat cooling",null,10,"K",null,"Intermediat cooling",null,10,"K",null,"Intermediat cooling",null,10,"K",null,"Intermediat cooling",null,10,"K",null,"Intermediat cooling",null,10,"K",null,"Intermediat cooling",null,10,"K"]
["Temperature in to compressor",null,{"$f":"C291-C294","v":2.2848417121690492},"˚C",null,"Temperature in to compressor",null,{"$f":"H291-H294","v":8.2265488774174287},"˚C",null,"Temperature in to compressor",null,{"$f":"M291-M294","v":14.80965911559241},"˚C",null,"Temperature in to compressor",null,{"$f":"R291-R294","v":22.088931898052749},"˚C",null,"Temperature in to compressor",null,{"$f":"W291-W294","v":29.943969826124828},"˚C",null,"Temperature in to compressor",null,{"$f":"AB291-AB294","v":38.498241739893729},"˚C",null,"Temperature in to compressor",null,{"$f":"AG291-AG294","v":47.819486405864318},"˚C",null,"Temperature in to compressor",null,{"$f":"AL291-AL294","v":57.95528699189282},"˚C",null,"Temperature in to compressor",null,{"$f":"AQ291-AQ294","v":68.996414260585141},"˚C",null,"Temperature in to compressor",null,{"$f":"AV291-AV294","v":81.050994283553507},"˚C"]
["Enthalpy input compressor",null,{"$f":"r_hgastp(C274,C295,C285*100000)/1000","v":205.86962045107651},"kJ/kg",null,"Enthalpy input compressor",null,{"$f":"r_hgastp(H274,H295,H285*100000)/1000","v":435.26266372945742},"kJ/kg",null,"Enthalpy input compressor",null,{"$f":"r_hgastp(M274,M295,M285*100000)/1000","v":446.67693885044287},"kJ/kg",null,"Enthalpy input compressor",null,{"$f":"r_hgastp(R274,R295,R285*100000)/1000","v":457.71729793717731},"kJ/kg",null,"Enthalpy input compressor",null,{"$f":"r_hgastp(W274,W295,W285*100000)/1000","v":468.4519890087771},"kJ/kg",null,"Enthalpy input compressor",null,{"$f":"r_hgastp(AB274,AB295,AB285*100000)/1000","v":479.4859831427537},"kJ/kg",null,"Enthalpy input compressor",null,{"$f":"r_hgastp(AG274,AG295,AG285*100000)/1000","v":490.78969069150202},"kJ/kg",null,"Enthalpy input compressor",null,{"$f":"r_hgastp(AL274,AL295,AL285*100000)/1000","v":502.5813481212229},"kJ/kg",null,"Enthalpy input compressor",null,{"$f":"r_hgastp(AQ274,AQ295,AQ285*100000)/1000","v":515.02959040707685},"kJ/kg",null,"Enthalpy input compressor",null,{"$f":"r_hgastp(AV274,AV295,AV285*100000)/1000","v":528.3059602937484},"kJ/kg"]
["Entropy",null,{"$f":"R_SgasTP(C274,C295,C285*100000)","v":1021.857819573164},"J/kgK",null,"Entropy",null,{"$f":"R_SgasTP(H274,H295,H285*100000)","v":1846.454214445504},"J/kgK",null,"Entropy",null,{"$f":"R_SgasTP(M274,M295,M285*100000)","v":1886.784405978929},"J/kgK",null,"Entropy",null,{"$f":"R_SgasTP(R274,R295,R285*100000)","v":1924.7440677480431},"J/kgK",null,"Entropy",null,{"$f":"R_SgasTP(W274,W295,W285*100000)","v":1960.5100661413569},"J/kgK",null,"Entropy",null,{"$f":"R_SgasTP(AB274,AB295,AB285*100000)","v":1996.270837541892},"J/kgK",null,"Entropy",null,{"$f":"R_SgasTP(AG274,AG295,AG285*100000)","v":2031.667920858077},"J/kgK",null,"Entropy",null,{"$f":"R_SgasTP(AL274,AL295,AL285*100000)","v":2067.3965082030099},"J/kgK",null,"Entropy",null,{"$f":"R_SgasTP(AQ274,AQ295,AQ285*100000)","v":2103.8875313815402},"J/kgK",null,"Entropy",null,{"$f":"R_SgasTP(AV274,AV295,AV285*100000)","v":2141.5380079484648},"J/kgK"]
["Specific volume",null,{"$f":"R_vgasTP(C274,C295,C285*100000)","v":1.0926706000742681E-3},"m3/kg",null,"Specific volume",null,{"$f":"R_vgasTP(H274,H295,H285*100000)","v":9.1341958222804463E-3},"m3/kg",null,"Specific volume",null,{"$f":"R_vgasTP(M274,M295,M285*100000)","v":9.8606841528656956E-3},"m3/kg",null,"Specific volume",null,{"$f":"R_vgasTP(R274,R295,R285*100000)","v":1.0561884039507689E-2},"m3/kg",null,"Specific volume",null,{"$f":"R_vgasTP(W274,W295,W285*100000)","v":1.124324077045555E-2},"m3/kg",null,"Specific volume",null,{"$f":"R_vgasTP(AB274,AB295,AB285*100000)","v":1.1930237333406569E-2},"m3/kg",null,"Specific volume",null,{"$f":"R_vgasTP(AG274,AG295,AG285*100000)","v":1.262937995799788E-2},"m3/kg",null,"Specific volume",null,{"$f":"R_vgasTP(AL274,AL295,AL285*100000)","v":1.334853545276463E-2},"m3/kg",null,"Specific volume",null,{"$f":"R_vgasTP(AQ274,AQ295,AQ285*100000)","v":1.409568073900423E-2},"m3/kg",null,"Specific volume",null,{"$f":"R_vgasTP(AV274,AV295,AV285*100000)","v":1.4878583646830141E-2},"m3/kg"]
[]
["Condensating temperature",null,28,"˚C",null,"Condensating temperature",null,28,"˚C",null,"Condensating temperature",null,28,"˚C",null,"Condensating temperature",null,28,"˚C",null,"Condensating temperature",null,28,"˚C",null,"Condensating temperature",null,28,"˚C",null,"Condensating temperature",null,28,"˚C",null,"Condensating temperature",null,28,"˚C",null,"Condensating temperature",null,28,"˚C",null,"Condensating temperature",null,28,"˚C"]
["Condensating pressure",null,{"$f":"r_psatgasT(C274,C300)/100000","v":68.892048623022362},"bar",null,"Condensating pressure",null,{"$f":"r_psatgasT(H274,H300)/100000","v":68.892048623022362},"bar",null,"Condensating pressure",null,{"$f":"r_psatgasT(M274,M300)/100000","v":68.892048623022362},"bar",null,"Condensating pressure",null,{"$f":"r_psatgasT(R274,R300)/100000","v":68.892048623022362},"bar",null,"Condensating pressure",null,{"$f":"r_psatgasT(W274,W300)/100000","v":68.892048623022362},"bar",null,"Condensating pressure",null,{"$f":"r_psatgasT(AB274,AB300)/100000","v":68.892048623022362},"bar",null,"Condensating pressure",null,{"$f":"r_psatgasT(AG274,AG300)/100000","v":68.892048623022362},"bar",null,"Condensating pressure",null,{"$f":"r_psatgasT(AL274,AL300)/100000","v":68.892048623022362},"bar",null,"Condensating pressure",null,{"$f":"r_psatgasT(AQ274,AQ300)/100000","v":68.892048623022362},"bar",null,"Condensating pressure",null,{"$f":"r_psatgasT(AV274,AV300)/100000","v":68.892048623022362},"bar"]
["Pressure ration",null,{"$f":"C301/C285","v":1.735549145640128},null,null,"Pressure ration",null,{"$f":"H301/H285","v":1.735549145640128},null,null,"Pressure ration",null,{"$f":"M301/M285","v":1.735549145640128},null,null,"Pressure ration",null,{"$f":"R301/R285","v":1.735549145640128},null,null,"Pressure ration",null,{"$f":"W301/W285","v":1.735549145640128},null,null,"Pressure ration",null,{"$f":"AB301/AB285","v":1.735549145640128},null,null,"Pressure ration",null,{"$f":"AG301/AG285","v":1.735549145640128},null,null,"Pressure ration",null,{"$f":"AL301/AL285","v":1.735549145640128},null,null,"Pressure ration",null,{"$f":"AQ301/AQ285","v":1.735549145640128},null,null,"Pressure ration",null,{"$f":"AV301/AV285","v":1.735549145640128}]
["Pressure ration TOTAL",null,{"$f":"C301/C277","v":1.9764136543505584},null,null,"Pressure ration TOTAL",null,{"$f":"H301/H277","v":2.2610997110317967},null,null,"Pressure ration TOTAL",null,{"$f":"M301/M277","v":2.5998652217654974},null,null,"Pressure ration TOTAL",null,{"$f":"R301/R277","v":3.0058050996979295},null,null,"Pressure ration TOTAL",null,{"$f":"W301/W277","v":3.4957751537546193},null,null,"Pressure ration TOTAL",null,{"$f":"AB301/AB277","v":4.0916692843233742},null,null,"Pressure ration TOTAL",null,{"$f":"AG301/AG277","v":4.8222111437127539},null,null,"Pressure ration TOTAL",null,{"$f":"AL301/AL277","v":5.7255089219189585},null,null,"Pressure ration TOTAL",null,{"$f":"AQ301/AQ277","v":6.8527659122116047},null,null,"Pressure ration TOTAL",null,{"$f":"AV301/AV277","v":8.2737824536983258}]
["Isentropic efficiency",null,0.7,null,null,"Isentropic efficiency",null,0.7,null,null,"Isentropic efficiency",null,0.7,null,null,"Isentropic efficiency",null,0.7,null,null,"Isentropic efficiency",null,0.7,null,null,"Isentropic efficiency",null,0.7,null,null,"Isentropic efficiency",null,0.7,null,null,"Isentropic efficiency",null,0.7,null,null,"Isentropic efficiency",null,0.7,null,null,"Isentropic efficiency",null,0.7]
[]
["Isentropic entalpy",null,{"$f":"R_hgasSP(C274,C297,C301*100000)/1000","v":209.0003208900105},"kJ/kg",null,"Isentropic entalpy",null,{"$f":"R_hgasSP(H274,H297,H301*100000)/1000","v":456.64253109216457},"kJ/kg",null,"Isentropic entalpy",null,{"$f":"R_hgasSP(M274,M297,M301*100000)/1000","v":469.93693233213537},"kJ/kg",null,"Isentropic entalpy",null,{"$f":"R_hgasSP(R274,R297,R301*100000)/1000","v":482.77260472593241},"kJ/kg",null,"Isentropic entalpy",null,{"$f":"R_hgasSP(W274,W297,W301*100000)/1000","v":495.1783981850499},"kJ/kg",null,"Isentropic entalpy",null,{"$f":"R_hgasSP(AB274,AB297,AB301*100000)/1000","v":507.90356330609688},"kJ/kg",null,"Isentropic entalpy",null,{"$f":"R_hgasSP(AG274,AG297,AG301*100000)/1000","v":520.83020665112679},"kJ/kg",null,"Isentropic entalpy",null,{"$f":"R_hgasSP(AL274,AL297,AL301*100000)/1000","v":534.22484692969556},"kJ/kg",null,"Isentropic entalpy",null,{"$f":"R_hgasSP(AQ274,AQ297,AQ301*100000)/1000","v":548.27940067345924},"kJ/kg",null,"Isentropic entalpy",null,{"$f":"R_hgasSP(AV274,AV297,AV301*100000)/1000","v":563.19390699873361},"kJ/kg"]
["Real entropy",null,{"$f":"C296+(C306-C296)/C304","v":210.34204964955364},"kJ/kg",null,"Real entropy",null,{"$f":"H296+(H306-H296)/H304","v":465.80533139046764},"kJ/kg",null,"Real entropy",null,{"$f":"M296+(M306-M296)/M304","v":479.90550096714645},"kJ/kg",null,"Real entropy",null,{"$f":"R296+(R306-R296)/R304","v":493.5105933496846},"kJ/kg",null,"Real entropy",null,{"$f":"W296+(W306-W296)/W304","v":506.63257354630969},"kJ/kg",null,"Real entropy",null,{"$f":"AB296+(AB306-AB296)/AB304","v":520.08252623324393},"kJ/kg",null,"Real entropy",null,{"$f":"AG296+(AG306-AG296)/AG304","v":533.70471349096601},"kJ/kg",null,"Real entropy",null,{"$f":"AL296+(AL306-AL296)/AL304","v":547.78634641904102},"kJ/kg",null,"Real entropy",null,{"$f":"AQ296+(AQ306-AQ296)/AQ304","v":562.52931935905167},"kJ/kg",null,"Real entropy",null,{"$f":"AV296+(AV306-AV296)/AV304","v":578.14588415801302},"kJ/kg"]
["Temperature out of compressor",null,{"$f":"R_tgasHP(C274,C307*1000,C301*100000)","v":5.3543600925468127},"˚C",null,"Temperature out of compressor",null,{"$f":"R_tgasHP(H274,H307*1000,H301*100000)","v":55.173949613654202},"˚C",null,"Temperature out of compressor",null,{"$f":"R_tgasHP(M274,M307*1000,M301*100000)","v":63.998905269343027},"˚C",null,"Temperature out of compressor",null,{"$f":"R_tgasHP(R274,R307*1000,R301*100000)","v":73.343344287685682},"˚C",null,"Temperature out of compressor",null,{"$f":"R_tgasHP(W274,W307*1000,W301*100000)","v":82.980769688907571},"˚C",null,"Temperature out of compressor",null,{"$f":"R_tgasHP(AB274,AB307*1000,AB301*100000)","v":93.367478484126195},"˚C",null,"Temperature out of compressor",null,{"$f":"R_tgasHP(AG274,AG307*1000,AG301*100000)","v":104.3002504556365},"˚C",null,"Temperature out of compressor",null,{"$f":"R_tgasHP(AL274,AL307*1000,AL301*100000)","v":115.9414601508734},"˚C",null,"Temperature out of compressor",null,{"$f":"R_tgasHP(AQ274,AQ307*1000,AQ301*100000)","v":128.41303652973281},"˚C",null,"Temperature out of compressor",null,{"$f":"R_tgasHP(AV274,AV307*1000,AV301*100000)","v":141.86151150571581},"˚C"]
["Enthalpy on the dewpoint line",null,{"$f":"R_hsatgasT(C274,C300)/1000","v":381.93268732650728},"kJ/kg",null,"Enthalpy on the dewpoint line",null,{"$f":"R_hsatgasT(H274,H300)/1000","v":381.93268732650728},"kJ/kg",null,"Enthalpy on the dewpoint line",null,{"$f":"R_hsatgasT(M274,M300)/1000","v":381.93268732650728},"kJ/kg",null,"Enthalpy on the dewpoint line",null,{"$f":"R_hsatgasT(R274,R300)/1000","v":381.93268732650728},"kJ/kg",null,"Enthalpy on the dewpoint line",null,{"$f":"R_hsatgasT(W274,W300)/1000","v":381.93268732650728},"kJ/kg",null,"Enthalpy on the dewpoint line",null,{"$f":"R_hsatgasT(AB274,AB300)/1000","v":381.93268732650728},"kJ/kg",null,"Enthalpy on the dewpoint line",null,{"$f":"R_hsatgasT(AG274,AG300)/1000","v":381.93268732650728},"kJ/kg",null,"Enthalpy on the dewpoint line",null,{"$f":"R_hsatgasT(AL274,AL300)/1000","v":381.93268732650728},"kJ/kg",null,"Enthalpy on the dewpoint line",null,{"$f":"R_hsatgasT(AQ274,AQ300)/1000","v":381.93268732650728},"kJ/kg",null,"Enthalpy on the dewpoint line",null,{"$f":"R_hsatgasT(AV274,AV300)/1000","v":381.93268732650728},"kJ/kg"]
["Subcooling of condenser",null,18,"K",null,"Subcooling of condenser",null,18,"K",null,"Subcooling of condenser",null,18,"K",null,"Subcooling of condenser",null,18,"K",null,"Subcooling of condenser",null,18,"K",null,"Subcooling of condenser",null,18,"K",null,"Subcooling of condenser",null,18,"K",null,"Subcooling of condenser",null,18,"K",null,"Subcooling of condenser",null,18,"K",null,"Subcooling of condenser",null,18,"K"]
["Enthalpy out of the condenser",null,{"$f":"R_hsatliqT(C274,C300-C310)/1000","v":225.55950670395399},"kJ/kg",null,"Enthalpy out of the condenser",null,{"$f":"R_hsatliqT(H274,H300-H310)/1000","v":225.55950670395399},"kJ/kg",null,"Enthalpy out of the condenser",null,{"$f":"R_hsatliqT(M274,M300-M310)/1000","v":225.55950670395399},"kJ/kg",null,"Enthalpy out of the condenser",null,{"$f":"R_hsatliqT(R274,R300-R310)/1000","v":225.55950670395399},"kJ/kg",null,"Enthalpy out of the condenser",null,{"$f":"R_hsatliqT(W274,W300-W310)/1000","v":225.55950670395399},"kJ/kg",null,"Enthalpy out of the condenser",null,{"$f":"R_hsatliqT(AB274,AB300-AB310)/1000","v":225.55950670395399},"kJ/kg",null,"Enthalpy out of the condenser",null,{"$f":"R_hsatliqT(AG274,AG300-AG310)/1000","v":225.55950670395399},"kJ/kg",null,"Enthalpy out of the condenser",null,{"$f":"R_hsatliqT(AL274,AL300-AL310)/1000","v":225.55950670395399},"kJ/kg",null,"Enthalpy out of the condenser",null,{"$f":"R_hsatliqT(AQ274,AQ300-AQ310)/1000","v":225.55950670395399},"kJ/kg",null,"Enthalpy out of the condenser",null,{"$f":"R_hsatliqT(AV274,AV300-AV310)/1000","v":225.55950670395399},"kJ/kg"]
[]
["Enthalpy in to evaporator",null,{"$f":"R_HsatliqP(C274,C284*100000)/1000","v":-1E-3},"kJ/kg",null,"Enthalpy in to evaporator",null,{"$f":"R_HsatliqP(H274,H284*100000)/1000","v":-1E-3},"kJ/kg",null,"Enthalpy in to evaporator",null,{"$f":"R_HsatliqP(M274,M284*100000)/1000","v":-1E-3},"kJ/kg",null,"Enthalpy in to evaporator",null,{"$f":"R_HsatliqP(R274,R284*100000)/1000","v":-1E-3},"kJ/kg",null,"Enthalpy in to evaporator",null,{"$f":"R_HsatliqP(W274,W284*100000)/1000","v":-1E-3},"kJ/kg",null,"Enthalpy in to evaporator",null,{"$f":"R_HsatliqP(AB274,AB284*100000)/1000","v":-1E-3},"kJ/kg",null,"Enthalpy in to evaporator",null,{"$f":"R_HsatliqP(AG274,AG284*100000)/1000","v":-1E-3},"kJ/kg",null,"Enthalpy in to evaporator",null,{"$f":"R_HsatliqP(AL274,AL284*100000)/1000","v":-1E-3},"kJ/kg",null,"Enthalpy in to evaporator",null,{"$f":"R_HsatliqP(AQ274,AQ284*100000)/1000","v":-1E-3},"kJ/kg",null,"Enthalpy in to evaporator",null,{"$f":"R_HsatliqP(AV274,AV284*100000)/1000","v":-1E-3},"kJ/kg"]
["Moist vapor - xf",null,{"$f":"(C296-C311)/(C296-C313)","v":-9.5642040664838876E-2},null,null,"Moist vapor - xf",null,{"$f":"(H296-H311)/(H296-H313)","v":0.48178420231247832},null,null,"Moist vapor - xf",null,{"$f":"(M296-M311)/(M296-M313)","v":0.49502653458899309},null,null,"Moist vapor - xf",null,{"$f":"(R296-R311)/(R296-R313)","v":0.50720670831710435},null,null,"Moist vapor - xf",null,{"$f":"(W296-W311)/(W296-W313)","v":0.51849916214382874},null,null,"Moist vapor - xf",null,{"$f":"(AB296-AB311)/(AB296-AB313)","v":0.5295794992691184},null,null,"Moist vapor - xf",null,{"$f":"(AG296-AG311)/(AG296-AG313)","v":0.54041404822461203},null,null,"Moist vapor - xf",null,{"$f":"(AL296-AL311)/(AL296-AL313)","v":0.55119691818235372},null,null,"Moist vapor - xf",null,{"$f":"(AQ296-AQ311)/(AQ296-AQ313)","v":0.56204444764014427},null,null,"Moist vapor - xf",null,{"$f":"(AV296-AV311)/(AV296-AV313)","v":0.57305028391346924}]
["Cooling capacity",null,{"$f":"C317*(C280-C313)","v":11.330888449703179},"kW",null,"Cooling capacity",null,{"$f":"H317*(H280-H313)","v":11.385094548845569},"kW",null,"Cooling capacity",null,{"$f":"M317*(M280-M313)","v":11.421810676760956},"kW",null,"Cooling capacity",null,{"$f":"R317*(R280-R313)","v":11.443708415996598},"kW",null,"Cooling capacity",null,{"$f":"W317*(W280-W313)","v":11.452816947844132},"kW",null,"Cooling capacity",null,{"$f":"AB317*(AB280-AB313)","v":11.450732996768439},"kW",null,"Cooling capacity",null,{"$f":"AG317*(AG280-AG313)","v":11.438755738838468},"kW",null,"Cooling capacity",null,{"$f":"AL317*(AL280-AL313)","v":11.417975936246163},"kW",null,"Cooling capacity",null,{"$f":"AQ317*(AQ280-AQ313)","v":11.389335972043714},"kW",null,"Cooling capacity",null,{"$f":"AV317*(AV280-AV313)","v":11.353670585010294},"kW"]
["Cooling COP",null,{"$f":"C315/C325","v":113.74924810117211},null,null,"Cooling COP",null,{"$f":"H315/H325","v":11.724157001050276},null,null,"Cooling COP",null,{"$f":"M315/M325","v":9.927465753383375},null,null,"Cooling COP",null,{"$f":"R315/R325","v":8.5325694392225078},null,null,"Cooling COP",null,{"$f":"W315/W325","v":7.4248201434543439},null,null,"Cooling COP",null,{"$f":"AB315/AB325","v":6.5052385279277454},null,null,"Cooling COP",null,{"$f":"AG315/AG325","v":5.737709795270729},null,null,"Cooling COP",null,{"$f":"AL315/AL325","v":5.0834332620387981},null,null,"Cooling COP",null,{"$f":"AQ315/AQ325","v":4.5175942770639645},null,null,"Cooling COP",null,{"$f":"AV315/AV325","v":4.0224040299151955}]
["Refrigerant mass flow",null,2.5999999999999999E-2,"kg/s",null,"Refrigerant mass flow",null,{"$f":"C317","v":2.5999999999999999E-2},"kg/s",null,"Refrigerant mass flow",null,{"$f":"H317","v":2.5999999999999999E-2},"kg/s",null,"Refrigerant mass flow",null,{"$f":"M317","v":2.5999999999999999E-2},"kg/s",null,"Refrigerant mass flow",null,{"$f":"R317","v":2.5999999999999999E-2},"kg/s",null,"Refrigerant mass flow",null,{"$f":"W317","v":2.5999999999999999E-2},"kg/s",null,"Refrigerant mass flow",null,{"$f":"AB317","v":2.5999999999999999E-2},"kg/s",null,"Refrigerant mass flow",null,{"$f":"AG317","v":2.5999999999999999E-2},"kg/s",null,"Refrigerant mass flow",null,{"$f":"AL317","v":2.5999999999999999E-2},"kg/s",null,"Refrigerant mass flow",null,{"$f":"AQ317","v":2.5999999999999999E-2},"kg/s"]
["Volume flow",null,{"$f":"C319/3600","v":2.166666666666667E-3},"m3/s",null,"Volume flow",null,{"$f":"H319/3600","v":2.166666666666667E-3},"m3/s",null,"Volume flow",null,{"$f":"M319/3600","v":2.166666666666667E-3},"m3/s",null,"Volume flow",null,{"$f":"R319/3600","v":2.166666666666667E-3},"m3/s",null,"Volume flow",null,{"$f":"W319/3600","v":2.166666666666667E-3},"m3/s",null,"Volume flow",null,{"$f":"AB319/3600","v":2.166666666666667E-3},"m3/s",null,"Volume flow",null,{"$f":"AG319/3600","v":2.166666666666667E-3},"m3/s",null,"Volume flow",null,{"$f":"AL319/3600","v":2.166666666666667E-3},"m3/s",null,"Volume flow",null,{"$f":"AQ319/3600","v":2.166666666666667E-3},"m3/s",null,"Volume flow",null,{"$f":"AV319/3600","v":2.166666666666667E-3},"m3/s"]
["Volume flow",null,{"$f":"C321*C320","v":7.8000000000000007},"m3/h",null,"Volume flow",null,{"$f":"H321*H320","v":7.8000000000000007},"m3/h",null,"Volume flow",null,{"$f":"M321*M320","v":7.8000000000000007},"m3/h",null,"Volume flow",null,{"$f":"R321*R320","v":7.8000000000000007},"m3/h",null,"Volume flow",null,{"$f":"W321*W320","v":7.8000000000000007},"m3/h",null,"Volume flow",null,{"$f":"AB321*AB320","v":7.8000000000000007},"m3/h",null,"Volume flow",null,{"$f":"AG321*AG320","v":7.8000000000000007},"m3/h",null,"Volume flow",null,{"$f":"AL321*AL320","v":7.8000000000000007},"m3/h",null,"Volume flow",null,{"$f":"AQ321*AQ320","v":7.8000000000000007},"m3/h",null,"Volume flow",null,{"$f":"AV321*AV320","v":7.8000000000000007},"m3/h"]
["Volumetric efficiency",null,0.65,null,null,"Volumetric efficiency",null,0.65,null,null,"Volumetric efficiency",null,0.65,null,null,"Volumetric efficiency",null,0.65,null,null,"Volumetric efficiency",null,0.65,null,null,"Volumetric efficiency",null,0.65,null,null,"Volumetric efficiency",null,0.65,null,null,"Volumetric efficiency",null,0.65,null,null,"Volumetric efficiency",null,0.65,null,null,"Volumetric efficiency",null,0.65]
["Cylinder volume",null,12,"m3/h",null,"Cylinder volume",null,12,"m3/h",null,"Cylinder volume",null,12,"m3/h",null,"Cylinder volume",null,12,"m3/h",null,"Cylinder volume",null,12,"m3/h",null,"Cylinder volume",null,12,"m3/h",null,"Cylinder volume",null,12,"m3/h",null,"Cylinder volume",null,12,"m3/h",null,"Cylinder volume",null,12,"m3/h",null,"Cylinder volume",null,12,"m3/h"]
[]
["Compressor effect 1. compressor",null,{"$f":"(C317*C314)*(C290-C280)","v":-1.6670294558213571E-2},"kW",null,"Compressor effect 1. compressor",null,{"$f":"(H317*H314)*(H290-H280)","v":0.17697065516578225},"kW",null,"Compressor effect 1. compressor",null,{"$f":"(M317*M314)*(M290-M280)","v":0.28658370865191996},"kW",null,"Compressor effect 1. compressor",null,{"$f":"(R317*R314)*(R290-R280)","v":0.41055396012158396},"kW",null,"Compressor effect 1. compressor",null,{"$f":"(W317*W314)*(W290-W280)","v":0.54980909526832455},"kW",null,"Compressor effect 1. compressor",null,{"$f":"(AB317*AB314)*(AB290-AB280)","v":0.70472249027469103},"kW",null,"Compressor effect 1. compressor",null,{"$f":"(AG317*AG314)*(AG290-AG280)","v":0.87781942706310845},"kW",null,"Compressor effect 1. compressor",null,{"$f":"(AL317*AL314)*(AL290-AL280)","v":1.0707850904620939},"kW",null,"Compressor effect 1. compressor",null,{"$f":"(AQ317*AQ314)*(AQ290-AQ280)","v":1.2861134754792509},"kW",null,"Compressor effect 1. compressor",null,{"$f":"(AV317*AV314)*(AV290-AV280)","v":1.52677017616263},"kW"]
["Compressor effect 2. compressor",null,{"$f":"C317*(C307-C296)","v":0.11628315916040537},"kW",null,"Compressor effect 2. compressor",null,{"$f":"H317*(H307-H296)","v":0.79410935918626591},"kW",null,"Compressor effect 2. compressor",null,{"$f":"M317*(M307-M296)","v":0.86394261503429315},"kW",null,"Compressor effect 2. compressor",null,{"$f":"R317*(R307-R296)","v":0.93062568072518947},"kW",null,"Compressor effect 2. compressor",null,{"$f":"W317*(W307-W296)","v":0.99269519797584704},"kW",null,"Compressor effect 2. compressor",null,{"$f":"AB317*(AB307-AB296)","v":1.0555101203527459},"kW",null,"Compressor effect 2. compressor",null,{"$f":"AG317*(AG307-AG296)","v":1.1157905927860639},"kW",null,"Compressor effect 2. compressor",null,{"$f":"AL317*(AL307-AL296)","v":1.175329955743271},"kW",null,"Compressor effect 2. compressor",null,{"$f":"AQ317*(AQ307-AQ296)","v":1.2349929527513452},"kW",null,"Compressor effect 2. compressor",null,{"$f":"AV317*(AV307-AV296)","v":1.2958380204708801},"kW"]
["Compressor effect TOTAL",null,{"$f":"C324+C323","v":9.9612864602191792E-2},"kW",null,"Compressor effect TOTAL",null,{"$f":"H324+H323","v":0.97108001435204816},"kW",null,"Compressor effect TOTAL",null,{"$f":"M324+M323","v":1.1505263236862131},"kW",null,"Compressor effect TOTAL",null,{"$f":"R324+R323","v":1.3411796408467733},"kW",null,"Compressor effect TOTAL",null,{"$f":"W324+W323","v":1.5425042932441717},"kW",null,"Compressor effect TOTAL",null,{"$f":"AB324+AB323","v":1.7602326106274369},"kW",null,"Compressor effect TOTAL",null,{"$f":"AG324+AG323","v":1.9936100198491724},"kW",null,"Compressor effect TOTAL",null,{"$f":"AL324+AL323","v":2.246115046205365},"kW",null,"Compressor effect TOTAL",null,{"$f":"AQ324+AQ323","v":2.5211064282305964},"kW",null,"Compressor effect TOTAL",null,{"$f":"AV324+AV323","v":2.8226081966335101},"kW"]
["Over heating heat",null,{"$f":"(C317*(C307-C309))+((C317/2)*(C290-C292))","v":-4.2808887047231376},"kW",null,"Over heating heat",null,{"$f":"(H317*(H307-H309))+((H317/2)*(H290-H292))","v":2.4847720071002239},"kW",null,"Over heating heat",null,{"$f":"(M317*(M307-M309))+((M317/2)*(M290-M292))","v":2.9755357113437082},"kW",null,"Over heating heat",null,{"$f":"(R317*(R307-R309))+((R317/2)*(R290-R292))","v":3.4554745602033901},"kW",null,"Over heating heat",null,{"$f":"(W317*(W307-W309))+((W317/2)*(W290-W292))","v":3.926672605416063},"kW",null,"Over heating heat",null,{"$f":"(AB317*(AB307-AB309))+((AB317/2)*(AB290-AB292))","v":4.4104969847772999},"kW",null,"Over heating heat",null,{"$f":"(AG317*(AG307-AG309))+((AG317/2)*(AG290-AG292))","v":4.9054978184241227},"kW",null,"Over heating heat",null,{"$f":"(AL317*(AL307-AL309))+((AL317/2)*(AL290-AL292))","v":5.4203845206585015},"kW",null,"Over heating heat",null,{"$f":"(AQ317*(AQ307-AQ309))+((AQ317/2)*(AQ290-AQ292))","v":5.9621932430203213},"kW",null,"Over heating heat",null,{"$f":"(AV317*(AV307-AV309))+((AV317/2)*(AV290-AV292))","v":6.5383959372682954},"kW"]
["Heating capacity",null,{"$f":"(C317*(C307-C311))","v":-0.39565388341440888},"kW",null,"Heating capacity",null,{"$f":"(H317*(H307-H311))","v":6.2463914418493545},"kW",null,"Heating capacity",null,{"$f":"(M317*(M307-M311))","v":6.6129958508430038},"kW",null,"Heating capacity",null,{"$f":"(R317*(R307-R311))","v":6.9667282527889949},"kW",null,"Heating capacity",null,{"$f":"(W317*(W307-W311))","v":7.3078997379012485},"kW",null,"Heating capacity",null,{"$f":"(AB317*(AB307-AB311))","v":7.6575985077615387},"kW",null,"Heating capacity",null,{"$f":"(AG317*(AG307-AG311))","v":8.0117753764623139},"kW",null,"Heating capacity",null,{"$f":"(AL317*(AL307-AL311))","v":8.3778978325922626},"kW",null,"Heating capacity",null,{"$f":"(AQ317*(AQ307-AQ311))","v":8.7612151290325393},"kW",null,"Heating capacity",null,{"$f":"(AV317*(AV307-AV311))","v":9.1672458138055344},"kW"]
["Heating COP",null,{"$f":"C327/C325","v":-3.9719155251128404},null,null,"Heating COP",null,{"$f":"H327/H325","v":6.4324168446791186},null,null,"Heating COP",null,{"$f":"M327/M325","v":5.7478005628375248},null,null,"Heating COP",null,{"$f":"R327/R325","v":5.1944780852701058},null,null,"Heating COP",null,{"$f":"W327/W325","v":4.7376851849996378},null,null,"Heating COP",null,{"$f":"AB327/AB325","v":4.3503332806861126},null,null,"Heating COP",null,{"$f":"AG327/AG325","v":4.0187274826540289},null,null,"Heating COP",null,{"$f":"AL327/AL325","v":3.7299504523359404},null,null,"Heating COP",null,{"$f":"AQ327/AQ325","v":3.4751468763583602},null,null,"Heating COP",null,{"$f":"AV327/AV325","v":3.2477925291718472}]
["pluss (+) 2 kW water heating",null,{"$f":"(C327+2)/(C325+2)","v":0.76411520601421079},null,null,"pluss (+) 2 kW water heating",null,{"$f":"(H327+2)/(H325+2)","v":2.775553469450327},null,null,"pluss (+) 2 kW water heating",null,{"$f":"(M327+2)/(M325+2)","v":2.7338276103548096},null,null,"pluss (+) 2 kW water heating",null,{"$f":"(R327+2)/(R325+2)","v":2.6837013320590293},null,null,"pluss (+) 2 kW water heating",null,{"$f":"(W327+2)/(W325+2)","v":2.6274914488183203},null,null,"pluss (+) 2 kW water heating",null,{"$f":"(AB327+2)/(AB325+2)","v":2.5683513515803638},null,null,"pluss (+) 2 kW water heating",null,{"$f":"(AG327+2)/(AG325+2)","v":2.506948682195171},null,null,"pluss (+) 2 kW water heating",null,{"$f":"(AL327+2)/(AL325+2)","v":2.4440924750417921},null,null,"pluss (+) 2 kW water heating",null,{"$f":"(AQ327+2)/(AQ325+2)","v":2.3802171658330336},null,null,"pluss (+) 2 kW water heating",null,{"$f":"(AV327+2)/(AV325+2)","v":2.3156029597430261}]
[]
[{"$f":"C274","v":"R744"}]
["Evaporator temp",null,"Effect 1. comp",null,"Comp 1. out temp",null,"Effect 2. comp",null,"Comp 2. out temp",null,"Effect condenser",null,"COP","Inter mediat temp",null,"Inter mediat cooler",null,"Tot comp effect",null,"COP + water heating"]
[15,"˚C",null,"kW",null,"˚C",null,"kW",null,"˚C",null,"kW",{"$f":"K333/(C333+G333)","v":{"$error":"#DIV/0!"}},null,"˚C",null,"˚",{"$f":"C333+G333","v":0}]
[10,"˚C",null,"kW",null,"˚C",null,"kW",null,"˚C",null,"kW",{"$error":"#DIV/0!"},null,"˚C",null,"˚",{"$f":"C334+G334","v":0}]
[5,"˚C","Not possible to calculate whitout changing intermediat pressure/temperature","kW",null,"˚C",null,"kW",null,"˚C",null,"kW",{"$error":"#VALUE!"},null,"˚C",null,"˚",{"$error":"#VALUE!"}]
[0,"˚C",{"$f":"C323","v":-1.6670294558213571E-2},"kW",{"$f":"C291","v":12.284841712169049},"˚C",{"$f":"C324","v":0.11628315916040537},"kW",{"$f":"C308","v":5.3543600925468127},"˚C",{"$f":"C327","v":-0.39565388341440888},"kW",-3.9719155251128404,5,"˚C",10,"˚",9.9612864602191792E-2,"kW",{"$f":"(K336+2)/((C336+G336)+2)","v":0.76411520601421079}]
[-5,"˚C",{"$f":"H323","v":0.17697065516578225},"kW",{"$f":"H291","v":18.226548877417429},"˚C",{"$f":"H324","v":0.79410935918626591},"kW",{"$f":"H308","v":55.173949613654202},"˚C",{"$f":"H327","v":6.2463914418493545},"kW",6.4324168446791186,5,"˚C",10,"˚",0.97108001435204816,"kW",{"$f":"(K337+2)/((C337+G337)+2)","v":2.775553469450327}]
[-10,"˚C",{"$f":"M323","v":0.28658370865191996},"kW",{"$f":"M291","v":24.80965911559241},"˚C",{"$f":"M324","v":0.86394261503429315},"kW",{"$f":"M308","v":63.998905269343027},"˚C",{"$f":"M327","v":6.6129958508430038},"kW",5.7478005628375248,5,"˚C",10,"˚",1.1505263236862131,"kW",2.7338276103548096]
[-15,"˚C",{"$f":"R323","v":0.41055396012158396},"kW",{"$f":"R291","v":32.088931898052749},"˚C",{"$f":"R324","v":0.93062568072518947},"kW",{"$f":"R308","v":73.343344287685682},"˚C",{"$f":"R327","v":6.9667282527889949},"kW",5.1944780852701058,5,"˚C",10,"˚",1.3411796408467733,"kW",2.6837013320590293]
[-20,"˚C",{"$f":"W323","v":0.54980909526832455},"kW",{"$f":"W291","v":39.943969826124828},"˚C",{"$f":"W324","v":0.99269519797584704},"kW",{"$f":"W308","v":82.980769688907571},"˚C",{"$f":"W327","v":7.3078997379012485},"kW",4.7376851849996378,5,"˚C",10,"˚",1.5425042932441717,"kW",2.6274914488183203]
[-25,"˚C",{"$f":"AB323","v":0.70472249027469103},"kW",{"$f":"AB291","v":48.498241739893729},"˚C",{"$f":"AB324","v":1.0555101203527459},"kW",{"$f":"AB308","v":93.367478484126195},"˚C",{"$f":"AB327","v":7.6575985077615387},"kW",4.3503332806861126,5,"˚C",10,"˚",1.7602326106274369,"kW",2.5683513515803638]
[-30,"˚C",{"$f":"AG323","v":0.87781942706310845},"kW",{"$f":"AG291","v":57.819486405864318},"˚C",{"$f":"AG324","v":1.1157905927860639},"kW",{"$f":"AG308","v":104.3002504556365},"˚C",{"$f":"AG327","v":8.0117753764623139},"kW",4.0187274826540289,5,"˚C",10,"˚",1.9936100198491724,"kW",2.506948682195171]
[-35,"˚C",{"$f":"AL323","v":1.0707850904620939},"kW",{"$f":"AL291","v":67.95528699189282},"˚C",{"$f":"AL324","v":1.175329955743271},"kW",{"$f":"AL308","v":115.9414601508734},"˚C",{"$f":"AL327","v":8.3778978325922626},"kW",3.7299504523359404,5,"˚C",10,"˚",2.246115046205365,"kW",2.4440924750417921]
[-40,"˚C",{"$f":"AQ323","v":1.2861134754792509},"kW",{"$f":"AQ291","v":78.996414260585141},"˚C",{"$f":"AQ324","v":1.2349929527513452},"kW",{"$f":"AQ308","v":128.41303652973281},"˚C",{"$f":"AQ327","v":8.7612151290325393},"kW",3.4751468763583602,5,"˚C",10,"˚",2.5211064282305964,"kW",2.3802171658330336]
[-45,"˚C",{"$f":"AV323","v":1.52677017616263},"kW",{"$f":"AV291","v":91.050994283553507},"˚C",{"$f":"AV324","v":1.2958380204708801},"kW",{"$f":"AV308","v":141.86151150571581},"˚C",{"$f":"AV327","v":9.1672458138055344},"kW",3.2477925291718472,5,"˚C",10,"˚",2.8226081966335101,"kW",2.3156029597430261]

{"sheet":"Log p-h","index":3,"n_rows":236,"n_cols":23,"rows_kept":236,"cut":false,"hidden":false,"merged":[]}
[]
[]
[]
[]
[]
[]
[]
[]
[]
[]
[]
[]
[]
[]
[]
[]
[]
[]
[]
[]
[]
[]
[]
[]
[]
[]
[]
[]
[]
["R290",null,null,null,null,null,null,null,null,null,null,null,null,null,null,"Log p-h diagram",null,null,"Kolsaker"]
["Evaporation temperature",null,null,-45,"˚C",null,null,null,null,"Evaporation temp",null,"Tot comp",null,"Condenser",null,"COP","COP + water",null,"COP kolsaker","COP+water kolsaker",null,"Diff COP","Diff + water"]
["h1=hA",527.79999999999995,"kJ/kg",null,"mR290",null,1.7999999999999999E-2,"kg/s",null,0,"˚C",{"$f":"G126","v":0.82799999999999985},"kW",{"$f":"G123","v":7.009199999999999},"kW",{"$f":"N32/L32","v":8.465217391304348},{"$f":"(N32+2)/(L32+2)","v":3.1857142857142859},null,7.8,2.93,null,{"$f":"(P32-S32)/P32*100","v":7.8582434514637951},{"$f":"(Q32-T32)/Q32*100","v":8.026905829596414}]
["h2=hB",647.70000000000005,"kJ/kg",null,"Condenser",null,{"$f":"G32*(B35-B36)","v":8.0531999999999986},"kW",null,-5,"˚C",{"$f":"G116","v":1.0475999999999988},"kW",{"$f":"G113","v":7.0991999999999988},"kW",{"$f":"N33/L33","v":6.7766323024055053},{"$f":"(N33+2)/(L33+2)","v":2.9856936605853797},null,6.54,2.8,null,{"$f":"(P33-S33)/P33*100","v":3.4918864097364075},{"$f":"(Q33-T33)/Q33*100","v":6.2194478635484813}]
["h3=hC",628,"kJ/kg",null,"Compressor 1",null,{"$f":"G32*(B33-B32)","v":2.1582000000000017},"kW",null,-10,"˚C",{"$f":"G106","v":1.3301999999999996},"kW",{"$f":"G103","v":7.2107999999999999},"kW",5.4208389715832217,2.7658398894961262,null,5.62,2.67,null,{"$f":"-(P34-S34)/P34*100","v":3.6739890164752675},3.4651278933425962]
["h4=hD",672,"kJ/kg",null,"Compressor 2",null,{"$f":"G32*(B35-B34)","v":0.79199999999999993},"kW",null,-15,"˚C",{"$f":"G96","v":1.4939999999999998},"kW",{"$f":"G93","v":7.2395999999999985},"kW",4.8457831325301202,2.6444190040068687,null,4.92,2.5499999999999998,null,1.5315763301839933,3.5705008874843047]
["h5=h6=hE=hF",224.6,"kJ/kg",null,"TOTAL comp",null,{"$f":"G34+G35","v":2.9502000000000015},null,null,-20,"˚C",{"$f":"G86","v":1.7082000000000015},"kW",{"$f":"G83","v":7.3259999999999996},"kW",4.2887249736564765,2.5149668302680537,null,4.37,2.44,null,1.8950859950860919,2.9808277932661049]
["h7=h8=hG=hH",212.5,"kJ/kg",null,"x6",null,{"$f":"(B34-B36)/(B34-B37)","v":0.97087845968712394},null,null,-25,"˚C",{"$f":"G76","v":1.9313999999999991},"kW",{"$f":"G73","v":7.4825999999999979},"kW",3.8741845293569437,2.4120160756982245,null,3.93,2.34,null,1.4407024296367474,2.9857212157003397]
["COP",{"$f":"(B35-B36)/((G37*(B33-B32))+(B35-B34))","v":2.7891320075751311},null,null,"COP",null,{"$f":"G33/(G34+G35)","v":2.7297132397803519},null,null,-30,"˚C",{"$f":"G66","v":2.1419999999999977},"kW",{"$f":"G63","v":7.601399999999999},"kW",3.5487394957983227,2.3180589087397401,null,3.56,2.25,null,0.31730996921610299,2.9360301622680369]
[null,null,null,null,null,null,null,null,null,-35,"˚C",{"$f":"G56","v":2.4191999999999991},"kW",{"$f":"G53","v":7.7291999999999987},"kW",3.1949404761904767,2.2015749456915281,null,3.26,2.16,null,2.0363297624592223,1.8884183694445629]
[null,null,null,null,null,null,null,null,null,-40,"˚C",{"$f":"G46","v":2.6441999999999997},"kW",{"$f":"G43","v":7.8911999999999987},"kW",2.9843430905377808,2.1297963050686874,null,3,2.08,null,0.52463503649635057,2.3380782918149259]
["Evaporation temperature",null,null,-40,"˚C",null,null,null,null,-45,"˚C",{"$f":"G36","v":2.9502000000000015},"kW",{"$f":"G33","v":8.0531999999999986},"kW",2.7297132397803519,2.0308674396994051,null,2.78,2,null,1.8421993741618921,1.5199140572155645]
["h1",533.5,"kJ/kg",null,"mR290",null,1.7999999999999999E-2,"kg/s",null,null,null,null,null,null,null,null,null,null,null,null,"average diff",{"$f":"AVERAGE(V32:V41)","v":2.4611957774915871},{"$f":"AVERAGE(W32:W41)","v":3.5930972363681328}]
["h2",639.4,"kJ/kg",null,"Condenser",null,{"$f":"G42*(B45-B46)","v":7.8911999999999987},"kW"]
["h3",622,"kJ/kg",null,"Compressor 1",null,{"$f":"G42*(B43-B42)","v":1.9061999999999995},"kW"]
["h4",663,"kJ/kg",null,"Compressor 2",null,{"$f":"G42*(B45-B44)","v":0.73799999999999999},"kW"]
["h5=h6",224.6,"kJ/kg",null,"TOTAL comp",null,{"$f":"G44+G45","v":2.6441999999999997}]
["h7=h8",212.5,"kJ/kg",null,"x6",null,{"$f":"(B44-B46)/(B44-B47)","v":0.97045177045177045}]
["COP",{"$f":"(B45-B46)/((G47*(B43-B42))+(B45-B44))","v":3.0492970090783462},null,null,"COP",null,{"$f":"G43/(G44+G45)","v":2.9843430905377808}]
[]
[]
["Evaporation temperature",null,null,-35,"˚C"]
["h1",539,"kJ/kg",null,"mR290",null,1.7999999999999999E-2,"kg/s"]
["h2",632.4,"kJ/kg",null,"Condenser",null,{"$f":"G52*(B55-B56)","v":7.7291999999999987},"kW"]
["h3",613,"kJ/kg",null,"Compressor 1",null,{"$f":"G52*(B53-B52)","v":1.6811999999999994},"kW"]
["h4",654,"kJ/kg",null,"Compressor 2",null,{"$f":"G52*(B55-B54)","v":0.73799999999999999},"kW"]
["h5=h6",224.6,"kJ/kg",null,"TOTAL comp",null,{"$f":"G54+G55","v":2.4191999999999991}]
["h7=h8",212.5,"kJ/kg",null,"x6",null,{"$f":"(B54-B56)/(B54-B57)","v":0.96978776529338317}]
["COP",{"$f":"(B55-B56)/((G57*(B53-B52))+(B55-B54))","v":3.2634590999953326},null,null,"COP",null,{"$f":"G53/(G54+G55)","v":3.1949404761904767}]
[]
[]
["Evaporation temperature",null,null,-30,"˚C"]
["h1",544.70000000000005,"kJ/kg",null,"mR290",null,1.7999999999999999E-2,"kg/s"]
["h2",624.29999999999995,"kJ/kg",null,"Condenser",null,{"$f":"G62*(B65-B66)","v":7.601399999999999},"kW"]
["h3",607.5,"kJ/kg",null,"Compressor 1",null,{"$f":"G62*(B63-B62)","v":1.4327999999999983},"kW"]
["h4",646.9,"kJ/kg",null,"Compressor 2",null,{"$f":"G62*(B65-B64)","v":0.7091999999999995},"kW"]
["h5=h6",224.6,"kJ/kg",null,"TOTAL comp",null,{"$f":"G64+G65","v":2.1419999999999977}]
["h7=h8",212.5,"kJ/kg",null,"x6",null,{"$f":"(B64-B66)/(B64-B67)","v":0.96936708860759491}]
["COP",{"$f":"(B65-B66)/((G67*(B63-B62))+(B65-B64))","v":3.6229764058082852},null,null,"COP",null,{"$f":"G63/(G64+G65)","v":3.5487394957983227}]
[]
[]
["Evaporation temperature",null,null,-25,"˚C"]
["h1",551.5,"kJ/kg",null,"mR290",null,1.7999999999999999E-2,"kg/s"]
["h2",617.1,"kJ/kg",null,"Condenser",null,{"$f":"G72*(B75-B76)","v":7.4825999999999979},"kW"]
["h3",598.6,"kJ/kg",null,"Compressor 1",null,{"$f":"G72*(B73-B72)","v":1.1808000000000003},"kW"]
["h4",640.29999999999995,"kJ/kg",null,"Compressor 2",null,{"$f":"G72*(B75-B74)","v":0.75059999999999871},"kW"]
["h5=h6",224.6,"kJ/kg",null,"TOTAL comp",null,{"$f":"G74+G75","v":1.9313999999999991}]
["h7=h8",212.5,"kJ/kg",null,"x6",null,{"$f":"(B74-B76)/(B74-B77)","v":0.96866096866096862}]
["COP",{"$f":"(B75-B76)/((G77*(B73-B72))+(B75-B74))","v":3.9498628883589117},null,null,"COP",null,{"$f":"G73/(G74+G75)","v":3.8741845293569437}]
[]
[]
["Evaporation temperature",null,null,-20,"˚C"]
["h1",556.79999999999995,"kJ/kg",null,"mR290",null,1.7999999999999999E-2,"kg/s"]
["h2",609.9,"kJ/kg",null,"Condenser",null,{"$f":"G82*(B85-B86)","v":7.3259999999999996},"kW"]
["h3",589.79999999999995,"kJ/kg",null,"Compressor 1",null,{"$f":"G82*(B83-B82)","v":0.95580000000000032},"kW"]
["h4",631.6,"kJ/kg",null,"Compressor 2",null,{"$f":"G82*(B85-B84)","v":0.75240000000000118},"kW"]
["h5=h6",224.6,"kJ/kg",null,"TOTAL comp",null,{"$f":"G84+G85","v":1.7082000000000015}]
["h7=h8",212.5,"kJ/kg",null,"x6",null,{"$f":"(B84-B86)/(B84-B87)","v":0.96793002915451887}]
["COP",{"$f":"(B85-B86)/((G87*(B83-B82))+(B85-B84))","v":4.367089399560788},null,null,"COP",null,{"$f":"G83/(G84+G85)","v":4.2887249736564765}]
[]
[]
["Evaporation temperature",null,null,-15,"˚C"]
["h1",561.6,"kJ/kg",null,"mR290",null,1.7999999999999999E-2,"kg/s"]
["h2",605.1,"kJ/kg",null,"Condenser",null,{"$f":"G92*(B95-B96)","v":7.2395999999999985},"kW"]
["h3",587.29999999999995,"kJ/kg",null,"Compressor 1",null,{"$f":"G92*(B93-B92)","v":0.78299999999999992},"kW"]
["h4",626.79999999999995,"kJ/kg",null,"Compressor 2",null,{"$f":"G92*(B95-B94)","v":0.71099999999999997},"kW"]
["h5=h6",224.6,"kJ/kg",null,"TOTAL comp",null,{"$f":"G94+G95","v":1.4939999999999998}]
["h7=h8",212.5,"kJ/kg",null,"x6",null,{"$f":"(B94-B96)/(B94-B97)","v":0.96771611526147272}]
["COP",{"$f":"(B95-B96)/((G97*(B93-B92))+(B95-B94))","v":4.9291842763974287},null,null,"COP",null,{"$f":"G93/(G94+G95)","v":4.8457831325301202}]
[]
[]
["Evaporation temperature",null,null,-10,"˚C"]
["h1",568,"kJ/kg",null,"mR290",null,1.7999999999999999E-2,"kg/s"]
["h2",599.4,"kJ/kg",null,"Condenser",null,{"$f":"G102*(B105-B106)","v":7.2107999999999999},"kW"]
["h3",582.70000000000005,"kJ/kg",null,"Compressor 1",null,{"$f":"G102*(B103-B102)","v":0.56519999999999959},"kW"]
["h4",625.20000000000005,"kJ/kg",null,"Compressor 2",null,{"$f":"G102*(B105-B104)","v":0.7649999999999999},"kW"]
["h5=h6",224.6,"kJ/kg",null,"TOTAL comp",null,{"$f":"G104+G105","v":1.3301999999999996}]
["h7=h8",212.5,"kJ/kg",null,"x6",null,{"$f":"(B104-B106)/(B104-B107)","v":0.9673149648838465}]
["COP",{"$f":"(B105-B106)/((G107*(B103-B102))+(B105-B104))","v":5.4971828730543306},null,null,"COP",null,{"$f":"G103/(G104+G105)","v":5.4208389715832217}]
[]
[]
["Evaporation temperature",null,null,-5,"˚C"]
["h1",574.5,"kJ/kg",null,"mR290",null,1.7999999999999999E-2,"kg/s"]
["h2",593.79999999999995,"kJ/kg",null,"Condenser",null,{"$f":"G112*(B115-B116)","v":7.0991999999999988},"kW"]
["h3",580.1,"kJ/kg",null,"Compressor 1",null,{"$f":"G112*(B113-B112)","v":0.34739999999999915},"kW"]
["h4",619,"kJ/kg",null,"Compressor 2",null,{"$f":"G112*(B115-B114)","v":0.70019999999999949},"kW"]
["h5=h6",224.6,"kJ/kg",null,"TOTAL comp",null,{"$f":"G114+G115","v":1.0475999999999988}]
["h7=h8",212.5,"kJ/kg",null,"x6",null,{"$f":"(B114-B116)/(B114-B117)","v":0.96708378672470074}]
["COP",{"$f":"(B115-B116)/((G117*(B113-B112))+(B115-B114))","v":6.8514190632769454},null,null,"COP",null,{"$f":"G113/(G114+G115)","v":6.7766323024055053}]
[]
[]
["Evaporation temperature",null,null,0,"˚C"]
["h1",580.1,"kJ/kg",null,"mR290",null,1.7999999999999999E-2,"kg/s"]
["h2",590.6,"kJ/kg",null,"Condenser",null,{"$f":"G122*(B125-B126)","v":7.009199999999999},"kW"]
["h3",578.5,"kJ/kg",null,"Compressor 1",null,{"$f":"G122*(B123-B122)","v":0.18899999999999997},"kW"]
["h4",614,"kJ/kg",null,"Compressor 2",null,{"$f":"G122*(B125-B124)","v":0.6389999999999999},"kW"]
["h5=h6",224.6,"kJ/kg",null,"TOTAL comp",null,{"$f":"G124+G125","v":0.82799999999999985}]
["h7=h8",212.5,"kJ/kg",null,"x6",null,{"$f":"(B124-B126)/(B124-B127)","v":0.96693989071038244}]
["COP",{"$f":"(B125-B126)/((G127*(B123-B122))+(B125-B124))","v":8.5295844442649003},null,null,"COP",null,{"$f":"G123/(G124+G125)","v":8.465217391304348}]
[]
[]
[]
[]
[]
[]
[]
[]
["Done by hand on paper"]
["R744"]
["Evaporation temperature",null,null,-45,"˚C",null,null,null,null,"Evaporation temp",null,"Tot comp",null,"Condenser",null,"COP","COP + water"]
["h1",436.7,"kJ/kg",null,"mR290",null,2.3300000000000001E-2,"kg/s",null,0,"˚C",{"$f":"G234","v":0.8351999999999995},"kW",{"$f":"G231","v":4.383},"kW",{"$f":"N140/L140","v":5.24784482758621}]
["h2",526.29999999999995,"kJ/kg",null,"Condenser",null,{"$f":"G140*(B143-B144)","v":8.0408300000000015},"kW",null,-5,"˚C",{"$f":"G224","v":0.9377999999999993},"kW",{"$f":"G221","v":4.4315999999999995},"kW",{"$f":"N141/L141","v":4.7255278310940527}]
["h3",515.6,"kJ/kg",null,"Compressor 1",null,{"$f":"G140*(B141-B140)","v":2.0876799999999993},"kW",null,-10,"˚C",{"$f":"G214","v":1.1825999999999988},"kW",{"$f":"G211","v":4.7231999999999994},"kW",3.993911719939121]
["h4",570.6,"kJ/kg",null,"Compressor 2",null,{"$f":"G140*(B143-B142)","v":1.2815000000000001},"kW",null,-15,"˚C",{"$f":"G204","v":1.395},"kW",{"$f":"G201","v":4.9913999999999996},"kW",3.5780645161290319]
["h5=h6",225.5,"kJ/kg",null,"TOTAL comp",null,{"$f":"G142+G143","v":3.3691799999999992},null,null,-20,"˚C",{"$f":"G194","v":1.4687999999999992},"kW",{"$f":"G191","v":5.0831999999999988},"kW",3.4607843137254912]
["h7=h8",212,"kJ/kg",null,"x6",null,{"$f":"(B142-B144)/(B142-B145)","v":0.9555335968379447},null,null,-25,"˚C",{"$f":"G184","v":1.7064000000000001},"kW",{"$f":"G181","v":5.3369999999999997},"kW",3.1276371308016873]
["COP",{"$f":"(B143-B144)/((G145*(B141-B140))+(B143-B142))","v":2.4542048246279782},null,null,"COP",null,{"$f":"G141/(G142+G143)","v":2.3865836791148003},null,null,-30,"˚C",{"$f":"G174","v":2.0069999999999997},"kW",{"$f":"G171","v":5.625},"kW",2.8026905829596416]
[null,null,null,null,null,null,null,null,null,-35,"˚C",{"$f":"G164","v":2.0735999999999994},"kW",{"$f":"G161","v":5.7131999999999987},"kW",2.7552083333333335]
[null,null,null,null,null,null,null,null,null,-40,"˚C",{"$f":"G154","v":2.4678000000000004},"kW",{"$f":"G151","v":6.0209999999999999},"kW",2.4398249452954044]
["Evaporation temperature",null,null,-40,"˚C",null,null,null,null,-45,"˚C",{"$f":"G144","v":3.3691799999999992},"kW",{"$f":"G141","v":8.0408300000000015},"kW",2.3865836791148003]
["h1",434,"kJ/kg",null,"mR290",null,1.7999999999999999E-2,"kg/s"]
["h2",514.70000000000005,"kJ/kg",null,"Condenser",null,{"$f":"G150*(B153-B154)","v":6.0209999999999999},"kW"]
["h3",503.6,"kJ/kg",null,"Compressor 1",null,{"$f":"G150*(B151-B150)","v":1.4526000000000008},"kW"]
["h4",560,"kJ/kg",null,"Compressor 2",null,{"$f":"G150*(B153-B152)","v":1.0151999999999994},"kW"]
["h5=h6",225.5,"kJ/kg",null,"TOTAL comp",null,{"$f":"G152+G153","v":2.4678000000000004}]
["h7=h8",212,"kJ/kg",null,"x6",null,{"$f":"(B152-B154)/(B152-B155)","v":0.95370370370370372}]
["COP",{"$f":"(B153-B154)/((G155*(B151-B150))+(B153-B152))","v":2.5081752098477428},null,null,"COP",null,{"$f":"G151/(G152+G153)","v":2.4398249452954044}]
[]
[]
["Evaporation temperature",null,null,-35,"˚C"]
["h1",440,"kJ/kg",null,"mR290",null,1.7999999999999999E-2,"kg/s"]
["h2",504.5,"kJ/kg",null,"Condenser",null,{"$f":"G160*(B163-B164)","v":5.7131999999999987},"kW"]
["h3",492.2,"kJ/kg",null,"Compressor 1",null,{"$f":"G160*(B161-B160)","v":1.1609999999999998},"kW"]
["h4",542.9,"kJ/kg",null,"Compressor 2",null,{"$f":"G160*(B163-B162)","v":0.91259999999999974},"kW"]
["h5=h6",225.5,"kJ/kg",null,"TOTAL comp",null,{"$f":"G162+G163","v":2.0735999999999994}]
["h7=h8",212,"kJ/kg",null,"x6",null,{"$f":"(B162-B164)/(B162-B165)","v":0.95182012847965736}]
["COP",{"$f":"(B163-B164)/((G165*(B161-B160))+(B163-B162))","v":2.8315925508838595},null,null,"COP",null,{"$f":"G161/(G162+G163)","v":2.7552083333333335}]
[]
[]
["Evaporation temperature",null,null,-30,"˚C"]
["h1",438.8,"kJ/kg",null,"mR290",null,1.7999999999999999E-2,"kg/s"]
["h2",495.5,"kJ/kg",null,"Condenser",null,{"$f":"G170*(B173-B174)","v":5.625},"kW"]
["h3",483.2,"kJ/kg",null,"Compressor 1",null,{"$f":"G170*(B171-B170)","v":1.0205999999999997},"kW"]
["h4",538,"kJ/kg",null,"Compressor 2",null,{"$f":"G170*(B173-B172)","v":0.98640000000000017},"kW"]
["h5=h6",225.5,"kJ/kg",null,"TOTAL comp",null,{"$f":"G172+G173","v":2.0069999999999997}]
["h7=h8",212,"kJ/kg",null,"x6",null,{"$f":"(B172-B174)/(B172-B175)","v":0.9502212389380531}]
["COP",{"$f":"(B173-B174)/((G175*(B171-B170))+(B173-B172))","v":2.8754790344497656},null,null,"COP",null,{"$f":"G171/(G172+G173)","v":2.8026905829596416}]
[]
[]
["Evaporation temperature",null,null,-25,"˚C"]
["h1",440,"kJ/kg",null,"mR290",null,1.7999999999999999E-2,"kg/s"]
["h2",485.7,"kJ/kg",null,"Condenser",null,{"$f":"G180*(B183-B184)","v":5.3369999999999997},"kW"]
["h3",472.9,"kJ/kg",null,"Compressor 1",null,{"$f":"G180*(B181-B180)","v":0.82259999999999978},"kW"]
["h4",522,"kJ/kg",null,"Compressor 2",null,{"$f":"G180*(B183-B182)","v":0.88380000000000036},"kW"]
["h5=h6",225.5,"kJ/kg",null,"TOTAL comp",null,{"$f":"G182+G183","v":1.7064000000000001}]
["h7=h8",212,"kJ/kg",null,"x6",null,{"$f":"(B182-B184)/(B182-B185)","v":0.94825603679570714}]
["COP",{"$f":"(B183-B184)/((G185*(B181-B180))+(B183-B182))","v":3.20764899526753},null,null,"COP",null,{"$f":"G181/(G182+G183)","v":3.1276371308016873}]
[]
[]
["Evaporation temperature",null,null,-20,"˚C"]
["h1",440,"kJ/kg",null,"mR290",null,1.7999999999999999E-2,"kg/s"]
["h2",475.5,"kJ/kg",null,"Condenser",null,{"$f":"G190*(B193-B194)","v":5.0831999999999988},"kW"]
["h3",461.8,"kJ/kg",null,"Compressor 1",null,{"$f":"G190*(B191-B190)","v":0.6389999999999999},"kW"]
["h4",507.9,"kJ/kg",null,"Compressor 2",null,{"$f":"G190*(B193-B192)","v":0.82979999999999932},"kW"]
["h5=h6",225.5,"kJ/kg",null,"TOTAL comp",null,{"$f":"G192+G193","v":1.4687999999999992}]
["h7=h8",212,"kJ/kg",null,"x6",null,{"$f":"(B192-B194)/(B192-B195)","v":0.94595676541232987}]
["COP",{"$f":"(B193-B194)/((G195*(B191-B190))+(B193-B192))","v":3.5441115369794574},null,null,"COP",null,{"$f":"G191/(G192+G193)","v":3.4607843137254912}]
[]
[]
["Evaporation temperature",null,null,-15,"˚C"]
["h1",439.4,"kJ/kg",null,"mR290",null,1.7999999999999999E-2,"kg/s"]
["h2",467.4,"kJ/kg",null,"Condenser",null,{"$f":"G200*(B203-B204)","v":4.9913999999999996},"kW"]
["h3",453.3,"kJ/kg",null,"Compressor 1",null,{"$f":"G200*(B201-B200)","v":0.504},"kW"]
["h4",502.8,"kJ/kg",null,"Compressor 2",null,{"$f":"G200*(B203-B202)","v":0.8909999999999999},"kW"]
["h5=h6",225.5,"kJ/kg",null,"TOTAL comp",null,{"$f":"G202+G203","v":1.395}]
["h7=h8",212,"kJ/kg",null,"x6",null,{"$f":"(B202-B204)/(B202-B205)","v":0.94405304600082884}]
["COP",{"$f":"(B203-B204)/((G205*(B201-B200))+(B203-B202))","v":3.6518803127259831},null,null,"COP",null,{"$f":"G201/(G202+G203)","v":3.5780645161290319}]
[]
[]
["Evaporation temperature",null,null,-10,"˚C"]
["h1",438,"kJ/kg",null,"mR290",null,1.7999999999999999E-2,"kg/s"]
["h2",458.4,"kJ/kg",null,"Condenser",null,{"$f":"G210*(B213-B214)","v":4.7231999999999994},"kW"]
["h3",442.6,"kJ/kg",null,"Compressor 1",null,{"$f":"G210*(B211-B210)","v":0.36719999999999958},"kW"]
["h4",487.9,"kJ/kg",null,"Compressor 2",null,{"$f":"G210*(B213-B212)","v":0.81539999999999913},"kW"]
["h5=h6",225.5,"kJ/kg",null,"TOTAL comp",null,{"$f":"G212+G213","v":1.1825999999999988}]
["h7=h8",212,"kJ/kg",null,"x6",null,{"$f":"(B212-B214)/(B212-B215)","v":0.94145706851691235}]
["COP",{"$f":"(B213-B214)/((G215*(B211-B210))+(B213-B212))","v":4.0678560432187698},null,null,"COP",null,{"$f":"G211/(G212+G213)","v":3.993911719939121}]
[]
[]
["Evaporation temperature",null,null,-5,"˚C"]
["h1",437.5,"kJ/kg",null,"mR290",null,1.7999999999999999E-2,"kg/s"]
["h2",449.9,"kJ/kg",null,"Condenser",null,{"$f":"G220*(B223-B224)","v":4.4315999999999995},"kW"]
["h3",432,"kJ/kg",null,"Compressor 1",null,{"$f":"G220*(B221-B220)","v":0.22319999999999957},"kW"]
["h4",471.7,"kJ/kg",null,"Compressor 2",null,{"$f":"G220*(B223-B222)","v":0.71459999999999979},"kW"]
["h5=h6",225.5,"kJ/kg",null,"TOTAL comp",null,{"$f":"G222+G223","v":0.9377999999999993}]
["h7=h8",212,"kJ/kg",null,"x6",null,{"$f":"(B222-B224)/(B222-B225)","v":0.9386363636363636}]
["COP",{"$f":"(B223-B224)/((G225*(B221-B220))+(B223-B222))","v":4.7955660227011165},null,null,"COP",null,{"$f":"G221/(G222+G223)","v":4.7255278310940527}]
[]
[]
["Evaporation temperature",null,null,0,"˚C"]
["h1",435,"kJ/kg",null,"mR290",null,1.7999999999999999E-2,"kg/s"]
["h2",441,"kJ/kg",null,"Condenser",null,{"$f":"G230*(B233-B234)","v":4.383},"kW"]
["h3",428.6,"kJ/kg",null,"Compressor 1",null,{"$f":"G230*(B231-B230)","v":0.10799999999999998},"kW"]
["h4",469,"kJ/kg",null,"Compressor 2",null,{"$f":"G230*(B233-B232)","v":0.72719999999999951},"kW"]
["h5=h6",225.5,"kJ/kg",null,"TOTAL comp",null,{"$f":"G232+G233","v":0.8351999999999995}]
["h7=h8",212,"kJ/kg",null,"x6",null,{"$f":"(B232-B234)/(B232-B235)","v":0.93767313019390586}]
["COP",{"$f":"(B233-B234)/((G235*(B231-B230))+(B233-B232))","v":5.2904835273300694},null,null,"COP",null,{"$f":"G231/(G232+G233)","v":5.24784482758621}]

{"sheet":"Percent difference","index":4,"n_rows":112,"n_cols":22,"rows_kept":112,"cut":false,"hidden":false,"merged":[[100,1,100,2],[100,3,100,4],[100,5,100,6],[34,1,34,3],[34,5,34,7],[35,5,36,5],[35,6,36,6],[35,7,36,7],[57,1,57,3],[57,5,57,7],[58,5,59,5],[58,6,59,6],[58,7,59,7],[80,1,80,3],[80,5,80,8],[81,5,82,5],[35,0,36,0],[35,1,36,1],[35,2,36,2],[35,3,36,3],[35,4,36,4],[34,12,34,14],[34,16,34,18],[35,11,36,11],[35,12,36,12],[35,13,36,13],[35,14,36,14],[35,15,36,15],[35,16,36,16],[35,17,36,17],[35,18,36,18],[58,0,59,0],[58,1,59,1],[58,2,59,2],[58,3,59,3],[58,4,59,4],[57,12,57,14],[57,16,57,18],[58,11,59,11],[58,12,59,12],[58,13,59,13],[58,14,59,14],[58,15,59,15],[58,16,59,16],[58,17,59,17],[58,18,59,18],[81,0,82,0],[81,1,82,1],[81,2,82,2],[81,3,82,3],[81,4,82,4],[81,6,82,6],[81,7,82,8],[83,8,83,9],[84,8,84,9],[85,8,85,9],[86,8,86,9],[87,8,87,9],[80,12,80,14],[80,16,80,19],[81,11,82,11],[81,12,82,12],[81,13,82,13],[81,14,82,14],[81,15,82,15],[81,16,82,16],[81,17,82,17],[81,18,82,19],[83,19,83,20],[84,19,84,20],[89,8,89,9],[90,8,90,9],[91,8,91,9],[92,8,92,9],[88,8,88,9],[91,19,91,20],[92,19,92,20],[85,19,85,20],[86,19,86,20],[87,19,87,20],[88,19,88,20],[89,19,89,20],[90,19,90,20],[4,1,4,3],[4,5,4,7],[5,0,6,0],[5,1,6,1],[5,2,6,2],[5,3,6,3],[5,4,6,4],[5,5,6,5],[5,6,6,6],[5,7,6,7]]}
["Difference in value"]
[]
[]
["R744",null,null,"r744"]
[null,"CoolPack",null,null,null,"Log p-h diagram"]
["Evaporation temperature [ºC]","Tot. comp. effect [kW]","Gas c. effect [kW]","COP",null,"Tot. comp. effect [kW]","Gas c. effect [kW]","COP","COP diff."]
[null,null,null,null,null,null,null,null,"[%]"]
[0,1.08,6.08,5.63,null,0.84,4.38,5.25,{"$f":"((D8-H8)/D8)*100","v":6.7495559502664282}]
[-5,1.28,6.32,4.9400000000000004,null,0.94,4.43,4.7300000000000004,{"$f":"((D9-H9)/D9)*100","v":4.2510121457489873}]
[-10,1.39,6.1,4.3899999999999997,null,1.18,4.72,3.99,9.1116173120728803]
[-15,1.64,6.39,3.9,null,1.4,4.99,3.58,8.2051282051282008]
[-20,1.91,6.66,3.49,null,1.47,5.08,3.46,0.85959885386820201]
[-25,2.1800000000000002,6.94,3.18,null,1.71,5.34,3.13,1.5723270440251655]
[-30,2.48,7.22,2.91,null,2.0099999999999998,5.63,2.8,3.7800687285223478]
[-35,2.78,7.51,2.7,null,2.0699999999999998,5.71,2.76,{"$f":"(-(D15-H15)/D15)*100","v":2.2222222222222077}]
[-40,3.12,7.81,2.5,null,2.4700000000000002,6.02,2.44,2.4000000000000021]
[-45,3.47,8.1199999999999992,2.34,null,3.37,8.0399999999999991,2.39]
[null,null,null,null,null,null,null,"average",{"$f":"AVERAGE(I8:I17)","v":4.3501700513171579}]
[]
[]
[]
[]
[]
[]
[]
[]
[]
[]
[]
[]
[]
[]
[]
["R717",null,null,"r717"]
[null,"CoolPack",null,null,null,"Kolsaker",null,null,null,null,null,null,"CoolPack",null,null,null,"Kolsaker"]
["Evaporation temperature [ºC]","Tot. comp. effect [kW]","Cond. effect [kW]","COP",null,"Tot. comp. effect [kW]","Cond. effect [kW]","COP","COP diff.",null,null,"Evaporation temperature [ºC]","Tot. comp. effect [kW]","Cond. effect [kW]","COP",null,"Tot. comp. effect [kW]","Cond. effect [kW]","COP","COP diff."]
[null,null,null,null,null,null,null,null,"[%]",null,null,null,null,null,null,null,null,null,null,"[%]"]
[0,0.9,6.9,7.67,null,0.73,5.51,7.55,{"$f":"((D38-H38)/D38)*100","v":1.5645371577574982},null,null,0,0.9,6.9,3.07,null,0.73,5.51,2.75,{"$f":"((O38-S38)/O38)*100","v":10.423452768729637}]
[-5,1.1000000000000001,7.2,6.55,null,0.9,5.67,6.28,{"$f":"((D39-H39)/D39)*100","v":4.1221374045801467},null,null,-5,1.1000000000000001,7.2,2.97,null,0.9,5.67,2.64,{"$f":"((O39-S39)/O39)*100","v":11.111111111111112}]
[-10,1.3,7.5,5.77,null,1.0900000000000001,5.83,5.37,6.932409012131707,null,null,-10,1.3,7.5,2.88,null,1.0900000000000001,5.83,2.54,11.805555555555552]
[-15,1.5,7.9,5.27,null,1.28,6.01,4.68,11.195445920303603,null,null,-15,1.5,7.9,2.83,null,1.28,6.01,2.44,13.780918727915198]
[-20,1.7,8,4.71,null,1.49,6.19,4.1500000000000004,11.889596602972391,null,null,-20,1.7,8,2.7,null,1.49,6.19,2.35,12.962962962962965]
[-25,1.9,8.4,4.42,null,1.72,6.4,3.72,15.837104072398184,null,null,-25,1.9,8.4,2.67,null,1.72,6.4,2.2599999999999998,15.355805243445699]
[-30,2.2999999999999998,9.1999999999999993,4,null,1.96,6.61,3.37,15.749999999999996,null,null,-30,2.2999999999999998,9.1999999999999993,2.6,null,1.96,6.61,2.17,16.538461538461544]
[-35,2.6,9.6999999999999993,3.73,null,2.2200000000000002,6.84,3.08,17.426273458445039,null,null,-35,2.6,9.6999999999999993,2.54,null,2.2200000000000002,6.84,2.09,17.716535433070874]
[-40,3,10.4,3.47,null,2.5,7.1,2.83,18.443804034582133,null,null,-40,3,10.4,2.48,null,2.5,7.1,2.02,18.548387096774192]
[-45,3.3,11,3.33,null,2.81,7.37,2.62,null,null,null,-45,3.3,11,2.4500000000000002,null,2.81,7.37,1.95]
[null,null,null,null,null,null,null,"average",{"$f":"AVERAGE(I38:I47)","v":11.462367518130076},null,null,null,null,null,null,null,null,null,"average",{"$f":"AVERAGE(T38:T47)","v":14.249243382002975}]
[]
[]
[]
[]
[]
[]
[]
[]
["R290",null,null,"r290"]
[null,"CoolPack",null,null,null,"Kolsaker",null,null,null,null,null,null,"CoolPack",null,null,null,"Kolsaker"]
["Evaporation temperature [ºC]","Tot. comp. effect [kW]","Cond. effect [kW]","COP",null,"Tot. comp. effect [kW]","Cond. effect [kW]","COP","COP diff.",null,null,"Evaporation temperature [ºC]","Tot. comp. effect [kW]","Cond. effect [kW]","COP",null,"Tot. comp. effect [kW]","Cond. effect [kW]","COP","COP diff."]
[null,null,null,null,null,null,null,null,"[%]",null,null,null,null,null,null,null,null,null,null,"[%]"]
[0,1,7.5,7.5,null,0.8,6.2,7.8,{"$f":"-((D61-H61)/D61)*100","v":3.9999999999999973},null,null,0,1,7.5,3.17,null,0.8,6.2,2.93,{"$f":"((O61-S61)/O61)*100","v":7.5709779179810655}]
[-5,1.1000000000000001,7.6,6.91,null,0.96,6.28,6.54,{"$f":"((D62-H62)/D62)*100","v":5.3545586107091188},null,null,-5,1.1000000000000001,7.6,3.1,null,0.96,6.28,2.8,{"$f":"((O62-S62)/O62)*100","v":9.6774193548387171}]
[-10,1.3,7.6,5.85,null,1.1299999999999999,6.37,5.62,3.9316239316239239,null,null,-10,1.3,7.6,2.91,null,1.1299999999999999,6.37,2.67,8.2474226804123774]
[-15,1.4,7.7,5.5,null,1.31,6.46,4.92,10.545454545454547,null,null,-15,1.4,7.7,2.85,null,1.31,6.46,2.5499999999999998,10.526315789473694]
[-20,1.7,8,4.71,null,1.5,6.55,4.37,7.2186836518046675,null,null,-20,1.7,8,2.7,null,1.5,6.55,2.44,9.6296296296296386]
[-25,1.9,8.1999999999999993,4.32,null,1.7,6.66,3.93,9.0277777777777803,null,null,-25,1.9,8.1999999999999993,2.62,null,1.7,6.66,2.34,10.687022900763369]
[-30,2.1,8.4,4,null,1.9,6.77,3.56,10.999999999999998,null,null,-30,2.1,8.4,2.54,null,1.9,6.77,2.25,11.41732283464567]
[-35,2.2000000000000002,8.5,3.86,null,2.11,6.89,3.26,15.544041450777204,null,null,-35,2.2000000000000002,8.5,2.5,null,2.11,6.89,2.16,13.599999999999996]
[-40,2.5,9,3.6,null,2.34,7.02,3,16.666666666666668,null,null,-40,2.5,9,2.44,null,2.34,7.02,2.08,14.754098360655732]
[-45,2.8,9.1999999999999993,3.29,null,2.57,7.16,2.78,null,null,null,-45,2.8,9.1999999999999993,2.33,null,2.57,7.16,2]
[null,null,null,null,null,null,null,"avergage",{"$f":"AVERAGE(I61:I70)","v":9.254311848312657},null,null,null,null,null,null,null,null,null,"average",{"$f":"AVERAGE(T61:T70)","v":10.678912163155584}]
[]
[]
[]
[]
[]
[]
[]
[]
["R410A",null,null,"r410a"]
[null,"CoolPack",null,null,null,"Kolsaker",null,null,null,null,null,null,"CoolPack",null,null,null,"Kolsaker"]
["Evaporation temperature [ºC]","Tot. comp. effect [kW]","Cond. effect [kW]","COP",null,"Tot. comp. effect [kW]","Cond. effect [kW]","COP",null,"COP diff.",null,"Evaporation temperature [ºC]","Tot. comp. effect [kW]","Cond. effect [kW]","COP",null,"Tot. comp. effect [kW]","Cond. effect [kW]","COP",null,"COP diff."]
[null,null,null,null,null,null,null,null,null,"[%]",null,null,null,null,null,null,null,null,null,null,"[%]"]
[0,0.9,7.2,8,null,0.75,5.91,7.87,null,null,{"$f":"((D84-H84)/H84)*100","v":1.6518424396442171},0,0.9,7.2,3.17,null,0.75,5.91,2.87,null,null,{"$f":"((O84-S84)/S84)*100","v":10.452961672473862}]
[-5,1.1000000000000001,7.3,6.64,null,0.91,6.06,6.65,null,null,{"$f":"-((D85-H85)/H85)*100","v":0.15037593984963418},-5,1.1000000000000001,7.3,3,null,0.91,6.06,2.77,null,null,{"$f":"((O85-S85)/S85)*100","v":8.3032490974729232}]
[-10,1.2,7.6,6.33,null,1.08,6.22,5.75,null,null,{"$f":"((D86-H86)/H86)*100","v":10.086956521739133},-10,1.2,7.6,3,null,1.08,6.22,2.67,null,null,12.359550561797755]
[-15,1.5,7.9,5.27,null,1.26,6.38,5.0599999999999996,null,null,4.150197628458498,-15,1.5,7.9,2.83,null,1.26,6.38,2.57,null,null,10.116731517509738]
[-20,1.7,8.1999999999999993,4.82,null,1.45,6.55,4.51,null,null,6.8736141906873733,-20,1.7,8.1999999999999993,2.76,null,1.45,6.55,2.48,null,null,11.290322580645155]
[-25,2,8.6,4.3,null,1.65,6.73,4.07,null,null,5.6511056511056399,-25,2,8.6,2.65,null,1.65,6.73,2.39,null,null,10.878661087866099]
[-30,2.2000000000000002,9,4.09,null,1.87,6.91,3.7,null,null,10.540540540540531,-30,2.2000000000000002,9,2.62,null,1.87,6.91,2.2999999999999998,null,null,13.913043478260883]
[-35,2.5,9.4,3.76,null,2.1,7.11,3.39,null,null,10.914454277286126,-35,2.5,9.4,2.5299999999999998,null,2.1,7.11,2.2200000000000002,null,null,13.963963963963947]
[-40,2.7,9.9,3.67,null,2.34,7.32,3.13,null,null,17.252396166134186,-40,2.7,9.9,2.5299999999999998,null,2.34,7.32,2.15,null,null,17.674418604651159]
[-45,3,10.4,3.47,null,2.6,7.55,2.91,null,null,null,-45,3,10.4,2.48,null,2.6,7.55,2.08]
[null,null,null,null,null,null,null,"average",null,null,{"$f":"AVERAGE(K84:K93)","v":7.4746092617161493},null,null,null,null,null,null,null,"average",null,null,{"$f":"AVERAGE(V84:V93)","v":12.105878062737945}]
[]
[]
[]
[]
[]
["Two stage comp"]
["R290","Log p-h diagram",null,"Excel® (Kolsaker, 2013)"]
["Evaporation temperature [ºC]","COP","COP  with DWH","COP","COP with DWH","COP diff. [%]","COP with DWH diff. [%]"]
[0,8.4700000000000006,3.19,7.8,2.93,7.86,8.0299999999999994]
[-5,6.78,2.99,6.54,2.8,3.49,6.22]
[-10,5.42,2.77,5.62,2.67,3.67,3.47]
[-15,4.8499999999999996,2.64,4.92,2.5499999999999998,1.53,3.57]
[-20,4.29,2.5099999999999998,4.37,2.44,1.9,2.98]
[-25,3.87,2.41,3.93,2.34,1.44,2.99]
[-30,3.55,2.3199999999999998,3.56,2.25,0.32,2.94]
[-35,3.19,2.2000000000000002,3.26,2.16,2.04,1.89]
[-40,2.98,2.13,3,2.08,0.52,2.34]
[null,null,null,null,"average",{"$f":"AVERAGE(F103:F111)","v":2.5299999999999998},{"$f":"AVERAGE(G103:G111)","v":3.8255555555555549}]

{"sheet":"SPF","index":5,"n_rows":229,"n_cols":16,"rows_kept":229,"cut":false,"hidden":false,"merged":[]}
["SPF = årsvarmefaktor"]
[]
[]
[]
[]
["Normal temp",null,null,"Average recorded temperature",null,null,null,null,null,"All of the electric usage"]
["1960-1990",null,null,2012,null,2013,null,null,null,"Fan power inside",0.04,"kW"]
[-17.100000000000001,null,null,-13.3,12,-12.6,null,"January",null,"Fan power outside",0.06,"kW"]
[-15.4,null,null,-16.399999999999999,10.6,-10.9,null,"February",null,"Controlls",5.0000000000000001E-3,"kW"]
[-10.3,null,null,-5.5,9,-14.2,null,"March",null,"De-icing",0.5,"kW","This occurs in January-April and October-December"]
[-3.1,null,null,-3,6.1,-2.4,null,"April ",null,"TOTAL",{"$f":"SUM(K7:K10)","v":0.60499999999999998},"kW","This occurs in January-April and October-December"]
[3.8,null,null,4.7,4.7,8.6,null,"Mai",null,"TOTAL no de-icing",{"$f":"K7+K8+K9","v":0.10500000000000001},"kW","This occurs in May-September"]
[10.1,null,null,9,-0.3,13.7,null,"June"]
[13.1,null,null,12,-3,13.9,null,"July"]
[10.7,null,null,10.6,-5.5,12.5,null,"August"]
[5.3,null,null,6.1,-5.5,9.1,null,"September"]
[-1.3,null,null,-0.3,-13.3,-0.7,null,"October"]
[-9.4,null,null,-5.5,-15.8,-7.9,null,"November"]
[-15.3,null,null,-15.8,-16.399999999999999,-10.5,null,"December"]
[{"$f":"AVERAGE(A8:A19)","v":-2.4083333333333332},"average",null,{"$f":"AVERAGE(D8:D19)","v":-1.4500000000000002},"average",{"$f":"AVERAGE(F8:F19)","v":-0.1166666666666667},"average"]
[]
[]
["R744",null,null,null,null,null,null,"CoolPack"]
["Outside temp","Evaporator temp",null,"Effect comp",null,"Effect gas cooler",null,"COP","COP+ al el"]
[-17.100000000000001,{"$f":"A25-5","v":-22.1},"˚C",2.14,"kW",7.3,"kW",{"$f":"F25/D25","v":3.4112149532710276},{"$f":"F25/(D25+K11)","v":2.6593806921675771},"January",{"$f":"I37","v":4.0764961900073091}]
[-15.4,{"$f":"A26-5","v":-20.399999999999999},"˚C",2.0499999999999998,"kW",7.22,"kW",3.5219512195121951,{"$f":"F26/(D26+K11)","v":2.71939736346516},"February",{"$f":"K25","v":4.0764961900073091}]
[-10.3,-15.3,"˚C",1.79,"kW",6.98,"kW",3.8994413407821229,{"$f":"F27/(D27+K11)","v":2.9144050104384136},"March",{"$f":"K26","v":4.0764961900073091}]
[-3.1,-8.1,"˚C",1.46,"kW",6.64,"kW",4.5479452054794516,{"$f":"F28/(D28+K11)","v":3.2154963680387407},"April ",4.0764961900073091]
[3.8,-1.2000000000000002,"˚C",1.17,"kW",6.33,"kW",5.4102564102564106,{"$f":"F29/(D29+K12)","v":4.9647058823529413},"Mai",4.0764961900073091]
[10.1,5.0999999999999996,"˚C",0.92,"kW",6.04,"kW",6.5652173913043477,{"$f":"F30/(D30+K12)","v":5.8926829268292673},"June",4.0764961900073091]
[13.1,8.1,"˚C",0.81,"kW",5.9,"kW",7.283950617283951,{"$f":"F31/(D31+K12)","v":6.4480874316939891},"July",4.0764961900073091]
[10.7,5.6999999999999993,"˚C",0.9,"kW",6,"kW",6.6666666666666661,{"$f":"F32/(D32+K12)","v":5.9701492537313428},"August",4.0764961900073091]
[5.3,0.29999999999999982,"˚C",1.1100000000000001,"kW",6.26,"kW",5.6396396396396389,{"$f":"F33/(D33+K12)","v":5.1522633744855959},"September",4.0764961900073091]
[-1.3,-6.3,"˚C",1.38,"kW",6.56,"kW",4.7536231884057969,{"$f":"F34/(D34+K11)","v":3.3047858942065491},"October",4.0764961900073091]
[-9.4,-14.4,"˚C",1.75,"kW",6.94,"kW",3.9657142857142857,{"$f":"F35/(D35+K11)","v":2.9469214437367306},"November",4.0764961900073091]
[-15.3,-20.3,"˚C",2.04,"kW",7.22,"kW",3.5392156862745097,{"$f":"F36/(D36+K11)","v":2.7296786389413987},"December",4.0764961900073091]
[null,null,null,null,null,null,"average",{"$f":"AVERAGE(H25:H36)","v":4.9337363837158668},{"$f":"AVERAGE(I25:I36)","v":4.0764961900073091}]
[]
[]
[]
[]
[]
[]
[]
[]
["Refrigerant",null,"R717"]
["Two-stage Compression"]
["Evaporation temperature",null,-22.1,"˚C"]
["Evaporation pressure",null,{"$f":"r_psatgasT(C46,C48)/100000","v":1.7308339725061561},"bar"]
["Temperature in to compressor",null,{"$f":"C48+2","v":-20.100000000000001},"˚C"]
["1. Compressor"]
["Enthalpy input compressor",null,{"$f":"r_hgastp(C46,C50,C49*100000)/1000","v":1600.5394179993791},"kJ/kg"]
["Entropy",null,{"$f":"R_SgasTP(C46,C50,C49*100000)","v":6515.448570322681},"J/kgK",null,"R717","CoolPack",null,null,null,null,null,"CoolPack"]
["Specific volume",null,{"$f":"R_vgasTP(C46,C50,C49*100000)","v":0.68719653159479954},"m3/kg",null,"Outside temp","Evaporator temp",null,"Effect comp",null,"Effect gas cooler",null,"COP","COP+water+ el"]
[null,null,null,null,null,-17.100000000000001,{"$f":"F55-5","v":-22.1},"˚C",2,"kW",7.9,"kW",{"$f":"K55/I55","v":3.95},{"$f":"(K55+2)/(I55+2+K11)","v":2.1498371335504887},"January",{"$f":"N67","v":2.5777636461986337}]
["Intermediat temperature",null,5,"˚C",null,-15.4,{"$f":"F56-5","v":-20.399999999999999},"˚C",1.9,"kW",7.8,"kW",{"$f":"K56/I56","v":4.1052631578947372},{"$f":"(K56+2)/(I56+2+K11)","v":2.1753607103218648},"February",{"$f":"P55","v":2.5777636461986337}]
["Intermediat pressure",null,{"$f":"r_psatgasT(C46,C56)/100000","v":5.1564701792426098},"bar",null,-10.3,-15.3,"˚C",1.7,"kW",7.6,"kW",4.4705882352941178,{"$f":"(K57+2)/(I57+2+K11)","v":2.229965156794425},"March",{"$f":"P56","v":2.5777636461986337}]
["Intermediat pressure ratio",null,{"$f":"C57/C49","v":2.9791824410381276},null,null,-3.1,-8.1,"˚C",1.3,"kW",7.3,"kW",5.615384615384615,{"$f":"(K58+2)/(I58+2+K11)","v":2.3815620998719593},"April ",2.5777636461986337]
["Isentropic efficiency",null,0.7,null,null,3.8,-1.2000000000000002,"˚C",1,"kW",7.1,"kW",7.1,{"$f":"(K59+2)/(I59+2+K12)","v":2.9307568438003218},"Mai",2.5777636461986337]
[null,null,null,null,null,10.1,5.0999999999999996,"˚C",0.8,"kW",6.9,"kW",8.625,{"$f":"(K60+2)/(I60+2+K12)","v":3.0636833046471605},"June",2.5777636461986337]
["Isentropic entalpy",null,{"$f":"R_hgasSP(C46,C53,C57*100000)/1000","v":1748.124299607133},"kJ/kg",null,13.1,8.1,"˚C",0.7,"kW",6.8,"kW",9.7142857142857153,{"$f":"(K61+2)/(I61+2+K12)","v":3.1372549019607843},"July",2.5777636461986337]
["Real entropy",null,{"$f":"C52+(C61-C52)/C59","v":1811.3749631533133},"kJ/kg",null,10.7,5.6999999999999993,"˚C",0.8,"kW",6.9,"kW",8.625,{"$f":"(K62+2)/(I62+2+K12)","v":3.0636833046471605},"August",2.5777636461986337]
["Temperature out of compressor",null,{"$f":"R_tgasHP(C46,C62*1000,C57*100000)","v":79.016211067231723},"˚C",null,5.3,0.29999999999999982,"˚C",1,"kW",7,"kW",7,{"$f":"(K63+2)/(I63+2+K12)","v":2.8985507246376812},"September",2.5777636461986337]
["Enthalpy on the dewpoint line",null,{"$f":"R_hsatgasT(C46,C56)/1000","v":1628.9138084843519},"kJ/kg",null,-1.3,-6.3,"˚C",1.2,"kW",7.3,"kW",6.083333333333333,{"$f":"(K64+2)/(I64+2+K11)","v":2.4441524310118266},"October",2.5777636461986337]
["2. Compressor",null,null,null,null,-9.4,-14.4,"˚C",1.6,"kW",7.6,"kW",4.7499999999999991,{"$f":"(K65+2)/(I65+2+K11)","v":2.2829964328180736},"November",2.5777636461986337]
["Intermediat cooling",null,10,"K",null,-15.3,-20.3,"˚C",1.9,"kW",7.8,"kW",4.1052631578947372,{"$f":"(K66+2)/(I66+2+K11)","v":2.1753607103218648},"December",2.5777636461986337]
["Temperature in to compressor",null,{"$f":"C63-C66","v":69.016211067231723},"˚C",null,null,null,null,null,null,null,"average",{"$f":"AVERAGE(M55:M66)","v":6.1786765178406045},{"$f":"AVERAGE(N55:N66)","v":2.5777636461986337}]
["Enthalpy input compressor",null,{"$f":"r_hgastp(C46,C67,C57*100000)/1000","v":1787.8878853485191},"kJ/kg"]
["Entropy",null,{"$f":"R_SgasTP(C46,C67,C57*100000)","v":6634.6133870941767},"J/kgK"]
["Specific volume",null,{"$f":"R_vgasTP(C46,C67,C57*100000)","v":0.31357223440071552},"m3/kg",null,"R717","Kolsaker",null,null,null,null,null,"Kolsaker"]
[null,null,null,null,null,"Outside temp","Evaporator temp",null,"Effect comp",null,"Effect condenser",null,"COP","COP + water+el"]
["Condensating temperature",null,28,"˚C",null,-17.100000000000001,{"$f":"F72-5","v":-22.1},"˚C",{"$f":"'SPF kols'!C70+'SPF kols'!G70","v":1.7304058049800055},"kW",7.53,"kW",{"$f":"K72/I72","v":4.3515804086700971},{"$f":"(K72+2)/(I72+2+K11)","v":2.198179462013234}]
["Condensating pressure",null,{"$f":"r_psatgasT(C46,C72)/100000","v":10.98753082742004},"bar",null,-15.4,{"$f":"F73-5","v":-20.399999999999999},"˚C",{"$f":"'SPF kols'!C71+'SPF kols'!G71","v":1.6541294213313602},"kW",7.45,"kW",{"$f":"K73/I73","v":4.5038797472109007},{"$f":"(K73+2)/(I73+2+K11)","v":2.2187632882604507}]
["Pressure ration",null,{"$f":"C73/C57","v":2.1308240803273502},null,null,-10.3,-15.3,"˚C",{"$f":"'SPF kols'!C72+'SPF kols'!G72","v":1.4341197007589552},"kW",7.22,"kW",5.0344472613960187,{"$f":"(K74+2)/(I74+2+K11)","v":2.282675603366632}]
["Pressure ration TOTAL",null,{"$f":"C73/C49","v":6.348113685052458},null,null,-3.1,-8.1,"˚C",{"$f":"'SPF kols'!C73+'SPF kols'!G73","v":1.1445338288747795},"kW",6.92,"kW",6.0461297214807788,{"$f":"(K75+2)/(I75+2+K11)","v":2.3789624009544825}]
["Isentropic efficiency",null,0.7,null,null,3.8,-1.2000000000000002,"˚C",{"$f":"'SPF kols'!C74+'SPF kols'!G74","v":0.88825962976002493},"kW",6.65,"kW",7.48654985231805,{"$f":"(K76+2)/(I76+2+K12)","v":2.8898261660962188}]
[null,null,null,null,null,10.1,5.0999999999999996,"˚C",{"$f":"'SPF kols'!C75+'SPF kols'!G75","v":0.73349316330546055},"kW",6.6,"kW",8.9980388777685896,{"$f":"(K77+2)/(I77+2+K12)","v":3.0297765417145457}]
["Isentropic entalpy",null,{"$f":"R_hgasSP(C46,C69,C73*100000)/1000","v":1920.863023230434},"kJ/kg",null,13.1,8.1,"˚C",{"$f":"'SPF kols'!C76+'SPF kols'!G76","v":0.62464213931758095},"kW",6.57,"kW",10.518022378665806,{"$f":"(K78+2)/(I78+2+K12)","v":3.1396056928336131}]
["Real entropy",null,{"$f":"C68+(C78-C68)/C76","v":1977.852368036969},"kJ/kg",null,10.7,5.6999999999999993,"˚C",{"$f":"'SPF kols'!C77+'SPF kols'!G77","v":0.71143498291343166},"kW",6.58,"kW",9.2489126315575945,{"$f":"(K79+2)/(I79+2+K12)","v":3.0464044268916548}]
["Temperature out of compressor",null,{"$f":"R_tgasHP(C46,C79*1000,C73*100000)","v":154.78542271759261},"˚C",null,5.3,0.29999999999999982,"˚C",{"$f":"'SPF kols'!C78+'SPF kols'!G78","v":0.83511945359827588},"kW",6.6,"kW",7.9030610190705124,{"$f":"(K80+2)/(I80+2+K12)","v":2.9250512218049027}]
["Enthalpy on the dewpoint line",null,{"$f":"R_hsatgasT(C46,C72)/1000","v":1647.0569069437411},"kJ/kg",null,-1.3,-6.3,"˚C",{"$f":"'SPF kols'!C79+'SPF kols'!G79","v":1.0757486277540185},"kW",6.85,"kW",6.3676585991112473,{"$f":"(K81+2)/(I81+2+K11)","v":2.4044021733155527}]
["Subcooling of condenser",null,18,"K",null,-9.4,-14.4,"˚C",{"$f":"'SPF kols'!C80+'SPF kols'!G80","v":1.3966115287858294},"kW",7.18,"kW",5.1410144138234832,{"$f":"(K82+2)/(I82+2+K11)","v":2.2940757577198898}]
["Enthalpy out of the condenser",null,{"$f":"R_hsatliqT(C46,C72-C82)/1000","v":408.51500138371409},"kJ/kg",null,-15.3,-20.3,"˚C",{"$f":"'SPF kols'!C81+'SPF kols'!G81","v":1.6496894327839005},"kW",7.45,"kW",4.51600152849855,{"$f":"(K83+2)/(I83+2+K11)","v":2.2210786825436371}]
[null,null,null,null,null,null,null,null,null,null,null,"average",{"$f":"AVERAGE(M72:M83)","v":6.6762747032976355},{"$f":"AVERAGE(N72:N83)","v":2.5857334514595682}]
["Enthalpy in to evaporator",null,{"$f":"R_HsatliqP(C46,C56*100000)/1000","v":381.18927247962228},"kJ/kg"]
["Moist vapor - xf",null,{"$f":"(C68-C83)/(C68-C85)","v":0.98057456753414851}]
["Cooling capacity",null,{"$f":"C89*(C52-C85)","v":5.8528806984948316},"kW"]
["Cooling COP",null,{"$f":"C87/C97","v":3.0736991391630211}]
["Refrigerant mass flow",null,4.7999999999999996E-3,"kg/s"]
["Volume flow",null,{"$f":"C91/3600","v":2.166666666666667E-3},"m3/s"]
["Volume flow",null,{"$f":"C93*C92","v":7.8000000000000007},"m3/h"]
["Volumetric efficiency",null,0.65]
["Cylinder volume",null,12,"m3/h"]
[]
["Compressor effect 1. compressor",null,{"$f":"(C89*C86)*(C62-C52)","v":0.99235187284869808},"kW"]
["Compressor effect 2. compressor",null,{"$f":"C89*(C79-C68)","v":0.91182951690455916},"kW"]
["Compressor effect TOTAL",null,{"$f":"C96+C95","v":1.9041813897532571},"kW"]
["Over heating heat",null,{"$f":"(C89*(C79-C81))+((C89/2)*(C62-C64))","v":2.0257249844530012},"kW"]
["Heating capacity",null,{"$f":"(C89*(C79-C83))","v":7.5328193599356226},"kW"]
["Heating COP",null,{"$f":"C99/C97","v":3.9559358160262881}]
["pluss (+) 2 kW water heating",null,{"$f":"(C99+2)/(C97+2)","v":2.4416947903483792}]
[]
[]
[]
[]
[]
[]
[]
[]
["Refrigerant",null,"R290"]
["Two-stage Compression"]
["Evaporation temperature",null,-22.1,"˚C"]
["Evaporation pressure",null,{"$f":"r_psatgasT(C110,C112)/100000","v":2.2648394532610929},"bar"]
["Temperature in to compressor",null,{"$f":"C112+2","v":-20.100000000000001},"˚C"]
["1. Compressor"]
["Enthalpy input compressor",null,{"$f":"r_hgastp(C110,C114,C113*100000)/1000","v":553.33981436467218},"kJ/kg"]
["Entropy",null,{"$f":"R_SgasTP(C110,C114,C113*100000)","v":2417.9960038026911},"J/kgK"]
["Specific volume",null,{"$f":"R_vgasTP(C110,C114,C113*100000)","v":0.19797469715484259},"m3/kg",null,"R290","CoolPack",null,null,null,null,null,"Kolsaker"]
[null,null,null,null,null,"Outside temp","Evaporator temp",null,"Effect comp",null,"Effect condenser",null,"COP","COP + water+el"]
["Intermediat temperature",null,5,"˚C",null,-17.100000000000001,{"$f":"F120-5","v":-22.1},"˚C",1.6,"kW",7.6,"kW",{"$f":"K120/I120","v":4.7499999999999991},{"$f":"(K120+2)/(I120+2+K11)","v":2.2829964328180736},"January",{"$f":"N132","v":2.6733861568376516}]
["Intermediat pressure",null,{"$f":"r_psatgasT(C110,C120)/100000","v":5.5025861444976254},"bar",null,-15.4,{"$f":"F121-5","v":-20.399999999999999},"˚C",1.6,"kW",7.5,"kW",{"$f":"K121/I121","v":4.6875},{"$f":"(K121+2)/(I121+2+K11)","v":2.2592152199762188},"February",{"$f":"P120","v":2.6733861568376516}]
["Intermediat pressure ratio",null,{"$f":"C121/C113","v":2.4295700680127994},null,null,-10.3,-15.3,"˚C",1.4,"kW",7.4,"kW",5.2857142857142865,{"$f":"(K122+2)/(I122+2+K11)","v":2.3470661672908864},"March",{"$f":"P121","v":2.6733861568376516}]
["Isentropic efficiency",null,0.7,null,null,-3.1,-8.1,"˚C",1.1000000000000001,"kW",7.2,"kW",6.545454545454545,{"$f":"(K123+2)/(I123+2+K11)","v":2.4831309041835357},"April ",2.6733861568376516]
[null,null,null,null,null,3.8,-1.2000000000000002,"˚C",0.9,"kW",7.1,"kW",7.8888888888888884,{"$f":"(K124+2)/(I124+2+K12)","v":3.0282861896838602},"Mai",2.6733861568376516]
["Isentropic entalpy",null,{"$f":"R_hgasSP(C110,C117,C121*100000)/1000","v":594.58809183246842},"kJ/kg",null,10.1,5.0999999999999996,"˚C",0.7,"kW",6.8,"kW",9.7142857142857153,{"$f":"(K125+2)/(I125+2+K12)","v":3.1372549019607843},"June",2.6733861568376516]
["Real entropy",null,{"$f":"C116+(C125-C116)/C123","v":612.26592503295251},"kJ/kg",null,13.1,8.1,"˚C",0.6,"kW",6.8,"kW",11.333333333333334,{"$f":"(K126+2)/(I126+2+K12)","v":3.2532347504621075},"July",2.6733861568376516]
["Temperature out of compressor",null,{"$f":"R_tgasHP(C110,C126*1000,C121*100000)","v":22.183560184523859},"˚C",null,10.7,5.6999999999999993,"˚C",0.7,"kW",6.8,"kW",9.7142857142857153,{"$f":"(K127+2)/(I127+2+K12)","v":3.1372549019607843},"August",2.6733861568376516]
["Enthalpy on the dewpoint line",null,{"$f":"R_hsatgasT(C110,C120)/1000","v":582.61626311269742},"kJ/kg",null,5.3,0.29999999999999982,"˚C",0.9,"kW",7.1,"kW",7.8888888888888884,{"$f":"(K128+2)/(I128+2+K12)","v":3.0282861896838602},"September",2.6733861568376516]
["2. Compressor",null,null,null,null,-1.3,-6.3,"˚C",1.1000000000000001,"kW",7.2,"kW",6.545454545454545,{"$f":"(K129+2)/(I129+2+K11)","v":2.4831309041835357},"October",2.6733861568376516]
["Intermediat cooling",null,10,"K",null,-9.4,-14.4,"˚C",1.3,"kW",7.3,"kW",5.615384615384615,{"$f":"(K130+2)/(I130+2+K11)","v":2.3815620998719593},"November",2.6733861568376516]
["Temperature in to compressor",null,{"$f":"C127-C130","v":12.183560184523859},"˚C",null,-15.3,-20.3,"˚C",1.6,"kW",7.5,"kW",4.6875,{"$f":"(K131+2)/(I131+2+K11)","v":2.2592152199762188},"December",2.6733861568376516]
["Enthalpy input compressor",null,{"$f":"r_hgastp(C110,C131,C121*100000)/1000","v":594.90100584291724},"kJ/kg",null,null,null,null,null,null,null,"average",{"$f":"AVERAGE(M120:M131)","v":7.0547242109742108},{"$f":"AVERAGE(N120:N131)","v":2.6733861568376516}]
["Entropy",null,{"$f":"R_SgasTP(C110,C131,C121*100000)","v":2419.0930138256622},"J/kgK"]
["Specific volume",null,{"$f":"R_vgasTP(C110,C131,C121*100000)","v":8.6982326215071765E-2},"m3/kg"]
[null,null,null,null,null,"R290","Kolsaker",null,null,null,null,null,"Kolsaker"]
["Condensating temperature",null,28,"˚C",null,"Outside temp","Evaporator temp",null,"Effect comp",null,"Effect condenser",null,"COP","COP + water+el"]
["Condensating pressure",null,{"$f":"r_psatgasT(C110,C136)/100000","v":10.273569009704531},"bar",null,-17.100000000000001,{"$f":"F137-5","v":-22.1},"˚C",1.78,"kW",7.42,"kW",{"$f":"K137/I137","v":4.1685393258426968},{"$f":"(K137+2)/(I137+2+K11)","v":2.1482326111744583},"January"]
["Pressure ration",null,{"$f":"C137/C121","v":1.8670437390567169},null,null,-15.4,{"$f":"F138-5","v":-20.399999999999999},"˚C",1.71,"kW",7.38,"kW",{"$f":"K138/I138","v":4.3157894736842106},{"$f":"(K138+2)/(I138+2+K11)","v":2.1738122827346467},"February"]
["Pressure ration TOTAL",null,{"$f":"C137/C113","v":4.5361135840828997},null,null,-10.3,-15.3,"˚C",1.49,"kW",7.27,"kW",4.8791946308724832,{"$f":"(K139+2)/(I139+2+K11)","v":2.2637362637362632},"March"]
["Isentropic efficiency",null,0.7,null,null,-3.1,-8.1,"˚C",1.2,"kW",7.13,"kW",5.9416666666666664,{"$f":"(K140+2)/(I140+2+K11)","v":2.3994743758212875},"April "]
[null,null,null,null,null,3.8,-1.2000000000000002,"˚C",0.94,"kW",7,"kW",7.4468085106382986,{"$f":"(K141+2)/(I141+2+K12)","v":2.9556650246305418},"Mai"]
["Isentropic entalpy",null,{"$f":"R_hgasSP(C110,C133,C137*100000)/1000","v":625.08921356381927},"kJ/kg",null,10.1,5.0999999999999996,"˚C",0.78,"kW",7.25,"kW",{"$f":"K142/I142","v":9.2948717948717938},{"$f":"(K142+2)/(I142+2+K12)","v":3.2062391681109181},"June"]
["Real entropy",null,{"$f":"C132+(C142-C132)/C140","v":638.02701687277727},"kJ/kg",null,13.1,8.1,"˚C",0.66,"kW",7.2,"kW",{"$f":"K143/I143","v":10.909090909090908},{"$f":"(K143+2)/(I143+2+K12)","v":3.3273056057866182},"July"]
["Temperature out of compressor",null,{"$f":"R_tgasHP(C110,C143*1000,C137*100000)","v":44.107097380707842},"˚C",null,10.7,5.6999999999999993,"˚C",0.76,"kW",7.2,"kW",{"$f":"K144/I144","v":9.473684210526315},{"$f":"(K144+2)/(I144+2+K12)","v":3.2111692844677138},"August"]
["Enthalpy on the dewpoint line",null,{"$f":"R_hsatgasT(C110,C136)/1000","v":607.19680446671089},"kJ/kg",null,5.3,0.29999999999999982,"˚C",0.88,"kW",6.98,"kW",7.9318181818181825,{"$f":"(K145+2)/(I145+2+K12)","v":3.0083752093802349},"September"]
["Subcooling of condenser",null,18,"K",null,-1.3,-6.3,"˚C",1.1299999999999999,"kW",7.09,"kW",6.2743362831858409,{"$f":"(K146+2)/(I146+2+K11)","v":2.4337349397590362},"October"]
["Enthalpy out of the condenser",null,{"$f":"R_hsatliqT(C110,C136-C146)/1000","v":225.69125737335608},"kJ/kg",null,-9.4,-14.4,"˚C",1.45,"kW",7.25,"kW",5,{"$f":"(K147+2)/(I147+2+K11)","v":2.281134401972873},"November"]
[null,null,null,null,null,-15.3,-20.3,"˚C",1.7,"kW",7.38,"kW",4.341176470588235,{"$f":"(K148+2)/(I148+2+K11)","v":2.178861788617886},"December"]
["Enthalpy in to evaporator",null,{"$f":"R_HsatliqP(C110,C120*100000)/1000","v":204.50694346106201},"kJ/kg",null,null,null,null,null,null,null,"average",{"$f":"AVERAGE(M137:M148)","v":6.6647480381488036},{"$f":"AVERAGE(N137:N148)","v":2.6323117463493735}]
["Moist vapor - xf",null,{"$f":"(C132-C147)/(C132-C149)","v":0.94573607553597194}]
["Cooling capacity",null,{"$f":"C153*(C116-C149)","v":6.2789916762649822},"kW"]
["Cooling COP",null,{"$f":"C151/C161","v":3.5287484161908238}]
["Refrigerant mass flow",null,1.7999999999999999E-2,"kg/s"]
["Volume flow",null,{"$f":"C155/3600","v":2.166666666666667E-3},"m3/s"]
["Volume flow",null,{"$f":"C157*C156","v":7.8000000000000007},"m3/h"]
["Volumetric efficiency",null,0.65]
["Cylinder volume",null,12,"m3/h"]
[]
["Compressor effect 1. compressor",null,{"$f":"(C153*C150)*(C126-C116)","v":1.0031138757003204},"kW"]
["Compressor effect 2. compressor",null,{"$f":"C153*(C143-C132)","v":0.77626819853748041},"kW"]
["Compressor effect TOTAL",null,{"$f":"C160+C159","v":1.7793820742378008},"kW"]
["Over heating heat",null,{"$f":"(C153*(C143-C145))+((C153/2)*(C126-C128))","v":0.82179078059149058},"kW"]
["Heating capacity",null,{"$f":"(C153*(C143-C147))","v":7.4220436709895816},"kW"]
["Heating COP",null,{"$f":"C163/C161","v":4.1711354623873111}]
["pluss (+) 2 kW water heating",null,{"$f":"(C163+2)/(C161+2)","v":2.4930116844272097}]
[]
[]
[]
[]
[]
[]
[]
[]
["Refrigerant",null,"R410A"]
["Two-stage Compression"]
["Evaporation temperature",null,-22.1,"˚C"]
["Evaporation pressure",null,{"$f":"r_psatgasT(C174,C176)/100000","v":3.6905643951300688},"bar"]
["Temperature in to compressor",null,{"$f":"C176+2","v":-20.100000000000001},"˚C"]
["1. Compressor"]
["Enthalpy input compressor",null,{"$f":"r_hgastp(C174,C178,C177*100000)/1000","v":416.75243844464467},"kJ/kg"]
["Entropy",null,{"$f":"R_SgasTP(C174,C178,C177*100000)","v":1869.0465520291621},"J/kgK"]
["Specific volume",null,{"$f":"R_vgasTP(C174,C178,C177*100000)","v":7.0594626165432897E-2},"m3/kg",null,"R410A","CoolPack",null,null,null,null,null,"Kolsaker"]
[null,null,null,null,null,"Outside temp","Evaporator temp",null,"Effect comp",null,"Effect condenser",null,"COP","COP + water+el"]
["Intermediat temperature",null,5,"˚C",null,-17.100000000000001,{"$f":"F184-5","v":-22.1},"˚C",1.8,"kW",8.4,"kW",{"$f":"K184/I184","v":4.666666666666667},{"$f":"(K184+2)/(I184+2+K11)","v":2.3609534619750288},"January",{"$f":"N196","v":2.6928504935509845}]
["Intermediat pressure",null,{"$f":"r_psatgasT(C174,C184)/100000","v":9.3098172513601298},"bar",null,-15.4,{"$f":"F185-5","v":-20.399999999999999},"˚C",1.7,"kW",8,"kW",{"$f":"K185/I185","v":4.7058823529411766},{"$f":"(K185+2)/(I185+2+K11)","v":2.3228803716608595},"February",{"$f":"P184","v":2.6928504935509845}]
["Intermediat pressure ratio",null,{"$f":"C185/C177","v":2.5225998667426093},null,null,-10.3,-15.3,"˚C",1.5,"kW",7.8,"kW",5.2,{"$f":"(K186+2)/(I186+2+K11)","v":2.3873325213154688},"March",{"$f":"P185","v":2.6928504935509845}]
["Isentropic efficiency",null,0.7,null,null,-3.1,-8.1,"˚C",1.2,"kW",7.4,"kW",6.166666666666667,{"$f":"(K187+2)/(I187+2+K11)","v":2.4704336399474376},"April ",2.6928504935509845]
[null,null,null,null,null,3.8,-1.2000000000000002,"˚C",1,"kW",7.2,"kW",7.2,{"$f":"(K188+2)/(I188+2+K12)","v":2.9629629629629628},"Mai",2.6928504935509845]
["Isentropic entalpy",null,{"$f":"R_hgasSP(C174,C181,C185*100000)/1000","v":442.25288371636191},"kJ/kg",null,10.1,5.0999999999999996,"˚C",0.7,"kW",6.8,"kW",9.7142857142857153,{"$f":"(K189+2)/(I189+2+K12)","v":3.1372549019607843},"June",2.6928504935509845]
["Real entropy",null,{"$f":"C180+(C189-C180)/C187","v":453.18164597566931},"kJ/kg",null,13.1,8.1,"˚C",0.6,"kW",6.8,"kW",11.333333333333334,{"$f":"(K190+2)/(I190+2+K12)","v":3.2532347504621075},"July",2.6928504935509845]
["Temperature out of compressor",null,{"$f":"R_tgasHP(C174,C190*1000,C185*100000)","v":31.95311157724905},"˚C",null,10.7,5.6999999999999993,"˚C",0.7,"kW",6.8,"kW",9.7142857142857153,{"$f":"(K191+2)/(I191+2+K12)","v":3.1372549019607843},"August",2.6928504935509845]
["Enthalpy on the dewpoint line",null,{"$f":"R_hsatgasT(C174,C184)/1000","v":423.8985647127937},"kJ/kg",null,5.3,0.29999999999999982,"˚C",0.9,"kW",7.2,"kW",8,{"$f":"(K192+2)/(I192+2+K12)","v":3.0615640599001663},"September",2.6928504935509845]
["2. Compressor",null,null,null,null,-1.3,-6.3,"˚C",1.1000000000000001,"kW",7.3,"kW",6.6363636363636358,{"$f":"(K193+2)/(I193+2+K11)","v":2.5101214574898787},"October",2.6928504935509845]
["Intermediat cooling",null,10,"K",null,-9.4,-14.4,"˚C",1.5,"kW",7.8,"kW",5.2,{"$f":"(K194+2)/(I194+2+K11)","v":2.3873325213154688},"November",2.6928504935509845]
["Temperature in to compressor",null,{"$f":"C191-C194","v":21.95311157724905},"˚C",null,-15.3,-20.3,"˚C",1.7,"kW",8,"kW",4.7058823529411766,{"$f":"(K195+2)/(I195+2+K11)","v":2.3228803716608595},"December",2.6928504935509845]
["Enthalpy input compressor",null,{"$f":"r_hgastp(C174,C195,C185*100000)/1000","v":442.7178646549869},"kJ/kg",null,null,null,null,null,null,null,"average",{"$f":"AVERAGE(M184:M195)","v":6.9369472031236752},{"$f":"AVERAGE(N184:N195)","v":2.6928504935509845}]
["Entropy",null,{"$f":"R_SgasTP(C174,C195,C185*100000)","v":1870.623377483771},"J/kgK"]
["Specific volume",null,{"$f":"R_vgasTP(C174,C195,C185*100000)","v":3.1194731764253261E-2},"m3/kg"]
[null,null,null,null,null,"R410A","Kolsaker",null,null,null,null,null,"Kolsaker"]
["Condensating temperature",null,28,"˚C",null,"Outside temp","Evaporator temp",null,"Effect comp",null,"Effect condenser",null,"COP","COP + water+el"]
["Condensating pressure",null,{"$f":"r_psatgasT(C174,C200)/100000","v":17.829772179326831},"bar",null,-17.100000000000001,{"$f":"F201-5","v":-22.1},"˚C",1.73,"kW",7.46,"kW",{"$f":"K201/I201","v":4.3121387283236992},{"$f":"(K201+2)/(I201+2+K11)","v":2.1822376009227225},"January"]
["Pressure ration",null,{"$f":"C201/C185","v":1.9151581280203935},null,null,-15.4,{"$f":"F202-5","v":-20.399999999999999},"˚C",1.65,"kW",7.4,"kW",{"$f":"K202/I202","v":4.4848484848484853},{"$f":"(K202+2)/(I202+2+K11)","v":2.2091656874265571},"February"]
["Pressure ration TOTAL",null,{"$f":"C201/C177","v":4.8311776385352694},null,null,-10.3,-15.3,"˚C",1.43,"kW",7.2,"kW",5.034965034965035,{"$f":"(K203+2)/(I203+2+K11)","v":2.2800495662949194},"March"]
["Isentropic efficiency",null,0.7,null,null,-3.1,-8.1,"˚C",1.1399999999999999,"kW",6.94,"kW",6.0877192982456148,{"$f":"(K204+2)/(I204+2+K11)","v":2.3871829105473972},"April "]
[null,null,null,null,null,3.8,-1.2000000000000002,"˚C",0.89,"kW",6.7,"kW",7.5280898876404496,{"$f":"(K205+2)/(I205+2+K12)","v":2.9048414023372282},"Mai"]
["Isentropic entalpy",null,{"$f":"R_hgasSP(C174,C197,C201*100000)/1000","v":462.12677257106594},"kJ/kg",null,10.1,5.0999999999999996,"˚C",0.73,"kW",6.9,"kW",{"$f":"K206/I206","v":9.4520547945205493},{"$f":"(K206+2)/(I206+2+K12)","v":3.1393298059964727},"June"]
["Real entropy",null,{"$f":"C196+(C206-C196)/C204","v":470.44487596367122},"kJ/kg",null,13.1,8.1,"˚C",0.62,"kW",6.82,"kW",{"$f":"K207/I207","v":11},{"$f":"(K207+2)/(I207+2+K12)","v":3.236697247706422},"July"]
["Temperature out of compressor",null,{"$f":"R_tgasHP(C174,C207*1000,C201*100000)","v":61.582557254297107},"˚C",null,10.7,5.6999999999999993,"˚C",0.71,"kW",6.89,"kW",{"$f":"K208/I208","v":9.704225352112676},{"$f":"(K208+2)/(I208+2+K12)","v":3.1580817051509773},"August"]
["Enthalpy on the dewpoint line",null,{"$f":"R_hsatgasT(C174,C200)/1000","v":427.50292764073419},"kJ/kg",null,5.3,0.29999999999999982,"˚C",0.84,"kW",6.65,"kW",{"$f":"K209/I209","v":7.916666666666667},{"$f":"(K209+2)/(I209+2+K12)","v":2.9371816638370123},"September"]
["Subcooling of condenser",null,18,"K",null,-1.3,-6.3,"˚C",1.08,"kW",6.87,"kW",6.3611111111111107,{"$f":"(K210+2)/(I210+2+K11)","v":2.4070556309362283},"October"]
["Enthalpy out of the condenser",null,{"$f":"R_hsatliqT(C174,C200-C210)/1000","v":215.74554978637232},"kJ/kg",null,-9.4,-14.4,"˚C",1.4,"kW",7.17,"kW",5.1214285714285719,{"$f":"(K211+2)/(I211+2+K11)","v":2.2896379525593011},"November"]
[null,null,null,null,null,-15.3,-20.3,"˚C",1.65,"kW",7.39,"kW",4.4787878787878785,{"$f":"(K212+2)/(I212+2+K11)","v":2.2068155111633376},"December"]
["Enthalpy in to evaporator",null,{"$f":"R_HsatliqP(C174,C184*100000)/1000","v":178.81416361766341},"kJ/kg",null,null,null,null,null,null,null,"average",{"$f":"AVERAGE(M201:M212)","v":6.7901696507208955},{"$f":"AVERAGE(N201:N212)","v":2.6115230570732146}]
["Moist vapor - xf",null,{"$f":"(C196-C211)/(C196-C213)","v":0.86005733900834636}]
["Cooling capacity",null,{"$f":"C217*(C180-C213)","v":6.9715914524305509},"kW"]
["Cooling COP",null,{"$f":"C215/C225","v":4.0288765978285115}]
["Refrigerant mass flow",null,2.93E-2,"kg/s"]
["Volume flow",null,{"$f":"C219/3600","v":2.166666666666667E-3},"m3/s"]
["Volume flow",null,{"$f":"C221*C220","v":7.8000000000000007},"m3/h"]
["Volumetric efficiency",null,0.65]
["Cylinder volume",null,12,"m3/h"]
[]
["Compressor effect 1. compressor",null,{"$f":"(C217*C214)*(C190-C180)","v":0.91800437363555487},"kW"]
["Compressor effect 2. compressor",null,{"$f":"C217*(C207-C196)","v":0.81240143134445075},"kW"]
["Compressor effect TOTAL",null,{"$f":"C224+C223","v":1.7304058049800055},"kW"]
["Over heating heat",null,{"$f":"(C217*(C207-C209))+((C217/2)*(C190-C192))","v":1.6871962263631828},"kW"]
["Heating capacity",null,{"$f":"(C217*(C207-C211))","v":7.4626902569948577},"kW"]
["Heating COP",null,{"$f":"C227/C225","v":4.3126821671065114}]
["pluss (+) 2 kW water heating",null,{"$f":"(C227+2)/(C225+2)","v":2.5366383047019672}]

{"sheet":"SPF kols","index":6,"n_rows":81,"n_cols":59,"rows_kept":81,"cut":false,"hidden":false,"merged":[]}
[]
[]
[]
[]
[]
[]
[]
[]
[]
[]
["Refrigerant",null,"R410A",null,null,"Refrigerant",null,{"$f":"C11","v":"R410A"},null,null,"Refrigerant",null,{"$f":"H11","v":"R410A"},null,null,"Refrigerant",null,{"$f":"M11","v":"R410A"},null,null,"Refrigerant",null,{"$f":"R11","v":"R410A"},null,null,"Refrigerant",null,{"$f":"W11","v":"R410A"},null,null,"Refrigerant",null,{"$f":"AB11","v":"R410A"},null,null,"Refrigerant",null,{"$f":"AG11","v":"R410A"},null,null,"Refrigerant",null,{"$f":"AL11","v":"R410A"},null,null,"Refrigerant",null,{"$f":"AQ11","v":"R410A"},null,null,"Refrigerant",null,{"$f":"AV11","v":"R410A"},null,null,"Refrigerant",null,{"$f":"BA11","v":"R410A"}]
["Two-stage Compression",null,null,null,null,"Two-stage Compression",null,null,null,null,"Two-stage Compression",null,null,null,null,"Two-stage Compression",null,null,null,null,"Two-stage Compression",null,null,null,null,"Two-stage Compression",null,null,null,null,"Two-stage Compression",null,null,null,null,"Two-stage Compression",null,null,null,null,"Two-stage Compression",null,null,null,null,"Two-stage Compression",null,null,null,null,"Two-stage Compression",null,null,null,null,"Two-stage Compression"]
["Evaporation temperature",null,-22.1,"˚C",null,"Evaporation temperature",null,-20.399999999999999,"˚C",null,"Evaporation temperature",null,-15.3,"˚C",null,"Evaporation temperature",null,-8.1,"˚C",null,"Evaporation temperature",null,-1.2,"˚C",null,"Evaporation temperature",null,5.0999999999999996,"˚C",null,"Evaporation temperature",null,8.1,"˚C",null,"Evaporation temperature",null,5.7,"˚C",null,"Evaporation temperature",null,0.3,"˚C",null,"Evaporation temperature",null,-6.3,"˚C",null,"Evaporation temperature",null,-14.4,"˚C",null,"Evaporation temperature",null,-20.3,"˚C"]
["Evaporation pressure",null,{"$f":"r_psatgasT(C11,C13)/100000","v":3.6905643951300688},"bar",null,"Evaporation pressure",null,{"$f":"r_psatgasT(H11,H13)/100000","v":3.9359190661625307},"bar",null,"Evaporation pressure",null,{"$f":"r_psatgasT(M11,M13)/100000","v":4.7477074481185184},"bar",null,"Evaporation pressure",null,{"$f":"r_psatgasT(R11,R13)/100000","v":6.1048421323388968},"bar",null,"Evaporation pressure",null,{"$f":"r_psatgasT(W11,W13)/100000","v":7.6651551572020562},"bar",null,"Evaporation pressure",null,{"$f":"r_psatgasT(AB11,AB13)/100000","v":9.3383614917959932},"bar",null,"Evaporation pressure",null,{"$f":"r_psatgasT(AG11,AG13)/100000","v":10.22592068450192},"bar",null,"Evaporation pressure",null,{"$f":"r_psatgasT(AL11,AL13)/100000","v":9.5110202826762063},"bar",null,"Evaporation pressure",null,{"$f":"r_psatgasT(AQ11,AQ13)/100000","v":8.0410406431033117},"bar",null,"Evaporation pressure",null,{"$f":"r_psatgasT(AV11,AV13)/100000","v":6.4861076015566805},"bar",null,"Evaporation pressure",null,{"$f":"r_psatgasT(BA11,BA13)/100000","v":4.9033413007240521},"bar",null,"Evaporation pressure",null,{"$f":"r_psatgasT(BF11,BF13)/100000","v":3.950732199677454},"bar"]
["Temperature in to compressor",null,{"$f":"C13+2","v":-20.100000000000001},"˚C",null,"Temperature in to compressor",null,{"$f":"H13+2","v":-18.399999999999999},"˚C",null,"Temperature in to compressor",null,{"$f":"M13+2","v":-13.3},"˚C",null,"Temperature in to compressor",null,{"$f":"R13+2","v":-6.1},"˚C",null,"Temperature in to compressor",null,{"$f":"W13+2","v":0.8},"˚C",null,"Temperature in to compressor",null,{"$f":"AB13+2","v":7.1},"˚C",null,"Temperature in to compressor",null,{"$f":"AG13+2","v":10.1},"˚C",null,"Temperature in to compressor",null,{"$f":"AL13+2","v":7.7},"˚C",null,"Temperature in to compressor",null,{"$f":"AQ13+2","v":2.2999999999999998},"˚C",null,"Temperature in to compressor",null,{"$f":"AV13+2","v":-4.3},"˚C",null,"Temperature in to compressor",null,{"$f":"BA13+2","v":-12.4},"˚C",null,"Temperature in to compressor",null,{"$f":"BF13+2","v":-18.3},"˚C"]
["1. Compressor",null,null,null,null,"1. Compressor",null,null,null,null,"1. Compressor",null,null,null,null,"1. Compressor",null,null,null,null,"1. Compressor",null,null,null,null,"1. Compressor",null,null,null,null,"1. Compressor",null,null,null,null,"1. Compressor",null,null,null,null,"1. Compressor",null,null,null,null,"1. Compressor",null,null,null,null,"1. Compressor",null,null,null,null,"1. Compressor"]
["Enthalpy input compressor",null,{"$f":"r_hgastp(C11,C15,C14*100000)/1000","v":416.75243844464467},"kJ/kg",null,"Enthalpy input compressor",null,{"$f":"r_hgastp(H11,H15,H14*100000)/1000","v":417.44968422799349},"kJ/kg",null,"Enthalpy input compressor",null,{"$f":"r_hgastp(M11,M15,M14*100000)/1000","v":419.4671933846812},"kJ/kg",null,"Enthalpy input compressor",null,{"$f":"r_hgastp(R11,R15,R14*100000)/1000","v":422.11206199144078},"kJ/kg",null,"Enthalpy input compressor",null,{"$f":"r_hgastp(W11,W15,W14*100000)/1000","v":424.39881376797229},"kJ/kg",null,"Enthalpy input compressor",null,{"$f":"r_hgastp(AB11,AB15,AB14*100000)/1000","v":426.24743288325226},"kJ/kg",null,"Enthalpy input compressor",null,{"$f":"r_hgastp(AG11,AG15,AG14*100000)/1000","v":427.03857994047348},"kJ/kg",null,"Enthalpy input compressor",null,{"$f":"r_hgastp(AL11,AL15,AL14*100000)/1000","v":426.4104822357022},"kJ/kg",null,"Enthalpy input compressor",null,{"$f":"r_hgastp(AQ11,AQ15,AQ14*100000)/1000","v":424.86078643189734},"kJ/kg",null,"Enthalpy input compressor",null,{"$f":"r_hgastp(AV11,AV15,AV14*100000)/1000","v":422.73320662206089},"kJ/kg",null,"Enthalpy input compressor",null,{"$f":"r_hgastp(BA11,BA15,BA14*100000)/1000","v":419.81122418981761},"kJ/kg",null,"Enthalpy input compressor",null,{"$f":"r_hgastp(BF11,BF15,BF14*100000)/1000","v":417.49032260453902},"kJ/kg"]
["Entropy",null,{"$f":"R_SgasTP(C11,C15,C14*100000)","v":1869.0465520291621},"J/kgK",null,"Entropy",null,{"$f":"R_SgasTP(H11,H15,H14*100000)","v":1865.181099242744},"J/kgK",null,"Entropy",null,{"$f":"R_SgasTP(M11,M15,M14*100000)","v":1853.9440372558911},"J/kgK",null,"Entropy",null,{"$f":"R_SgasTP(R11,R15,R14*100000)","v":1838.8790713366129},"J/kgK",null,"Entropy",null,{"$f":"R_SgasTP(W11,W15,W14*100000)","v":1825.144052088541},"J/kgK",null,"Entropy",null,{"$f":"R_SgasTP(AB11,AB15,AB14*100000)","v":1813.042676161152},"J/kgK",null,"Entropy",null,{"$f":"R_SgasTP(AG11,AG15,AG14*100000)","v":1807.3831102628769},"J/kgK",null,"Entropy",null,{"$f":"R_SgasTP(AL11,AL15,AL14*100000)","v":1811.9064538619889},"J/kgK",null,"Entropy",null,{"$f":"R_SgasTP(AQ11,AQ15,AQ14*100000)","v":1822.23058160509},"J/kgK",null,"Entropy",null,{"$f":"R_SgasTP(AV11,AV15,AV14*100000)","v":1835.237518964067},"J/kgK",null,"Entropy",null,{"$f":"R_SgasTP(BA11,BA15,BA14*100000)","v":1852.0129705736149},"J/kgK",null,"Entropy",null,{"$f":"R_SgasTP(BF11,BF15,BF14*100000)","v":1864.9556720170231},"J/kgK"]
["Specific volume",null,{"$f":"R_vgasTP(C11,C15,C14*100000)","v":7.0594626165432897E-2},"m3/kg",null,"Specific volume",null,{"$f":"R_vgasTP(H11,H15,H14*100000)","v":6.6330326829837583E-2},"m3/kg",null,"Specific volume",null,{"$f":"R_vgasTP(M11,M15,M14*100000)","v":5.5269114094136658E-2},"m3/kg",null,"Specific volume",null,{"$f":"R_vgasTP(R11,R15,R14*100000)","v":4.3166785243888138E-2},"m3/kg",null,"Specific volume",null,{"$f":"R_vgasTP(W11,W15,W14*100000)","v":3.4403801616605348E-2},"m3/kg",null,"Specific volume",null,{"$f":"R_vgasTP(AB11,AB15,AB14*100000)","v":2.816853645075677E-2},"m3/kg",null,"Specific volume",null,{"$f":"R_vgasTP(AG11,AG15,AG14*100000)","v":2.566362414689375E-2},"m3/kg",null,"Specific volume",null,{"$f":"R_vgasTP(AL11,AL15,AL14*100000)","v":2.7645937757891412E-2},"m3/kg",null,"Specific volume",null,{"$f":"R_vgasTP(AQ11,AQ15,AQ14*100000)","v":3.278520761875886E-2},"m3/kg",null,"Specific volume",null,{"$f":"R_vgasTP(AV11,AV15,AV14*100000)","v":4.0650242843642798E-2},"m3/kg",null,"Specific volume",null,{"$f":"R_vgasTP(BA11,BA15,BA14*100000)","v":5.3553602105368497E-2},"m3/kg",null,"Specific volume",null,{"$f":"R_vgasTP(BF11,BF15,BF14*100000)","v":6.6089255628478311E-2},"m3/kg"]
[]
["Intermediat temperature",null,5,"˚C",null,"Intermediat temperature",null,5,"˚C",null,"Intermediat temperature",null,5,"˚C",null,"Intermediat temperature",null,5,"˚C",null,"Intermediat temperature",null,5,"˚C",null,"Intermediat temperature",null,10,"˚C",null,"Intermediat temperature",null,10,"˚C",null,"Intermediat temperature",null,10,"˚C",null,"Intermediat temperature",null,5,"˚C",null,"Intermediat temperature",null,5,"˚C",null,"Intermediat temperature",null,5,"˚C",null,"Intermediat temperature",null,5,"˚C"]
["Intermediat pressure",null,{"$f":"r_psatgasT(C11,C21)/100000","v":9.3098172513601298},"bar",null,"Intermediat pressure",null,{"$f":"r_psatgasT(H11,H21)/100000","v":9.3098172513601298},"bar",null,"Intermediat pressure",null,{"$f":"r_psatgasT(M11,M21)/100000","v":9.3098172513601298},"bar",null,"Intermediat pressure",null,{"$f":"r_psatgasT(R11,R21)/100000","v":9.3098172513601298},"bar",null,"Intermediat pressure",null,{"$f":"r_psatgasT(W11,W21)/100000","v":9.3098172513601298},"bar",null,"Intermediat pressure",null,{"$f":"r_psatgasT(AB11,AB21)/100000","v":10.82010450633576},"bar",null,"Intermediat pressure",null,{"$f":"r_psatgasT(AG11,AG21)/100000","v":10.82010450633576},"bar",null,"Intermediat pressure",null,{"$f":"r_psatgasT(AL11,AL21)/100000","v":10.82010450633576},"bar",null,"Intermediat pressure",null,{"$f":"r_psatgasT(AQ11,AQ21)/100000","v":9.3098172513601298},"bar",null,"Intermediat pressure",null,{"$f":"r_psatgasT(AV11,AV21)/100000","v":9.3098172513601298},"bar",null,"Intermediat pressure",null,{"$f":"r_psatgasT(BA11,BA21)/100000","v":9.3098172513601298},"bar",null,"Intermediat pressure",null,{"$f":"r_psatgasT(BF11,BF21)/100000","v":9.3098172513601298},"bar"]
["Intermediat pressure ratio",null,{"$f":"C22/C14","v":2.5225998667426093},null,null,"Intermediat pressure ratio",null,{"$f":"H22/H14","v":2.3653477357798107},null,null,"Intermediat pressure ratio",null,{"$f":"M22/M14","v":1.960907944117227},null,null,"Intermediat pressure ratio",null,{"$f":"R22/R14","v":1.5249890250304208},null,null,"Intermediat pressure ratio",null,{"$f":"W22/W14","v":1.2145634446307034},null,null,"Intermediat pressure ratio",null,{"$f":"AB22/AB14","v":1.1586726981860274},null,null,"Intermediat pressure ratio",null,{"$f":"AG22/AG14","v":1.0581056552427954},null,null,"Intermediat pressure ratio",null,{"$f":"AL22/AL14","v":1.1376386743748172},null,null,"Intermediat pressure ratio",null,{"$f":"AQ22/AQ14","v":1.1577876128937403},null,null,"Intermediat pressure ratio",null,{"$f":"AV22/AV14","v":1.4353473336035549},null,null,"Intermediat pressure ratio",null,{"$f":"BA22/BA14","v":1.8986680062400296},null,null,"Intermediat pressure ratio",null,{"$f":"BF22/BF14","v":2.3564789463887736}]
["Isentropic efficiency",null,0.7,null,null,"Isentropic efficiency",null,0.7,null,null,"Isentropic efficiency",null,0.7,null,null,"Isentropic efficiency",null,0.7,null,null,"Isentropic efficiency",null,0.7,null,null,"Isentropic efficiency",null,0.7,null,null,"Isentropic efficiency",null,0.7,null,null,"Isentropic efficiency",null,0.7,null,null,"Isentropic efficiency",null,0.7,null,null,"Isentropic efficiency",null,0.7,null,null,"Isentropic efficiency",null,0.7,null,null,"Isentropic efficiency",null,0.7]
[]
["Isentropic entalpy",null,{"$f":"R_hgasSP(C11,C18,C22*100000)/1000","v":442.25288371636191},"kJ/kg",null,"Isentropic entalpy",null,{"$f":"R_hgasSP(H11,H18,H22*100000)/1000","v":441.11592308281473},"kJ/kg",null,"Isentropic entalpy",null,{"$f":"R_hgasSP(M11,M18,M22*100000)/1000","v":437.83414736251746},"kJ/kg",null,"Isentropic entalpy",null,{"$f":"R_hgasSP(R11,R18,R22*100000)/1000","v":433.48676815099395},"kJ/kg",null,"Isentropic entalpy",null,{"$f":"R_hgasSP(W11,W18,W22*100000)/1000","v":429.57454720746705},"kJ/kg",null,"Isentropic entalpy",null,{"$f":"R_hgasSP(AB11,AB18,AB22*100000)/1000","v":430.1468134146258},"kJ/kg",null,"Isentropic entalpy",null,{"$f":"R_hgasSP(AG11,AG18,AG22*100000)/1000","v":428.52435197219978},"kJ/kg",null,"Isentropic entalpy",null,{"$f":"R_hgasSP(AL11,AL18,AL22*100000)/1000","v":429.8204659792508},"kJ/kg",null,"Isentropic entalpy",null,{"$f":"R_hgasSP(AQ11,AQ18,AQ22*100000)/1000","v":428.75082731044142},"kJ/kg",null,"Isentropic entalpy",null,{"$f":"R_hgasSP(AV11,AV18,AV22*100000)/1000","v":432.44482188574102},"kJ/kg",null,"Isentropic entalpy",null,{"$f":"R_hgasSP(BA11,BA18,BA22*100000)/1000","v":437.2735269087558},"kJ/kg",null,"Isentropic entalpy",null,{"$f":"R_hgasSP(BF11,BF18,BF22*100000)/1000","v":441.04974405074779},"kJ/kg"]
["Real entropy",null,{"$f":"C17+(C26-C17)/C24","v":453.18164597566931},"kJ/kg",null,"Real entropy",null,{"$f":"H17+(H26-H17)/H24","v":451.25859687773811},"kJ/kg",null,"Real entropy",null,{"$f":"M17+(M26-M17)/M24","v":445.70569906730441},"kJ/kg",null,"Real entropy",null,{"$f":"R17+(R26-R17)/R24","v":438.36164221937389},"kJ/kg",null,"Real entropy",null,{"$f":"W17+(W26-W17)/W24","v":431.79271868153626},"kJ/kg",null,"Real entropy",null,{"$f":"AB17+(AB26-AB17)/AB24","v":431.81797649950016},"kJ/kg",null,"Real entropy",null,{"$f":"AG17+(AG26-AG17)/AG24","v":429.16111141436818},"kJ/kg",null,"Real entropy",null,{"$f":"AL17+(AL26-AL17)/AL24","v":431.28188758362876},"kJ/kg",null,"Real entropy",null,{"$f":"AQ17+(AQ26-AQ17)/AQ24","v":430.41798768696032},"kJ/kg",null,"Real entropy",null,{"$f":"AV17+(AV26-AV17)/AV24","v":436.60694271303248},"kJ/kg",null,"Real entropy",null,{"$f":"BA17+(BA26-BA17)/BA24","v":444.75737093115788},"kJ/kg",null,"Real entropy",null,{"$f":"BF17+(BF26-BF17)/BF24","v":451.14663895626586},"kJ/kg"]
["Temperature out of compressor",null,{"$f":"R_tgasHP(C11,C27*1000,C22*100000)","v":31.95311157724905},"˚C",null,"Temperature out of compressor",null,{"$f":"R_tgasHP(H11,H27*1000,H22*100000)","v":30.092175953810969},"˚C",null,"Temperature out of compressor",null,{"$f":"R_tgasHP(M11,M27*1000,M22*100000)","v":24.775165455266631},"˚C",null,"Temperature out of compressor",null,{"$f":"R_tgasHP(R11,R27*1000,R22*100000)","v":17.894098529494389},"˚C",null,"Temperature out of compressor",null,{"$f":"R_tgasHP(W11,W27*1000,W22*100000)","v":11.915742554533949},"˚C",null,"Temperature out of compressor",null,{"$f":"R_tgasHP(AB11,AB27*1000,AB22*100000)","v":15.62446475059272},"˚C",null,"Temperature out of compressor",null,{"$f":"R_tgasHP(AG11,AG27*1000,AG22*100000)","v":13.3785220440177},"˚C",null,"Temperature out of compressor",null,{"$f":"R_tgasHP(AL11,AL27*1000,AL22*100000)","v":15.16829716609544},"˚C",null,"Temperature out of compressor",null,{"$f":"R_tgasHP(AQ11,AQ27*1000,AQ22*100000)","v":10.68883702633309},"˚C",null,"Temperature out of compressor",null,{"$f":"R_tgasHP(AV11,AV27*1000,AV22*100000)","v":16.279430448850011},"˚C",null,"Temperature out of compressor",null,{"$f":"R_tgasHP(BA11,BA27*1000,BA22*100000)","v":23.876309382225539},"˚C",null,"Temperature out of compressor",null,{"$f":"R_tgasHP(BF11,BF27*1000,BF22*100000)","v":29.984126145237209},"˚C"]
["Enthalpy on the dewpoint line",null,{"$f":"R_hsatgasT(C11,C21)/1000","v":423.8985647127937},"kJ/kg",null,"Enthalpy on the dewpoint line",null,{"$f":"R_hsatgasT(H11,H21)/1000","v":423.8985647127937},"kJ/kg",null,"Enthalpy on the dewpoint line",null,{"$f":"R_hsatgasT(M11,M21)/1000","v":423.8985647127937},"kJ/kg",null,"Enthalpy on the dewpoint line",null,{"$f":"R_hsatgasT(R11,R21)/1000","v":423.8985647127937},"kJ/kg",null,"Enthalpy on the dewpoint line",null,{"$f":"R_hsatgasT(W11,W21)/1000","v":423.8985647127937},"kJ/kg",null,"Enthalpy on the dewpoint line",null,{"$f":"R_hsatgasT(AB11,AB21)/1000","v":425.07433131087799},"kJ/kg",null,"Enthalpy on the dewpoint line",null,{"$f":"R_hsatgasT(AG11,AG21)/1000","v":425.07433131087799},"kJ/kg",null,"Enthalpy on the dewpoint line",null,{"$f":"R_hsatgasT(AL11,AL21)/1000","v":425.07433131087799},"kJ/kg",null,"Enthalpy on the dewpoint line",null,{"$f":"R_hsatgasT(AQ11,AQ21)/1000","v":423.8985647127937},"kJ/kg",null,"Enthalpy on the dewpoint line",null,{"$f":"R_hsatgasT(AV11,AV21)/1000","v":423.8985647127937},"kJ/kg",null,"Enthalpy on the dewpoint line",null,{"$f":"R_hsatgasT(BA11,BA21)/1000","v":423.8985647127937},"kJ/kg",null,"Enthalpy on the dewpoint line",null,{"$f":"R_hsatgasT(BF11,BF21)/1000","v":423.8985647127937},"kJ/kg"]
["2. Compressor",null,null,null,null,"2. Compressor",null,null,null,null,"2. Compressor",null,null,null,null,"2. Compressor",null,null,null,null,"2. Compressor",null,null,null,null,"2. Compressor",null,null,null,null,"2. Compressor",null,null,null,null,"2. Compressor",null,null,null,null,"2. Compressor",null,null,null,null,"2. Compressor",null,null,null,null,"2. Compressor",null,null,null,null,"2. Compressor"]
["Intermediat cooling",null,10,"K",null,"Intermediat cooling",null,10,"K",null,"Intermediat cooling",null,10,"K",null,"Intermediat cooling",null,10,"K",null,"Intermediat cooling",null,10,"K",null,"Intermediat cooling",null,0,"K",null,"Intermediat cooling",null,0,"K",null,"Intermediat cooling",null,0,"K",null,"Intermediat cooling",null,10,"K",null,"Intermediat cooling",null,10,"K",null,"Intermediat cooling",null,10,"K",null,"Intermediat cooling",null,10,"K"]
["Temperature in to compressor",null,{"$f":"C28-C31","v":21.95311157724905},"˚C",null,"Temperature in to compressor",null,{"$f":"H28-H31","v":20.092175953810969},"˚C",null,"Temperature in to compressor",null,{"$f":"M28-M31","v":14.775165455266631},"˚C",null,"Temperature in to compressor",null,{"$f":"R28-R31","v":7.8940985294943893},"˚C",null,"Temperature in to compressor",null,{"$f":"W28-W31","v":1.9157425545339493},"˚C",null,"Temperature in to compressor",null,{"$f":"AB28-AB31","v":15.62446475059272},"˚C",null,"Temperature in to compressor",null,{"$f":"AG28-AG31","v":13.3785220440177},"˚C",null,"Temperature in to compressor",null,{"$f":"AL28-AL31","v":15.16829716609544},"˚C",null,"Temperature in to compressor",null,{"$f":"AQ28-AQ31","v":0.68883702633308985},"˚C",null,"Temperature in to compressor",null,{"$f":"AV28-AV31","v":6.279430448850011},"˚C",null,"Temperature in to compressor",null,{"$f":"BA28-BA31","v":13.876309382225539},"˚C",null,"Temperature in to compressor",null,{"$f":"BF28-BF31","v":19.984126145237209},"˚C"]
["Enthalpy input compressor",null,{"$f":"r_hgastp(C11,C32,C22*100000)/1000","v":442.7178646549869},"kJ/kg",null,"Enthalpy input compressor",null,{"$f":"r_hgastp(H11,H32,H22*100000)/1000","v":440.72986668461181},"kJ/kg",null,"Enthalpy input compressor",null,{"$f":"r_hgastp(M11,M32,M22*100000)/1000","v":434.9598173836838},"kJ/kg",null,"Enthalpy input compressor",null,{"$f":"r_hgastp(R11,R32,R22*100000)/1000","v":427.2470303412818},"kJ/kg",null,"Enthalpy input compressor",null,{"$f":"r_hgastp(W11,W32,W22*100000)/1000","v":420.24593460729199},"kJ/kg",null,"Enthalpy input compressor",null,{"$f":"r_hgastp(AB11,AB32,AB22*100000)/1000","v":431.81797691471769},"kJ/kg",null,"Enthalpy input compressor",null,{"$f":"r_hgastp(AG11,AG32,AG22*100000)/1000","v":429.16111145855217},"kJ/kg",null,"Enthalpy input compressor",null,{"$f":"r_hgastp(AL11,AL32,AL22*100000)/1000","v":431.28188788173668},"kJ/kg",null,"Enthalpy input compressor",null,{"$f":"r_hgastp(AQ11,AQ32,AQ22*100000)/1000","v":418.7655403471735},"kJ/kg",null,"Enthalpy input compressor",null,{"$f":"r_hgastp(AV11,AV32,AV22*100000)/1000","v":425.38759595974011},"kJ/kg",null,"Enthalpy input compressor",null,{"$f":"r_hgastp(BA11,BA32,BA22*100000)/1000","v":433.96953209552601},"kJ/kg",null,"Enthalpy input compressor",null,{"$f":"r_hgastp(BF11,BF32,BF22*100000)/1000","v":440.61397548248897},"kJ/kg"]
["Entropy",null,{"$f":"R_SgasTP(C11,C32,C22*100000)","v":1870.623377483771},"J/kgK",null,"Entropy",null,{"$f":"R_SgasTP(H11,H32,H22*100000)","v":1863.8653988461749},"J/kgK",null,"Entropy",null,{"$f":"R_SgasTP(M11,M32,M22*100000)","v":1844.007340691571},"J/kgK",null,"Entropy",null,{"$f":"R_SgasTP(R11,R32,R22*100000)","v":1816.8923460486051},"J/kgK",null,"Entropy",null,{"$f":"R_SgasTP(W11,W32,W22*100000)","v":1791.710445286438},"J/kgK",null,"Entropy",null,{"$f":"R_SgasTP(AB11,AB32,AB22*100000)","v":1818.8440591312899},"J/kgK",null,"Entropy",null,{"$f":"R_SgasTP(AG11,AG32,AG22*100000)","v":1809.60750796658},"J/kgK",null,"Entropy",null,{"$f":"R_SgasTP(AL11,AL32,AL22*100000)","v":1816.9861624123259},"J/kgK",null,"Entropy",null,{"$f":"R_SgasTP(AQ11,AQ32,AQ22*100000)","v":1786.3164187560949},"J/kgK",null,"Entropy",null,{"$f":"R_SgasTP(AV11,AV32,AV22*100000)","v":1810.257064823043},"J/kgK",null,"Entropy",null,{"$f":"R_SgasTP(BA11,BA32,BA22*100000)","v":1840.5625723741989},"J/kgK",null,"Entropy",null,{"$f":"R_SgasTP(BF11,BF32,BF22*100000)","v":1863.4701195532471},"J/kgK"]
["Specific volume",null,{"$f":"R_vgasTP(C11,C32,C22*100000)","v":3.1194731764253261E-2},"m3/kg",null,"Specific volume",null,{"$f":"R_vgasTP(H11,H32,H22*100000)","v":3.084883099667007E-2},"m3/kg",null,"Specific volume",null,{"$f":"R_vgasTP(M11,M32,M22*100000)","v":2.9832562832611889E-2},"m3/kg",null,"Specific volume",null,{"$f":"R_vgasTP(R11,R32,R22*100000)","v":2.8444272454025411E-2},"m3/kg",null,"Specific volume",null,{"$f":"R_vgasTP(W11,W32,W22*100000)","v":2.715284407208331E-2},"m3/kg",null,"Specific volume",null,{"$f":"R_vgasTP(AB11,AB32,AB22*100000)","v":2.4886354211678129E-2},"m3/kg",null,"Specific volume",null,{"$f":"R_vgasTP(AG11,AG32,AG22*100000)","v":2.4469818551220539E-2},"m3/kg",null,"Specific volume",null,{"$f":"R_vgasTP(AL11,AL32,AL22*100000)","v":2.4802598755221669E-2},"m3/kg",null,"Specific volume",null,{"$f":"R_vgasTP(AQ11,AQ32,AQ22*100000)","v":2.6875798932090689E-2},"m3/kg",null,"Specific volume",null,{"$f":"R_vgasTP(AV11,AV32,AV22*100000)","v":2.8104252022612731E-2},"m3/kg",null,"Specific volume",null,{"$f":"R_vgasTP(BA11,BA32,BA22*100000)","v":2.965625925769563E-2},"m3/kg",null,"Specific volume",null,{"$f":"R_vgasTP(BF11,BF32,BF22*100000)","v":3.0828600562753241E-2},"m3/kg"]
[]
["Condensating temperature",null,28,"˚C",null,"Condensating temperature",null,28,"˚C",null,"Condensating temperature",null,28,"˚C",null,"Condensating temperature",null,28,"˚C",null,"Condensating temperature",null,28,"˚C",null,"Condensating temperature",null,28,"˚C",null,"Condensating temperature",null,28,"˚C",null,"Condensating temperature",null,28,"˚C",null,"Condensating temperature",null,28,"˚C",null,"Condensating temperature",null,28,"˚C",null,"Condensating temperature",null,28,"˚C",null,"Condensating temperature",null,28,"˚C"]
["Condensating pressure",null,{"$f":"r_psatgasT(C11,C37)/100000","v":17.829772179326831},"bar",null,"Condensating pressure",null,{"$f":"r_psatgasT(H11,H37)/100000","v":17.829772179326831},"bar",null,"Condensating pressure",null,{"$f":"r_psatgasT(M11,M37)/100000","v":17.829772179326831},"bar",null,"Condensating pressure",null,{"$f":"r_psatgasT(R11,R37)/100000","v":17.829772179326831},"bar",null,"Condensating pressure",null,{"$f":"r_psatgasT(W11,W37)/100000","v":17.829772179326831},"bar",null,"Condensating pressure",null,{"$f":"r_psatgasT(AB11,AB37)/100000","v":17.829772179326831},"bar",null,"Condensating pressure",null,{"$f":"r_psatgasT(AG11,AG37)/100000","v":17.829772179326831},"bar",null,"Condensating pressure",null,{"$f":"r_psatgasT(AL11,AL37)/100000","v":17.829772179326831},"bar",null,"Condensating pressure",null,{"$f":"r_psatgasT(AQ11,AQ37)/100000","v":17.829772179326831},"bar",null,"Condensating pressure",null,{"$f":"r_psatgasT(AV11,AV37)/100000","v":17.829772179326831},"bar",null,"Condensating pressure",null,{"$f":"r_psatgasT(BA11,BA37)/100000","v":17.829772179326831},"bar",null,"Condensating pressure",null,{"$f":"r_psatgasT(BF11,BF37)/100000","v":17.829772179326831},"bar"]
["Pressure ration",null,{"$f":"C38/C22","v":1.9151581280203935},null,null,"Pressure ration",null,{"$f":"H38/H22","v":1.9151581280203935},null,null,"Pressure ration",null,{"$f":"M38/M22","v":1.9151581280203935},null,null,"Pressure ration",null,{"$f":"R38/R22","v":1.9151581280203935},null,null,"Pressure ration",null,{"$f":"W38/W22","v":1.9151581280203935},null,null,"Pressure ration",null,{"$f":"AB38/AB22","v":1.6478373354792026},null,null,"Pressure ration",null,{"$f":"AG38/AG22","v":1.6478373354792026},null,null,"Pressure ration",null,{"$f":"AL38/AL22","v":1.6478373354792026},null,null,"Pressure ration",null,{"$f":"AQ38/AQ22","v":1.9151581280203935},null,null,"Pressure ration",null,{"$f":"AV38/AV22","v":1.9151581280203935},null,null,"Pressure ration",null,{"$f":"BA38/BA22","v":1.9151581280203935},null,null,"Pressure ration",null,{"$f":"BF38/BF22","v":1.9151581280203935}]
["Pressure ration TOTAL",null,{"$f":"C38/C14","v":4.8311776385352694},null,null,"Pressure ration TOTAL",null,{"$f":"H38/H14","v":4.5300149417733389},null,null,"Pressure ration TOTAL",null,{"$f":"M38/M14","v":3.7554487874758666},null,null,"Pressure ration TOTAL",null,{"$f":"R38/R14","v":2.9205951264289056},null,null,"Pressure ration TOTAL",null,{"$f":"W38/W14","v":2.3260810529809386},null,null,"Pressure ration TOTAL",null,{"$f":"AB38/AB14","v":1.9093041316713617},null,null,"Pressure ration TOTAL",null,{"$f":"AG38/AG14","v":1.7435860035907638},null,null,"Pressure ration TOTAL",null,{"$f":"AL38/AL14","v":1.8746434819198912},null,null,"Pressure ration TOTAL",null,{"$f":"AQ38/AQ14","v":2.2173463573547756},null,null,"Pressure ration TOTAL",null,{"$f":"AV38/AV14","v":2.7489171124832472},null,null,"Pressure ration TOTAL",null,{"$f":"BA38/BA14","v":3.636249464562868},null,null,"Pressure ration TOTAL",null,{"$f":"BF38/BF14","v":4.5130298076853936}]
["Isentropic efficiency",null,0.7,null,null,"Isentropic efficiency",null,0.7,null,null,"Isentropic efficiency",null,0.7,null,null,"Isentropic efficiency",null,0.7,null,null,"Isentropic efficiency",null,0.7,null,null,"Isentropic efficiency",null,0.7,null,null,"Isentropic efficiency",null,0.7,null,null,"Isentropic efficiency",null,0.7,null,null,"Isentropic efficiency",null,0.7,null,null,"Isentropic efficiency",null,0.7,null,null,"Isentropic efficiency",null,0.7,null,null,"Isentropic efficiency",null,0.7]
[]
["Isentropic entalpy",null,{"$f":"R_hgasSP(C11,C34,C38*100000)/1000","v":462.12677257106594},"kJ/kg",null,"Isentropic entalpy",null,{"$f":"R_hgasSP(H11,H34,H38*100000)/1000","v":459.91913278623826},"kJ/kg",null,"Isentropic entalpy",null,{"$f":"R_hgasSP(M11,M34,M38*100000)/1000","v":453.5032781690457},"kJ/kg",null,"Isentropic entalpy",null,{"$f":"R_hgasSP(R11,R34,R38*100000)/1000","v":444.90707013390244},"kJ/kg",null,"Isentropic entalpy",null,{"$f":"R_hgasSP(W11,W34,W38*100000)/1000","v":437.08314367802291},"kJ/kg",null,"Isentropic entalpy",null,{"$f":"R_hgasSP(AB11,AB34,AB38*100000)/1000","v":445.51972791438715},"kJ/kg",null,"Isentropic entalpy",null,{"$f":"R_hgasSP(AG11,AG34,AG38*100000)/1000","v":442.6283833577628},"kJ/kg",null,"Isentropic entalpy",null,{"$f":"R_hgasSP(AL11,AL34,AL38*100000)/1000","v":444.93649873447737},"kJ/kg",null,"Isentropic entalpy",null,{"$f":"R_hgasSP(AQ11,AQ34,AQ38*100000)/1000","v":435.4258825771422},"kJ/kg",null,"Isentropic entalpy",null,{"$f":"R_hgasSP(AV11,AV34,AV38*100000)/1000","v":442.83105052527031},"kJ/kg",null,"Isentropic entalpy",null,{"$f":"R_hgasSP(BA11,BA34,BA38*100000)/1000","v":452.40088237100008},"kJ/kg",null,"Isentropic entalpy",null,{"$f":"R_hgasSP(BF11,BF34,BF38*100000)/1000","v":459.79039295774101},"kJ/kg"]
["Real entropy",null,{"$f":"C33+(C43-C33)/C41","v":470.44487596367122},"kJ/kg",null,"Real entropy",null,{"$f":"H33+(H43-H33)/H41","v":468.14310397264961},"kJ/kg",null,"Real entropy",null,{"$f":"M33+(M43-M33)/M41","v":461.45047564848653},"kJ/kg",null,"Real entropy",null,{"$f":"R33+(R43-R33)/R41","v":452.47565861645415},"kJ/kg",null,"Real entropy",null,{"$f":"W33+(W43-W33)/W41","v":444.29909042262187},"kJ/kg",null,"Real entropy",null,{"$f":"AB33+(AB43-AB33)/AB41","v":451.39190691424551},"kJ/kg",null,"Real entropy",null,{"$f":"AG33+(AG43-AG33)/AG41","v":448.40007131456736},"kJ/kg",null,"Real entropy",null,{"$f":"AL33+(AL43-AL33)/AL41","v":450.78847481422338},"kJ/kg",null,"Real entropy",null,{"$f":"AQ33+(AQ43-AQ33)/AQ41","v":442.56602924712877},"kJ/kg",null,"Real entropy",null,{"$f":"AV33+(AV43-AV33)/AV41","v":450.30681676764038},"kJ/kg",null,"Real entropy",null,{"$f":"BA33+(BA43-BA33)/BA41","v":460.30003248906041},"kJ/kg",null,"Real entropy",null,{"$f":"BF33+(BF43-BF33)/BF41","v":468.00885758999186},"kJ/kg"]
["Temperature out of compressor",null,{"$f":"R_tgasHP(C11,C44*1000,C38*100000)","v":61.582557254297107},"˚C",null,"Temperature out of compressor",null,{"$f":"R_tgasHP(H11,H44*1000,H38*100000)","v":59.587071215083093},"˚C",null,"Temperature out of compressor",null,{"$f":"R_tgasHP(M11,M44*1000,M38*100000)","v":53.880552295192217},"˚C",null,"Temperature out of compressor",null,{"$f":"R_tgasHP(R11,R44*1000,R38*100000)","v":46.485533260199297},"˚C",null,"Temperature out of compressor",null,{"$f":"R_tgasHP(W11,W44*1000,W38*100000)","v":40.054497010415453},"˚C",null,"Temperature out of compressor",null,{"$f":"R_tgasHP(AB11,AB44*1000,AB38*100000)","v":45.615146310152909},"˚C",null,"Temperature out of compressor",null,{"$f":"R_tgasHP(AG11,AG44*1000,AG38*100000)","v":43.240061351185027},"˚C",null,"Temperature out of compressor",null,{"$f":"R_tgasHP(AL11,AL44*1000,AL38*100000)","v":45.132792066882473},"˚C",null,"Temperature out of compressor",null,{"$f":"R_tgasHP(AQ11,AQ44*1000,AQ38*100000)","v":38.734125415589922},"˚C",null,"Temperature out of compressor",null,{"$f":"R_tgasHP(AV11,AV44*1000,AV38*100000)","v":44.748964703656718},"˚C",null,"Temperature out of compressor",null,{"$f":"R_tgasHP(BA11,BA44*1000,BA38*100000)","v":52.915147024588236},"˚C",null,"Temperature out of compressor",null,{"$f":"R_tgasHP(BF11,BF44*1000,BF38*100000)","v":59.471179993574253},"˚C"]
["Enthalpy on the dewpoint line",null,{"$f":"R_hsatgasT(C11,C37)/1000","v":427.50292764073419},"kJ/kg",null,"Enthalpy on the dewpoint line",null,{"$f":"R_hsatgasT(H11,H37)/1000","v":427.50292764073419},"kJ/kg",null,"Enthalpy on the dewpoint line",null,{"$f":"R_hsatgasT(M11,M37)/1000","v":427.50292764073419},"kJ/kg",null,"Enthalpy on the dewpoint line",null,{"$f":"R_hsatgasT(R11,R37)/1000","v":427.50292764073419},"kJ/kg",null,"Enthalpy on the dewpoint line",null,{"$f":"R_hsatgasT(W11,W37)/1000","v":427.50292764073419},"kJ/kg",null,"Enthalpy on the dewpoint line",null,{"$f":"R_hsatgasT(AB11,AB37)/1000","v":427.50292764073419},"kJ/kg",null,"Enthalpy on the dewpoint line",null,{"$f":"R_hsatgasT(AG11,AG37)/1000","v":427.50292764073419},"kJ/kg",null,"Enthalpy on the dewpoint line",null,{"$f":"R_hsatgasT(AL11,AL37)/1000","v":427.50292764073419},"kJ/kg",null,"Enthalpy on the dewpoint line",null,{"$f":"R_hsatgasT(AQ11,AQ37)/1000","v":427.50292764073419},"kJ/kg",null,"Enthalpy on the dewpoint line",null,{"$f":"R_hsatgasT(AV11,AV37)/1000","v":427.50292764073419},"kJ/kg",null,"Enthalpy on the dewpoint line",null,{"$f":"R_hsatgasT(BA11,BA37)/1000","v":427.50292764073419},"kJ/kg",null,"Enthalpy on the dewpoint line",null,{"$f":"R_hsatgasT(BF11,BF37)/1000","v":427.50292764073419},"kJ/kg"]
["Subcooling of condenser",null,18,"K",null,"Subcooling of condenser",null,18,"K",null,"Subcooling of condenser",null,18,"K",null,"Subcooling of condenser",null,18,"K",null,"Subcooling of condenser",null,18,"K",null,"Subcooling of condenser",null,18,"K",null,"Subcooling of condenser",null,18,"K",null,"Subcooling of condenser",null,18,"K",null,"Subcooling of condenser",null,18,"K",null,"Subcooling of condenser",null,18,"K",null,"Subcooling of condenser",null,18,"K",null,"Subcooling of condenser",null,18,"K"]
["Enthalpy out of the condenser",null,{"$f":"R_hsatliqT(C11,C37-C47)/1000","v":215.74554978637232},"kJ/kg",null,"Enthalpy out of the condenser",null,{"$f":"R_hsatliqT(H11,H37-H47)/1000","v":215.74554978637232},"kJ/kg",null,"Enthalpy out of the condenser",null,{"$f":"R_hsatliqT(M11,M37-M47)/1000","v":215.74554978637232},"kJ/kg",null,"Enthalpy out of the condenser",null,{"$f":"R_hsatliqT(R11,R37-R47)/1000","v":215.74554978637232},"kJ/kg",null,"Enthalpy out of the condenser",null,{"$f":"R_hsatliqT(W11,W37-W47)/1000","v":215.74554978637232},"kJ/kg",null,"Enthalpy out of the condenser",null,{"$f":"R_hsatliqT(AB11,AB37-AB47)/1000","v":215.74554978637232},"kJ/kg",null,"Enthalpy out of the condenser",null,{"$f":"R_hsatliqT(AG11,AG37-AG47)/1000","v":215.74554978637232},"kJ/kg",null,"Enthalpy out of the condenser",null,{"$f":"R_hsatliqT(AL11,AL37-AL47)/1000","v":215.74554978637232},"kJ/kg",null,"Enthalpy out of the condenser",null,{"$f":"R_hsatliqT(AQ11,AQ37-AQ47)/1000","v":215.74554978637232},"kJ/kg",null,"Enthalpy out of the condenser",null,{"$f":"R_hsatliqT(AV11,AV37-AV47)/1000","v":215.74554978637232},"kJ/kg",null,"Enthalpy out of the condenser",null,{"$f":"R_hsatliqT(BA11,BA37-BA47)/1000","v":215.74554978637232},"kJ/kg",null,"Enthalpy out of the condenser",null,{"$f":"R_hsatliqT(BF11,BF37-BF47)/1000","v":215.74554978637232},"kJ/kg"]
[]
["Enthalpy in to evaporator",null,{"$f":"R_HsatliqP(C11,C21*100000)/1000","v":178.81416361766341},"kJ/kg",null,"Enthalpy in to evaporator",null,{"$f":"R_HsatliqP(H11,H21*100000)/1000","v":178.81416361766341},"kJ/kg",null,"Enthalpy in to evaporator",null,{"$f":"R_HsatliqP(M11,M21*100000)/1000","v":178.81416361766341},"kJ/kg",null,"Enthalpy in to evaporator",null,{"$f":"R_HsatliqP(R11,R21*100000)/1000","v":178.81416361766341},"kJ/kg",null,"Enthalpy in to evaporator",null,{"$f":"R_HsatliqP(W11,W21*100000)/1000","v":178.81416361766341},"kJ/kg",null,"Enthalpy in to evaporator",null,{"$f":"R_HsatliqP(AB11,AB21*100000)/1000","v":211.3695711111767},"kJ/kg",null,"Enthalpy in to evaporator",null,{"$f":"R_HsatliqP(AG11,AG21*100000)/1000","v":211.3695711111767},"kJ/kg",null,"Enthalpy in to evaporator",null,{"$f":"R_HsatliqP(AL11,AL21*100000)/1000","v":211.3695711111767},"kJ/kg",null,"Enthalpy in to evaporator",null,{"$f":"R_HsatliqP(AQ11,AQ21*100000)/1000","v":178.81416361766341},"kJ/kg",null,"Enthalpy in to evaporator",null,{"$f":"R_HsatliqP(AV11,AV21*100000)/1000","v":178.81416361766341},"kJ/kg",null,"Enthalpy in to evaporator",null,{"$f":"R_HsatliqP(BA11,BA21*100000)/1000","v":178.81416361766341},"kJ/kg",null,"Enthalpy in to evaporator",null,{"$f":"R_HsatliqP(BF11,BF21*100000)/1000","v":178.81416361766341},"kJ/kg"]
["Moist vapor - xf",null,{"$f":"(C33-C48)/(C33-C50)","v":0.86005733900834636},null,null,"Moist vapor - xf",null,{"$f":"(H33-H48)/(H33-H50)","v":0.85899514333713378},null,null,"Moist vapor - xf",null,{"$f":"(M33-M48)/(M33-M50)","v":0.85581880611394501},null,null,"Moist vapor - xf",null,{"$f":"(R33-R48)/(R33-R50)","v":0.851342591438213},null,null,"Moist vapor - xf",null,{"$f":"(W33-W48)/(W33-W50)","v":0.84703178866092399},null,null,"Moist vapor - xf",null,{"$f":"(AB33-AB48)/(AB33-AB50)","v":0.98014964699225171},null,null,"Moist vapor - xf",null,{"$f":"(AG33-AG48)/(AG33-AG50)","v":0.97990749012465783},null,null,"Moist vapor - xf",null,{"$f":"(AL33-AL48)/(AL33-AL50)","v":0.98010125699434469},null,null,"Moist vapor - xf",null,{"$f":"(AQ33-AQ48)/(AQ33-AQ50)","v":0.84608804220223111},null,null,"Moist vapor - xf",null,{"$f":"(AV33-AV48)/(AV33-AV50)","v":0.85022155137349431},null,null,"Moist vapor - xf",null,{"$f":"(BA33-BA48)/(BA33-BA50)","v":0.85525922347225436},null,null,"Moist vapor - xf",null,{"$f":"(BF33-BF48)/(BF33-BF50)","v":0.85893272456674807}]
["Cooling capacity",null,{"$f":"C54*(C17-C50)","v":6.9715914524305509},"kW",null,"Cooling capacity",null,{"$f":"H54*(H17-H50)","v":6.9920207538826711},"kW",null,"Cooling capacity",null,{"$f":"M54*(M17-M50)","v":7.0511337721736211},"kW",null,"Cooling capacity",null,{"$f":"R54*(R17-R50)","v":7.1286284223516772},"kW",null,"Cooling capacity",null,{"$f":"W54*(W17-W50)","v":7.1956302494040498},"kW",null,"Cooling capacity",null,{"$f":"AB54*(AB17-AB50)","v":6.2959213499218141},"kW",null,"Cooling capacity",null,{"$f":"AG54*(AG17-AG50)","v":6.3191019586983961},"kW",null,"Cooling capacity",null,{"$f":"AL54*(AL17-AL50)","v":6.3006986959485971},"kW",null,"Cooling capacity",null,{"$f":"AQ54*(AQ17-AQ50)","v":7.2091660484570541},"kW",null,"Cooling capacity",null,{"$f":"AV54*(AV17-AV50)","v":7.1468279600288458},"kW",null,"Cooling capacity",null,{"$f":"BA54*(BA17-BA50)","v":7.0612138747641175},"kW",null,"Cooling capacity",null,{"$f":"BF54*(BF17-BF50)","v":6.9932114583154554},"kW"]
["Cooling COP",null,{"$f":"C52/C62","v":4.0288765978285115},null,null,"Cooling COP",null,{"$f":"H52/H62","v":4.2270094853007327},null,null,"Cooling COP",null,{"$f":"M52/M62","v":4.916698214550757},null,null,"Cooling COP",null,{"$f":"R52/R62","v":6.2284121644180797},null,null,"Cooling COP",null,{"$f":"W52/W62","v":8.1008187339866442},null,null,"Cooling COP",null,{"$f":"AB52/AB62","v":8.5834765269651196},null,null,"Cooling COP",null,{"$f":"AG52/AG62","v":10.116355527345609},null,null,"Cooling COP",null,{"$f":"AL52/AL62","v":8.8563239751667862},null,null,"Cooling COP",null,{"$f":"AQ52/AQ62","v":8.632496845085992},null,null,"Cooling COP",null,{"$f":"AV52/AV62","v":6.6435854767950913},null,null,"Cooling COP",null,{"$f":"BA52/BA62","v":5.0559613244084538},null,null,"Cooling COP",null,{"$f":"BF52/BF62","v":4.2391078704518348}]
["Refrigerant mass flow",null,2.93E-2,"kg/s",null,"Refrigerant mass flow",null,{"$f":"C54","v":2.93E-2},"kg/s",null,"Refrigerant mass flow",null,{"$f":"H54","v":2.93E-2},"kg/s",null,"Refrigerant mass flow",null,{"$f":"M54","v":2.93E-2},"kg/s",null,"Refrigerant mass flow",null,{"$f":"R54","v":2.93E-2},"kg/s",null,"Refrigerant mass flow",null,{"$f":"W54","v":2.93E-2},"kg/s",null,"Refrigerant mass flow",null,{"$f":"AB54","v":2.93E-2},"kg/s",null,"Refrigerant mass flow",null,{"$f":"AG54","v":2.93E-2},"kg/s",null,"Refrigerant mass flow",null,{"$f":"AL54","v":2.93E-2},"kg/s",null,"Refrigerant mass flow",null,{"$f":"AQ54","v":2.93E-2},"kg/s",null,"Refrigerant mass flow",null,{"$f":"AV54","v":2.93E-2},"kg/s",null,"Refrigerant mass flow",null,{"$f":"BA54","v":2.93E-2},"kg/s"]
["Volume flow",null,{"$f":"C56/3600","v":2.166666666666667E-3},"m3/s",null,"Volume flow",null,{"$f":"H56/3600","v":2.166666666666667E-3},"m3/s",null,"Volume flow",null,{"$f":"M56/3600","v":2.166666666666667E-3},"m3/s",null,"Volume flow",null,{"$f":"R56/3600","v":2.166666666666667E-3},"m3/s",null,"Volume flow",null,{"$f":"W56/3600","v":2.166666666666667E-3},"m3/s",null,"Volume flow",null,{"$f":"AB56/3600","v":2.166666666666667E-3},"m3/s",null,"Volume flow",null,{"$f":"AG56/3600","v":2.166666666666667E-3},"m3/s",null,"Volume flow",null,{"$f":"AL56/3600","v":2.166666666666667E-3},"m3/s",null,"Volume flow",null,{"$f":"AQ56/3600","v":2.166666666666667E-3},"m3/s",null,"Volume flow",null,{"$f":"AV56/3600","v":2.166666666666667E-3},"m3/s",null,"Volume flow",null,{"$f":"BA56/3600","v":2.166666666666667E-3},"m3/s",null,"Volume flow",null,{"$f":"BF56/3600","v":2.166666666666667E-3},"m3/s"]
["Volume flow",null,{"$f":"C58*C57","v":7.8000000000000007},"m3/h",null,"Volume flow",null,{"$f":"H58*H57","v":7.8000000000000007},"m3/h",null,"Volume flow",null,{"$f":"M58*M57","v":7.8000000000000007},"m3/h",null,"Volume flow",null,{"$f":"R58*R57","v":7.8000000000000007},"m3/h",null,"Volume flow",null,{"$f":"W58*W57","v":7.8000000000000007},"m3/h",null,"Volume flow",null,{"$f":"AB58*AB57","v":7.8000000000000007},"m3/h",null,"Volume flow",null,{"$f":"AG58*AG57","v":7.8000000000000007},"m3/h",null,"Volume flow",null,{"$f":"AL58*AL57","v":7.8000000000000007},"m3/h",null,"Volume flow",null,{"$f":"AQ58*AQ57","v":7.8000000000000007},"m3/h",null,"Volume flow",null,{"$f":"AV58*AV57","v":7.8000000000000007},"m3/h",null,"Volume flow",null,{"$f":"BA58*BA57","v":7.8000000000000007},"m3/h",null,"Volume flow",null,{"$f":"BF58*BF57","v":7.8000000000000007},"m3/h"]
["Volumetric efficiency",null,0.65,null,null,"Volumetric efficiency",null,0.65,null,null,"Volumetric efficiency",null,0.65,null,null,"Volumetric efficiency",null,0.65,null,null,"Volumetric efficiency",null,0.65,null,null,"Volumetric efficiency",null,0.65,null,null,"Volumetric efficiency",null,0.65,null,null,"Volumetric efficiency",null,0.65,null,null,"Volumetric efficiency",null,0.65,null,null,"Volumetric efficiency",null,0.65,null,null,"Volumetric efficiency",null,0.65,null,null,"Volumetric efficiency",null,0.65]
["Cylinder volume",null,12,"m3/h",null,"Cylinder volume",null,12,"m3/h",null,"Cylinder volume",null,12,"m3/h",null,"Cylinder volume",null,12,"m3/h",null,"Cylinder volume",null,12,"m3/h",null,"Cylinder volume",null,12,"m3/h",null,"Cylinder volume",null,12,"m3/h",null,"Cylinder volume",null,12,"m3/h",null,"Cylinder volume",null,12,"m3/h",null,"Cylinder volume",null,12,"m3/h",null,"Cylinder volume",null,12,"m3/h",null,"Cylinder volume",null,12,"m3/h"]
[]
["Compressor effect 1. compressor",null,{"$f":"(C54*C51)*(C27-C17)","v":0.91800437363555487},"kW",null,"Compressor effect 1. compressor",null,{"$f":"(H54*H51)*(H27-H17)","v":0.85092156879185255},"kW",null,"Compressor effect 1. compressor",null,{"$f":"(M54*M51)*(M27-M17)","v":0.65794341360023523},"kW",null,"Compressor effect 1. compressor",null,{"$f":"(R54*R51)*(R27-R17)","v":0.40533502041222941},"kW",null,"Compressor effect 1. compressor",null,{"$f":"(W54*W51)*(W27-W17)","v":0.18350216437085914},"kW",null,"Compressor effect 1. compressor",null,{"$f":"(AB54*AB51)*(AB27-AB17)","v":0.15997701431929548},"kW",null,"Compressor effect 1. compressor",null,{"$f":"(AG54*AG51)*(AG27-AG17)","v":6.0940615536335958E-2},"kW",null,"Compressor effect 1. compressor",null,{"$f":"(AL54*AL51)*(AL27-AL17)","v":0.13989198579157142},"kW",null,"Compressor effect 1. compressor",null,{"$f":"(AQ54*AQ51)*(AQ27-AQ17)","v":0.1377651288295865},"kW",null,"Compressor effect 1. compressor",null,{"$f":"(AV54*AV51)*(AV27-AV17)","v":0.34561545808254052},"kW",null,"Compressor effect 1. compressor",null,{"$f":"(BA54*BA51)*(BA27-BA17)","v":0.62512786725527114},"kW",null,"Compressor effect 1. compressor",null,{"$f":"(BF54*BF51)*(BF27-BF17)","v":0.84701938703406565},"kW"]
["Compressor effect 2. compressor",null,{"$f":"C54*(C44-C33)","v":0.81240143134445075},"kW",null,"Compressor effect 2. compressor",null,{"$f":"H54*(H44-H33)","v":0.80320785253950766},"kW",null,"Compressor effect 2. compressor",null,{"$f":"M54*(M44-M33)","v":0.77617628715872},"kW",null,"Compressor effect 2. compressor",null,{"$f":"R54*(R44-R33)","v":0.73919880846255004},"kW",null,"Compressor effect 2. compressor",null,{"$f":"W54*(W44-W33)","v":0.70475746538916573},"kW",null,"Compressor effect 2. compressor",null,{"$f":"AB54*(AB44-AB33)","v":0.5735161489861651},"kW",null,"Compressor effect 2. compressor",null,{"$f":"AG54*(AG44-AG33)","v":0.56370152378124494},"kW",null,"Compressor effect 2. compressor",null,{"$f":"AL54*(AL44-AL33)","v":0.5715429971218603},"kW",null,"Compressor effect 2. compressor",null,{"$f":"AQ54*(AQ44-AQ33)","v":0.69735432476868942},"kW",null,"Compressor effect 2. compressor",null,{"$f":"AV54*(AV44-AV33)","v":0.73013316967147801},"kW",null,"Compressor effect 2. compressor",null,{"$f":"BA54*(BA44-BA33)","v":0.77148366153055814},"kW",null,"Compressor effect 2. compressor",null,{"$f":"BF54*(BF44-BF33)","v":0.8026700457498348},"kW"]
["Compressor effect TOTAL",null,{"$f":"C61+C60","v":1.7304058049800055},"kW",null,"Compressor effect TOTAL",null,{"$f":"H61+H60","v":1.6541294213313602},"kW",null,"Compressor effect TOTAL",null,{"$f":"M61+M60","v":1.4341197007589552},"kW",null,"Compressor effect TOTAL",null,{"$f":"R61+R60","v":1.1445338288747795},"kW",null,"Compressor effect TOTAL",null,{"$f":"W61+W60","v":0.88825962976002493},"kW",null,"Compressor effect TOTAL",null,{"$f":"AB61+AB60","v":0.73349316330546055},"kW",null,"Compressor effect TOTAL",null,{"$f":"AG61+AG60","v":0.62464213931758095},"kW",null,"Compressor effect TOTAL",null,{"$f":"AL61+AL60","v":0.71143498291343166},"kW",null,"Compressor effect TOTAL",null,{"$f":"AQ61+AQ60","v":0.83511945359827588},"kW",null,"Compressor effect TOTAL",null,{"$f":"AV61+AV60","v":1.0757486277540185},"kW",null,"Compressor effect TOTAL",null,{"$f":"BA61+BA60","v":1.3966115287858294},"kW",null,"Compressor effect TOTAL",null,{"$f":"BF61+BF60","v":1.6496894327839005},"kW"]
["Over heating heat",null,{"$f":"(C54*(C44-C46))+((C54/2)*(C27-C29))","v":1.6871962263631828},"kW",null,"Over heating heat",null,{"$f":"(H54*(H44-H46))+((H54/2)*(H27-H29))","v":1.5915816377415577},"kW",null,"Over heating heat",null,{"$f":"(M54*(M44-M46))+((M54/2)*(M27-M29))","v":1.3141376749207256},"kW",null,"Over heating heat",null,{"$f":"(R54*(R44-R46))+((R54/2)*(R27-R29))","v":0.94358510305999488},"kW",null,"Over heating heat",null,{"$f":"(W54*(W44-W46))+((W54/2)*(W27-W29))","v":0.6077769251513877},"kW",null,"Over heating heat",null,{"$f":"(AB54*(AB44-AB46))+((AB54/2)*(AB27-AB29))","v":0.79874149472719658},"kW",null,"Over heating heat",null,{"$f":"(AG54*(AG44-AG46))+((AG54/2)*(AG27-AG29))","v":0.67215763815944307},"kW",null,"Over heating heat",null,{"$f":"(AL54*(AL44-AL46))+((AL54/2)*(AL27-AL29))","v":0.77320723157903204},"kW",null,"Over heating heat",null,{"$f":"(AQ54*(AQ44-AQ46))+((AQ54/2)*(AQ27-AQ29))","v":0.53685842363890224},"kW",null,"Over heating heat",null,{"$f":"(AV54*(AV44-AV46))+((AV54/2)*(AV27-AV29))","v":0.85433168912184976},"kW",null,"Over heating heat",null,{"$f":"(BA54*(BA44-BA46))+((BA54/2)*(BA27-BA29))","v":1.2665366831549938},"kW",null,"Over heating heat",null,{"$f":"(BF54*(BF44-BF46))+((BF54/2)*(BF27-BF29))","v":1.5860080351801171},"kW"]
["Heating capacity",null,{"$f":"(C54*(C44-C48))","v":7.4626902569948577},"kW",null,"Heating capacity",null,{"$f":"(H54*(H44-H48))","v":7.3952483376579243},"kW",null,"Heating capacity",null,{"$f":"(M54*(M44-M48))","v":7.1991543277599463},"kW",null,"Heating capacity",null,{"$f":"(R54*(R44-R48))","v":6.9361921887213978},"kW",null,"Heating capacity",null,{"$f":"(W54*(W44-W48))","v":6.696618740642112},"kW",null,"Heating capacity",null,{"$f":"(AB54*(AB44-AB48))","v":6.9044382638466839},"kW",null,"Heating capacity",null,{"$f":"(AG54*(AG44-AG48))","v":6.8167774807761141},"kW",null,"Heating capacity",null,{"$f":"(AL54*(AL44-AL48))","v":6.8867577033160359},"kW",null,"Heating capacity",null,{"$f":"(AQ54*(AQ44-AQ48))","v":6.6458400482001636},"kW",null,"Heating capacity",null,{"$f":"(AV54*(AV44-AV48))","v":6.8726451225511545},"kW",null,"Heating capacity",null,{"$f":"(BA54*(BA44-BA48))","v":7.1654463431887612},"kW",null,"Heating capacity",null,{"$f":"(BF54*(BF44-BF48))","v":7.3913149186460521},"kW"]
["Heating COP",null,{"$f":"C64/C62","v":4.3126821671065114},null,null,"Heating COP",null,{"$f":"H64/H62","v":4.4707797602110881},null,null,"Heating COP",null,{"$f":"M64/M62","v":5.0199117437338447},null,null,"Heating COP",null,{"$f":"R64/R62","v":6.0602771309438239},null,null,"Heating COP",null,{"$f":"W64/W62","v":7.5390330892908999},null,null,"Heating COP",null,{"$f":"AB64/AB62","v":9.4130915041281114},null,null,"Heating COP",null,{"$f":"AG64/AG62","v":10.913092556040834},null,null,"Heating COP",null,{"$f":"AL64/AL62","v":9.6800942724432009},null,null,"Heating COP",null,{"$f":"AQ64/AQ62","v":7.9579514278649111},null,null,"Heating COP",null,{"$f":"AV64/AV62","v":6.3887091698179317},null,null,"Heating COP",null,{"$f":"BA64/BA62","v":5.1305937230936198},null,null,"Heating COP",null,{"$f":"BF64/BF62","v":4.4804281168080138}]
["pluss (+) 2 kW water heating",null,{"$f":"(C64+2)/(C62+2)","v":2.5366383047019672},null,null,"pluss (+) 2 kW water heating",null,{"$f":"(H64+2)/(H62+2)","v":2.5711317948434411},null,null,"pluss (+) 2 kW water heating",null,{"$f":"(M64+2)/(M62+2)","v":2.6787517993990986},null,null,"pluss (+) 2 kW water heating",null,{"$f":"(R64+2)/(R62+2)","v":2.8418177939968512},null,null,"pluss (+) 2 kW water heating",null,{"$f":"(W64+2)/(W62+2)","v":3.0110238882384275},null,null,"pluss (+) 2 kW water heating",null,{"$f":"(AB64+2)/(AB62+2)","v":3.2575308339454723},null,null,"pluss (+) 2 kW water heating",null,{"$f":"(AG64+2)/(AG62+2)","v":3.3592303303750644},null,null,"pluss (+) 2 kW water heating",null,{"$f":"(AL64+2)/(AL62+2)","v":3.2775108971144244},null,null,"pluss (+) 2 kW water heating",null,{"$f":"(AQ64+2)/(AQ62+2)","v":3.0495505355963184},null,null,"pluss (+) 2 kW water heating",null,{"$f":"(AV64+2)/(AV62+2)","v":2.8847107473246805},null,null,"pluss (+) 2 kW water heating",null,{"$f":"(BA64+2)/(BA62+2)","v":2.698408771657526},null,null,"pluss (+) 2 kW water heating",null,{"$f":"(BF64+2)/(BF62+2)","v":2.5731819355058301}]
[]
[]
["Evaporator temp",null,"Effect 1. comp",null,"Comp 1. out temp",null,"Effect 2. comp",null,"Comp 2. out temp",null,"Effect condenser",null,"COP","Inter mediat temp",null,"Inter mediat cooler",null,"Tot comp effect",null,"COP + water heating",null,null,"Outside temp"]
[{"$f":"W70-5","v":-22.1},"˚C",{"$f":"C60","v":0.91800437363555487},"kW",{"$f":"C28","v":31.95311157724905},"˚C",{"$f":"C61","v":0.81240143134445075},"kW",{"$f":"C45","v":61.582557254297107},"˚C",{"$f":"C64","v":7.4626902569948577},"kW",{"$f":"K70/(C70+G70)","v":4.3126821671065114},5,"˚C",10,"˚",{"$f":"C70+G70","v":1.7304058049800055},"kW",{"$f":"(K70+2)/((C70+G70)+2)","v":2.5366383047019672},null,null,-17.100000000000001]
[-20.399999999999999,"˚C",{"$f":"H60","v":0.85092156879185255},"kW",{"$f":"H28","v":30.092175953810969},"˚C",{"$f":"H61","v":0.80320785253950766},"kW",{"$f":"H45","v":59.587071215083093},"˚C",{"$f":"H64","v":7.3952483376579243},"kW",4.4707797602110881,5,"˚C",10,"˚",{"$f":"C71+G71","v":1.6541294213313602},"kW",2.5711317948434411,null,null,-15.4]
[-15.3,"˚C",{"$f":"M60","v":0.65794341360023523},"kW",{"$f":"M28","v":24.775165455266631},"˚C",{"$f":"M61","v":0.77617628715872},"kW",{"$f":"M45","v":53.880552295192217},"˚C",{"$f":"M64","v":7.1991543277599463},"kW",5.0199117437338447,5,"˚C",10,"˚",1.4341197007589552,"kW",2.6787517993990986,null,null,-10.3]
[-8.1,"˚C",{"$f":"R60","v":0.40533502041222941},"kW",{"$f":"R28","v":17.894098529494389},"˚C",{"$f":"R61","v":0.73919880846255004},"kW",{"$f":"R45","v":46.485533260199297},"˚C",{"$f":"R64","v":6.9361921887213978},"kW",6.0602771309438239,5,"˚C",10,"˚",1.1445338288747795,"kW",2.8418177939968512,null,null,-3.1]
[-1.2000000000000002,"˚C",{"$f":"W60","v":0.18350216437085914},"kW",{"$f":"W28","v":11.915742554533949},"˚C",{"$f":"W61","v":0.70475746538916573},"kW",{"$f":"W45","v":40.054497010415453},"˚C",{"$f":"W64","v":6.696618740642112},"kW",7.5390330892908999,5,"˚C",10,"˚",0.88825962976002493,"kW",3.0110238882384275,null,null,3.8]
[5.0999999999999996,"˚C",{"$f":"AB60","v":0.15997701431929548},"kW",{"$f":"AB28","v":15.62446475059272},"˚C",{"$f":"AB61","v":0.5735161489861651},"kW",{"$f":"AB45","v":45.615146310152909},"˚C",{"$f":"AB64","v":6.9044382638466839},"kW",9.4130915041281114,5,"˚C",10,"˚",0.73349316330546055,"kW",3.2575308339454723,null,null,10.1]
[8.1,"˚C",{"$f":"AG60","v":6.0940615536335958E-2},"kW",{"$f":"AG28","v":13.3785220440177},"˚C",{"$f":"AG61","v":0.56370152378124494},"kW",{"$f":"AG45","v":43.240061351185027},"˚C",{"$f":"AG64","v":6.8167774807761141},"kW",10.913092556040834,5,"˚C",10,"˚",0.62464213931758095,"kW",3.3592303303750644,null,null,13.1]
[5.6999999999999993,"˚C",{"$f":"AL60","v":0.13989198579157142},"kW",{"$f":"AL28","v":15.16829716609544},"˚C",{"$f":"AL61","v":0.5715429971218603},"kW",{"$f":"AL45","v":45.132792066882473},"˚C",{"$f":"AL64","v":6.8867577033160359},"kW",9.6800942724432009,5,"˚C",10,"˚",0.71143498291343166,"kW",3.2775108971144244,null,null,10.7]
[0.29999999999999982,"˚C",{"$f":"AQ60","v":0.1377651288295865},"kW",{"$f":"AQ28","v":10.68883702633309},"˚C",{"$f":"AQ61","v":0.69735432476868942},"kW",{"$f":"AQ45","v":38.734125415589922},"˚C",{"$f":"AQ64","v":6.6458400482001636},"kW",7.9579514278649111,5,"˚C",10,"˚",0.83511945359827588,"kW",3.0495505355963184,null,null,5.3]
[-6.3,"˚C",{"$f":"AV60","v":0.34561545808254052},"kW",{"$f":"AV28","v":16.279430448850011},"˚C",{"$f":"AV61","v":0.73013316967147801},"kW",{"$f":"AV45","v":44.748964703656718},"˚C",{"$f":"AV64","v":6.8726451225511545},"kW",6.3887091698179317,5,"˚C",10,"˚",1.0757486277540185,"kW",2.8847107473246805,null,null,-1.3]
[-14.4,"˚C",{"$f":"BA60","v":0.62512786725527114},"kW",{"$f":"BA28","v":23.876309382225539},"˚C",{"$f":"BA61","v":0.77148366153055814},"kW",{"$f":"BA45","v":52.915147024588236},"˚C",{"$f":"BA64","v":7.1654463431887612},"kW",5.1305937230936198,5,"˚C",10,"˚",1.3966115287858294,"kW",2.698408771657526,null,null,-9.4]
[-20.3,"˚C",{"$f":"BF60","v":0.84701938703406565},"kW",{"$f":"BF28","v":29.984126145237209},"˚C",{"$f":"BF61","v":0.8026700457498348},"kW",{"$f":"BF45","v":59.471179993574253},"˚C",{"$f":"BF64","v":7.3913149186460521},"kW",4.4804281168080138,5,"˚C",10,"˚",1.6496894327839005,"kW",2.5731819355058301,null,null,-15.3]

{"sheet":"El. calc.","index":7,"n_rows":342,"n_cols":59,"rows_kept":342,"cut":false,"hidden":false,"merged":[]}
["Average temperature 2012 and 2013"]
[]
[]
[]
[]
[]
[]
[]
[2012]
["Refrigerant",null,"R410A",null,null,"Refrigerant",null,{"$f":"C10","v":"R410A"},null,null,"Refrigerant",null,{"$f":"H10","v":"R410A"},null,null,"Refrigerant",null,{"$f":"M10","v":"R410A"},null,null,"Refrigerant",null,{"$f":"R10","v":"R410A"},null,null,"Refrigerant",null,{"$f":"W10","v":"R410A"},null,null,"Refrigerant",null,{"$f":"AB10","v":"R410A"},null,null,"Refrigerant",null,{"$f":"AG10","v":"R410A"},null,null,"Refrigerant",null,{"$f":"AL10","v":"R410A"},null,null,"Refrigerant",null,{"$f":"AQ10","v":"R410A"},null,null,"Refrigerant",null,{"$f":"AV10","v":"R410A"},null,null,"Refrigerant",null,{"$f":"BA10","v":"R410A"}]
["Two-stage Compression",null,null,null,null,"Two-stage Compression",null,null,null,null,"Two-stage Compression",null,null,null,null,"Two-stage Compression",null,null,null,null,"Two-stage Compression",null,null,null,null,"Two-stage Compression",null,null,null,null,"Two-stage Compression",null,null,null,null,"Two-stage Compression",null,null,null,null,"Two-stage Compression",null,null,null,null,"Two-stage Compression",null,null,null,null,"Two-stage Compression",null,null,null,null,"Two-stage Compression"]
["Evaporation temperature",null,-18.3,"˚C",null,"Evaporation temperature",null,-21.4,"˚C",null,"Evaporation temperature",null,-10.5,"˚C",null,"Evaporation temperature",null,-8,"˚C",null,"Evaporation temperature",null,-0.3,"˚C",null,"Evaporation temperature",null,4,"˚C",null,"Evaporation temperature",null,7,"˚C",null,"Evaporation temperature",null,5.6,"˚C",null,"Evaporation temperature",null,1.1000000000000001,"˚C",null,"Evaporation temperature",null,-5.3,"˚C",null,"Evaporation temperature",null,-10.5,"˚C",null,"Evaporation temperature",null,-20.8,"˚C"]
["Evaporation pressure",null,{"$f":"r_psatgasT(C10,C12)/100000","v":4.2560940553619222},"bar",null,"Evaporation pressure",null,{"$f":"r_psatgasT(H10,H12)/100000","v":3.790123621162639},"bar",null,"Evaporation pressure",null,{"$f":"r_psatgasT(M10,M12)/100000","v":5.6233380907701154},"bar",null,"Evaporation pressure",null,{"$f":"r_psatgasT(R10,R12)/100000","v":6.1255642355873379},"bar",null,"Evaporation pressure",null,{"$f":"r_psatgasT(W10,W12)/100000","v":7.88904690165006},"bar",null,"Evaporation pressure",null,{"$f":"r_psatgasT(AB10,AB12)/100000","v":9.0279925609180491},"bar",null,"Evaporation pressure",null,{"$f":"r_psatgasT(AG10,AG12)/100000","v":9.8933923123766174},"bar",null,"Evaporation pressure",null,{"$f":"r_psatgasT(AL10,AL12)/100000","v":9.4820774353615747},"bar",null,"Evaporation pressure",null,{"$f":"r_psatgasT(AQ10,AQ12)/100000","v":8.2471413518852117},"bar",null,"Evaporation pressure",null,{"$f":"r_psatgasT(AV10,AV12)/100000","v":6.7056034210001902},"bar",null,"Evaporation pressure",null,{"$f":"r_psatgasT(BA10,BA12)/100000","v":5.6233380907701154},"bar",null,"Evaporation pressure",null,{"$f":"r_psatgasT(BF10,BF12)/100000","v":3.8770928924432826},"bar"]
["Temperature in to compressor",null,{"$f":"C12+2","v":-16.3},"˚C",null,"Temperature in to compressor",null,{"$f":"H12+2","v":-19.399999999999999},"˚C",null,"Temperature in to compressor",null,{"$f":"M12+2","v":-8.5},"˚C",null,"Temperature in to compressor",null,{"$f":"R12+2","v":-6},"˚C",null,"Temperature in to compressor",null,{"$f":"W12+2","v":1.7},"˚C",null,"Temperature in to compressor",null,{"$f":"AB12+2","v":6},"˚C",null,"Temperature in to compressor",null,{"$f":"AG12+2","v":9},"˚C",null,"Temperature in to compressor",null,{"$f":"AL12+2","v":7.6},"˚C",null,"Temperature in to compressor",null,{"$f":"AQ12+2","v":3.1},"˚C",null,"Temperature in to compressor",null,{"$f":"AV12+2","v":-3.3},"˚C",null,"Temperature in to compressor",null,{"$f":"BA12+2","v":-8.5},"˚C",null,"Temperature in to compressor",null,{"$f":"BF12+2","v":-18.8},"˚C"]
["1. Compressor",null,null,null,null,"1. Compressor",null,null,null,null,"1. Compressor",null,null,null,null,"1. Compressor",null,null,null,null,"1. Compressor",null,null,null,null,"1. Compressor",null,null,null,null,"1. Compressor",null,null,null,null,"1. Compressor",null,null,null,null,"1. Compressor",null,null,null,null,"1. Compressor",null,null,null,null,"1. Compressor",null,null,null,null,"1. Compressor"]
["Enthalpy input compressor",null,{"$f":"r_hgastp(C10,C14,C13*100000)/1000","v":418.29415533541317},"kJ/kg",null,"Enthalpy input compressor",null,{"$f":"r_hgastp(H10,H14,H13*100000)/1000","v":417.04099464460609},"kJ/kg",null,"Enthalpy input compressor",null,{"$f":"r_hgastp(M10,M14,M13*100000)/1000","v":421.25828006043793},"kJ/kg",null,"Enthalpy input compressor",null,{"$f":"r_hgastp(R10,R14,R13*100000)/1000","v":422.14700768410268},"kJ/kg",null,"Enthalpy input compressor",null,{"$f":"r_hgastp(W10,W14,W13*100000)/1000","v":424.67757728088259},"kJ/kg",null,"Enthalpy input compressor",null,{"$f":"r_hgastp(AB10,AB14,AB13*100000)/1000","v":425.94242619394095},"kJ/kg",null,"Enthalpy input compressor",null,{"$f":"r_hgastp(AG10,AG14,AG13*100000)/1000","v":426.75555242425514},"kJ/kg",null,"Enthalpy input compressor",null,{"$f":"r_hgastp(AL10,AL14,AL13*100000)/1000","v":426.38347178780111},"kJ/kg",null,"Enthalpy input compressor",null,{"$f":"r_hgastp(AQ10,AQ14,AQ13*100000)/1000","v":425.10173982979461},"kJ/kg",null,"Enthalpy input compressor",null,{"$f":"r_hgastp(AV10,AV14,AV13*100000)/1000","v":423.07096536167353},"kJ/kg",null,"Enthalpy input compressor",null,{"$f":"r_hgastp(BA10,BA14,BA13*100000)/1000","v":421.25828006043793},"kJ/kg",null,"Enthalpy input compressor",null,{"$f":"r_hgastp(BF10,BF14,BF13*100000)/1000","v":417.28671029674479},"kJ/kg"]
["Entropy",null,{"$f":"R_SgasTP(C10,C14,C13*100000)","v":1860.491122235429},"J/kgK",null,"Entropy",null,{"$f":"R_SgasTP(H10,H14,H13*100000)","v":1867.4472267743849},"J/kgK",null,"Entropy",null,{"$f":"R_SgasTP(M10,M14,M13*100000)","v":1843.80752805221},"J/kgK",null,"Entropy",null,{"$f":"R_SgasTP(R10,R14,R13*100000)","v":1838.675570619575},"J/kgK",null,"Entropy",null,{"$f":"R_SgasTP(W10,W14,W13*100000)","v":1823.3932699019481},"J/kgK",null,"Entropy",null,{"$f":"R_SgasTP(AB10,AB14,AB13*100000)","v":1815.1321340109871},"J/kgK",null,"Entropy",null,{"$f":"R_SgasTP(AG10,AG14,AG13*100000)","v":1809.452311901475},"J/kgK",null,"Entropy",null,{"$f":"R_SgasTP(AL10,AL14,AL13*100000)","v":1812.095661718924},"J/kgK",null,"Entropy",null,{"$f":"R_SgasTP(AQ10,AQ14,AQ13*100000)","v":1820.6856801464889},"J/kgK",null,"Entropy",null,{"$f":"R_SgasTP(AV10,AV14,AV13*100000)","v":1833.233361865143},"J/kgK",null,"Entropy",null,{"$f":"R_SgasTP(BA10,BA14,BA13*100000)","v":1843.80752805221},"J/kgK",null,"Entropy",null,{"$f":"R_SgasTP(BF10,BF14,BF13*100000)","v":1866.0849518775969},"J/kgK"]
["Specific volume",null,{"$f":"R_vgasTP(C10,C14,C13*100000)","v":6.1481324105239502E-2},"m3/kg",null,"Specific volume",null,{"$f":"R_vgasTP(H10,H14,H13*100000)","v":6.880001302884288E-2},"m3/kg",null,"Specific volume",null,{"$f":"R_vgasTP(M10,M14,M13*100000)","v":4.6814434488150043E-2},"m3/kg",null,"Specific volume",null,{"$f":"R_vgasTP(R10,R14,R13*100000)","v":4.3022242212235502E-2},"m3/kg",null,"Specific volume",null,{"$f":"R_vgasTP(W10,W14,W13*100000)","v":3.3421776208885763E-2},"m3/kg",null,"Specific volume",null,{"$f":"R_vgasTP(AB10,AB14,AB13*100000)","v":2.9156396798030851E-2},"m3/kg",null,"Specific volume",null,{"$f":"R_vgasTP(AG10,AG14,AG13*100000)","v":2.655129591257618E-2},"m3/kg",null,"Specific volume",null,{"$f":"R_vgasTP(AL10,AL14,AL13*100000)","v":2.7732259944587771E-2},"m3/kg",null,"Specific volume",null,{"$f":"R_vgasTP(AQ10,AQ14,AQ13*100000)","v":3.1958232596228958E-2},"m3/kg",null,"Specific volume",null,{"$f":"R_vgasTP(AV10,AV14,AV13*100000)","v":3.9326941730328739E-2},"m3/kg",null,"Specific volume",null,{"$f":"R_vgasTP(BA10,BA14,BA13*100000)","v":4.6814434488150043E-2},"m3/kg",null,"Specific volume",null,{"$f":"R_vgasTP(BF10,BF14,BF13*100000)","v":6.7305222507207552E-2},"m3/kg"]
[]
["Intermediat temperature",null,5,"˚C",null,"Intermediat temperature",null,5,"˚C",null,"Intermediat temperature",null,5,"˚C",null,"Intermediat temperature",null,5,"˚C",null,"Intermediat temperature",null,5,"˚C",null,"Intermediat temperature",null,5,"˚C",null,"Intermediat temperature",null,8,"˚C",null,"Intermediat temperature",null,8,"˚C",null,"Intermediat temperature",null,5,"˚C",null,"Intermediat temperature",null,5,"˚C",null,"Intermediat temperature",null,5,"˚C",null,"Intermediat temperature",null,5,"˚C"]
["Intermediat pressure",null,{"$f":"r_psatgasT(C10,C20)/100000","v":9.3098172513601298},"bar",null,"Intermediat pressure",null,{"$f":"r_psatgasT(H10,H20)/100000","v":9.3098172513601298},"bar",null,"Intermediat pressure",null,{"$f":"r_psatgasT(M10,M20)/100000","v":9.3098172513601298},"bar",null,"Intermediat pressure",null,{"$f":"r_psatgasT(R10,R20)/100000","v":9.3098172513601298},"bar",null,"Intermediat pressure",null,{"$f":"r_psatgasT(W10,W20)/100000","v":9.3098172513601298},"bar",null,"Intermediat pressure",null,{"$f":"r_psatgasT(AB10,AB20)/100000","v":9.3098172513601298},"bar",null,"Intermediat pressure",null,{"$f":"r_psatgasT(AG10,AG20)/100000","v":10.195346630162},"bar",null,"Intermediat pressure",null,{"$f":"r_psatgasT(AL10,AL20)/100000","v":10.195346630162},"bar",null,"Intermediat pressure",null,{"$f":"r_psatgasT(AQ10,AQ20)/100000","v":9.3098172513601298},"bar",null,"Intermediat pressure",null,{"$f":"r_psatgasT(AV10,AV20)/100000","v":9.3098172513601298},"bar",null,"Intermediat pressure",null,{"$f":"r_psatgasT(BA10,BA20)/100000","v":9.3098172513601298},"bar",null,"Intermediat pressure",null,{"$f":"r_psatgasT(BF10,BF20)/100000","v":9.3098172513601298},"bar"]
["Intermediat pressure ratio",null,{"$f":"C21/C13","v":2.1874087203574399},null,null,"Intermediat pressure ratio",null,{"$f":"H21/H13","v":2.4563360412250348},null,null,"Intermediat pressure ratio",null,{"$f":"M21/M13","v":1.6555677608360111},null,null,"Intermediat pressure ratio",null,{"$f":"R21/R13","v":1.5198301565876038},null,null,"Intermediat pressure ratio",null,{"$f":"W21/W13","v":1.1800940427179998},null,null,"Intermediat pressure ratio",null,{"$f":"AB21/AB13","v":1.0312167614827346},null,null,"Intermediat pressure ratio",null,{"$f":"AG21/AG13","v":1.0305208070448837},null,null,"Intermediat pressure ratio",null,{"$f":"AL21/AL13","v":1.0752228822916405},null,null,"Intermediat pressure ratio",null,{"$f":"AQ21/AQ13","v":1.1288538481557615},null,null,"Intermediat pressure ratio",null,{"$f":"AV21/AV13","v":1.3883638304949895},null,null,"Intermediat pressure ratio",null,{"$f":"BA21/BA13","v":1.6555677608360111},null,null,"Intermediat pressure ratio",null,{"$f":"BF21/BF13","v":2.4012365732855141}]
["Isentropic efficiency",null,0.7,null,null,"Isentropic efficiency",null,0.7,null,null,"Isentropic efficiency",null,0.7,null,null,"Isentropic efficiency",null,0.7,null,null,"Isentropic efficiency",null,0.7,null,null,"Isentropic efficiency",null,0.7,null,null,"Isentropic efficiency",null,0.7,null,null,"Isentropic efficiency",null,0.7,null,null,"Isentropic efficiency",null,0.7,null,null,"Isentropic efficiency",null,0.7,null,null,"Isentropic efficiency",null,0.7,null,null,"Isentropic efficiency",null,0.7]
[]
["Isentropic entalpy",null,{"$f":"R_hgasSP(C10,C17,C21*100000)/1000","v":439.74194007635697},"kJ/kg",null,"Isentropic entalpy",null,{"$f":"R_hgasSP(H10,H17,H21*100000)/1000","v":441.78196897744493},"kJ/kg",null,"Isentropic entalpy",null,{"$f":"R_hgasSP(M10,M17,M21*100000)/1000","v":434.90241787763318},"kJ/kg",null,"Isentropic entalpy",null,{"$f":"R_hgasSP(R10,R17,R21*100000)/1000","v":433.42845061197818},"kJ/kg",null,"Isentropic entalpy",null,{"$f":"R_hgasSP(W10,W17,W21*100000)/1000","v":429.07929760288357},"kJ/kg",null,"Isentropic entalpy",null,{"$f":"R_hgasSP(AB10,AB17,AB21*100000)/1000","v":426.75271302820454},"kJ/kg",null,"Isentropic entalpy",null,{"$f":"R_hgasSP(AG10,AG17,AG21*100000)/1000","v":427.54632283781859},"kJ/kg",null,"Isentropic entalpy",null,{"$f":"R_hgasSP(AL10,AL17,AL21*100000)/1000","v":428.2968222710702},"kJ/kg",null,"Isentropic entalpy",null,{"$f":"R_hgasSP(AQ10,AQ17,AQ21*100000)/1000","v":428.31489884887861},"kJ/kg",null,"Isentropic entalpy",null,{"$f":"R_hgasSP(AV10,AV17,AV21*100000)/1000","v":431.87283579673721},"kJ/kg",null,"Isentropic entalpy",null,{"$f":"R_hgasSP(BA10,BA17,BA21*100000)/1000","v":434.90241787763318},"kJ/kg",null,"Isentropic entalpy",null,{"$f":"R_hgasSP(BF10,BF17,BF21*100000)/1000","v":441.3814085582539},"kJ/kg"]
["Real entropy",null,{"$f":"C16+(C25-C16)/C23","v":448.93384782247574},"kJ/kg",null,"Real entropy",null,{"$f":"H16+(H25-H16)/H23","v":452.38524369151872},"kJ/kg",null,"Real entropy",null,{"$f":"M16+(M25-M16)/M23","v":440.74990551357399},"kJ/kg",null,"Real entropy",null,{"$f":"R16+(R25-R16)/R23","v":438.26335472392481},"kJ/kg",null,"Real entropy",null,{"$f":"W16+(W25-W16)/W23","v":430.96574916945542},"kJ/kg",null,"Real entropy",null,{"$f":"AB16+(AB25-AB16)/AB23","v":427.09997881431752},"kJ/kg",null,"Real entropy",null,{"$f":"AG16+(AG25-AG16)/AG23","v":427.8852244436315},"kJ/kg",null,"Real entropy",null,{"$f":"AL16+(AL25-AL16)/AL23","v":429.11682962104265},"kJ/kg",null,"Real entropy",null,{"$f":"AQ16+(AQ25-AQ16)/AQ23","v":429.6919669999146},"kJ/kg",null,"Real entropy",null,{"$f":"AV16+(AV25-AV16)/AV23","v":435.64506598319309},"kJ/kg",null,"Real entropy",null,{"$f":"BA16+(BA25-BA16)/BA23","v":440.74990551357399},"kJ/kg",null,"Real entropy",null,{"$f":"BF16+(BF25-BF16)/BF23","v":451.7077078131864},"kJ/kg"]
["Temperature out of compressor",null,{"$f":"R_tgasHP(C10,C26*1000,C21*100000)","v":27.855486419725651},"˚C",null,"Temperature out of compressor",null,{"$f":"R_tgasHP(H10,H26*1000,H21*100000)","v":31.181298899565039},"˚C",null,"Temperature out of compressor",null,{"$f":"R_tgasHP(M10,M26*1000,M21*100000)","v":20.11086386661168},"˚C",null,"Temperature out of compressor",null,{"$f":"R_tgasHP(R10,R26*1000,R21*100000)","v":17.803333166216699},"˚C",null,"Temperature out of compressor",null,{"$f":"R_tgasHP(W10,W26*1000,W21*100000)","v":11.176625144096761},"˚C",null,"Temperature out of compressor",null,{"$f":"R_tgasHP(AB10,AB26*1000,AB21*100000)","v":7.7657356665810653},"˚C",null,"Temperature out of compressor",null,{"$f":"R_tgasHP(AG10,AG26*1000,AG21*100000)","v":10.738607507306771},"˚C",null,"Temperature out of compressor",null,{"$f":"R_tgasHP(AL10,AL26*1000,AL21*100000)","v":11.788799122846109},"˚C",null,"Temperature out of compressor",null,{"$f":"R_tgasHP(AQ10,AQ26*1000,AQ21*100000)","v":10.04453646109204},"˚C",null,"Temperature out of compressor",null,{"$f":"R_tgasHP(AV10,AV26*1000,AV21*100000)","v":15.399604675956031},"˚C",null,"Temperature out of compressor",null,{"$f":"R_tgasHP(BA10,BA26*1000,BA21*100000)","v":20.11086386661168},"˚C",null,"Temperature out of compressor",null,{"$f":"R_tgasHP(BF10,BF26*1000,BF21*100000)","v":30.52593799109292},"˚C"]
["Enthalpy on the dewpoint line",null,{"$f":"R_hsatgasT(C10,C20)/1000","v":423.8985647127937},"kJ/kg",null,"Enthalpy on the dewpoint line",null,{"$f":"R_hsatgasT(H10,H20)/1000","v":423.8985647127937},"kJ/kg",null,"Enthalpy on the dewpoint line",null,{"$f":"R_hsatgasT(M10,M20)/1000","v":423.8985647127937},"kJ/kg",null,"Enthalpy on the dewpoint line",null,{"$f":"R_hsatgasT(R10,R20)/1000","v":423.8985647127937},"kJ/kg",null,"Enthalpy on the dewpoint line",null,{"$f":"R_hsatgasT(W10,W20)/1000","v":423.8985647127937},"kJ/kg",null,"Enthalpy on the dewpoint line",null,{"$f":"R_hsatgasT(AB10,AB20)/1000","v":423.8985647127937},"kJ/kg",null,"Enthalpy on the dewpoint line",null,{"$f":"R_hsatgasT(AG10,AG20)/1000","v":424.62610749022429},"kJ/kg",null,"Enthalpy on the dewpoint line",null,{"$f":"R_hsatgasT(AL10,AL20)/1000","v":424.62610749022429},"kJ/kg",null,"Enthalpy on the dewpoint line",null,{"$f":"R_hsatgasT(AQ10,AQ20)/1000","v":423.8985647127937},"kJ/kg",null,"Enthalpy on the dewpoint line",null,{"$f":"R_hsatgasT(AV10,AV20)/1000","v":423.8985647127937},"kJ/kg",null,"Enthalpy on the dewpoint line",null,{"$f":"R_hsatgasT(BA10,BA20)/1000","v":423.8985647127937},"kJ/kg",null,"Enthalpy on the dewpoint line",null,{"$f":"R_hsatgasT(BF10,BF20)/1000","v":423.8985647127937},"kJ/kg"]
["2. Compressor",null,null,null,null,"2. Compressor",null,null,null,null,"2. Compressor",null,null,null,null,"2. Compressor",null,null,null,null,"2. Compressor",null,null,null,null,"2. Compressor",null,null,null,null,"2. Compressor",null,null,null,null,"2. Compressor",null,null,null,null,"2. Compressor",null,null,null,null,"2. Compressor",null,null,null,null,"2. Compressor",null,null,null,null,"2. Compressor"]
["Intermediat cooling",null,10,"K",null,"Intermediat cooling",null,10,"K",null,"Intermediat cooling",null,10,"K",null,"Intermediat cooling",null,10,"K",null,"Intermediat cooling",null,10,"K",null,"Intermediat cooling",null,0,"K",null,"Intermediat cooling",null,0,"K",null,"Intermediat cooling",null,0,"K",null,"Intermediat cooling",null,10,"K",null,"Intermediat cooling",null,10,"K",null,"Intermediat cooling",null,10,"K",null,"Intermediat cooling",null,10,"K"]
["Temperature in to compressor",null,{"$f":"C27-C30","v":17.855486419725651},"˚C",null,"Temperature in to compressor",null,{"$f":"H27-H30","v":21.181298899565039},"˚C",null,"Temperature in to compressor",null,{"$f":"M27-M30","v":10.11086386661168},"˚C",null,"Temperature in to compressor",null,{"$f":"R27-R30","v":7.8033331662166994},"˚C",null,"Temperature in to compressor",null,{"$f":"W27-W30","v":1.1766251440967608},"˚C",null,"Temperature in to compressor",null,{"$f":"AB27-AB30","v":7.7657356665810653},"˚C",null,"Temperature in to compressor",null,{"$f":"AG27-AG30","v":10.738607507306771},"˚C",null,"Temperature in to compressor",null,{"$f":"AL27-AL30","v":11.788799122846109},"˚C",null,"Temperature in to compressor",null,{"$f":"AQ27-AQ30","v":4.4536461092040014E-2},"˚C",null,"Temperature in to compressor",null,{"$f":"AV27-AV30","v":5.3996046759560308},"˚C",null,"Temperature in to compressor",null,{"$f":"BA27-BA30","v":10.11086386661168},"˚C",null,"Temperature in to compressor",null,{"$f":"BF27-BF30","v":20.52593799109292},"˚C"]
["Enthalpy input compressor",null,{"$f":"r_hgastp(C10,C31,C21*100000)/1000","v":438.31983512090892},"kJ/kg",null,"Enthalpy input compressor",null,{"$f":"r_hgastp(H10,H31,H21*100000)/1000","v":441.89515479770159},"kJ/kg",null,"Enthalpy input compressor",null,{"$f":"r_hgastp(M10,M31,M21*100000)/1000","v":429.76684098343179},"kJ/kg",null,"Enthalpy input compressor",null,{"$f":"r_hgastp(R10,R31,R21*100000)/1000","v":427.14306365279356},"kJ/kg",null,"Enthalpy input compressor",null,{"$f":"r_hgastp(W10,W31,W21*100000)/1000","v":419.35610937399161},"kJ/kg",null,"Enthalpy input compressor",null,{"$f":"r_hgastp(AB10,AB31,AB21*100000)/1000","v":427.09997881932105},"kJ/kg",null,"Enthalpy input compressor",null,{"$f":"r_hgastp(AG10,AG31,AG21*100000)/1000","v":427.88522445294302},"kJ/kg",null,"Enthalpy input compressor",null,{"$f":"r_hgastp(AL10,AL31,AL21*100000)/1000","v":429.11682967153979},"kJ/kg",null,"Enthalpy input compressor",null,{"$f":"r_hgastp(AQ10,AQ31,AQ21*100000)/1000","v":417.98128990238285},"kJ/kg",null,"Enthalpy input compressor",null,{"$f":"r_hgastp(AV10,AV31,AV21*100000)/1000","v":424.36518382974538},"kJ/kg",null,"Enthalpy input compressor",null,{"$f":"r_hgastp(BA10,BA31,BA21*100000)/1000","v":429.76684098343179},"kJ/kg",null,"Enthalpy input compressor",null,{"$f":"r_hgastp(BF10,BF31,BF21*100000)/1000","v":441.19458462898785},"kJ/kg"]
["Entropy",null,{"$f":"R_SgasTP(C10,C31,C21*100000)","v":1855.6152731164741},"J/kgK",null,"Entropy",null,{"$f":"R_SgasTP(H10,H31,H21*100000)","v":1867.8318510368799},"J/kgK",null,"Entropy",null,{"$f":"R_SgasTP(M10,M31,M21*100000)","v":1825.8231464807129},"J/kgK",null,"Entropy",null,{"$f":"R_SgasTP(R10,R31,R21*100000)","v":1816.522356133097},"J/kgK",null,"Entropy",null,{"$f":"R_SgasTP(W10,W31,W21*100000)","v":1788.471131601623},"J/kgK",null,"Entropy",null,{"$f":"R_SgasTP(AB10,AB31,AB21*100000)","v":1816.368993593491},"J/kgK",null,"Entropy",null,{"$f":"R_SgasTP(AG10,AG31,AG21*100000)","v":1810.6467019685119},"J/kgK",null,"Entropy",null,{"$f":"R_SgasTP(AL10,AL31,AL21*100000)","v":1814.9770472942359},"J/kgK",null,"Entropy",null,{"$f":"R_SgasTP(AQ10,AQ31,AQ21*100000)","v":1783.4491283997861},"J/kgK",null,"Entropy",null,{"$f":"R_SgasTP(AV10,AV31,AV21*100000)","v":1806.592358155274},"J/kgK",null,"Entropy",null,{"$f":"R_SgasTP(BA10,BA31,BA21*100000)","v":1825.8231464807129},"J/kgK",null,"Entropy",null,{"$f":"R_SgasTP(BF10,BF31,BF21*100000)","v":1865.4489864732061},"J/kgK"]
["Specific volume",null,{"$f":"R_vgasTP(C10,C31,C21*100000)","v":3.0426611024727941E-2},"m3/kg",null,"Specific volume",null,{"$f":"R_vgasTP(H10,H31,H21*100000)","v":3.1051843321277261E-2},"m3/kg",null,"Specific volume",null,{"$f":"R_vgasTP(M10,M31,M21*100000)","v":2.8901703890805298E-2},"m3/kg",null,"Specific volume",null,{"$f":"R_vgasTP(R10,R31,R21*100000)","v":2.8425316605210041E-2},"m3/kg",null,"Specific volume",null,{"$f":"R_vgasTP(W10,W31,W21*100000)","v":2.6986489161218111E-2},"m3/kg",null,"Specific volume",null,{"$f":"R_vgasTP(AB10,AB31,AB21*100000)","v":2.8417459186013919E-2},"m3/kg",null,"Specific volume",null,{"$f":"R_vgasTP(AG10,AG31,AG21*100000)","v":2.5888851185969019E-2},"m3/kg",null,"Specific volume",null,{"$f":"R_vgasTP(AL10,AL31,AL21*100000)","v":2.6094256069194421E-2},"m3/kg",null,"Specific volume",null,{"$f":"R_vgasTP(AQ10,AQ31,AQ21*100000)","v":2.6728457351169879E-2},"m3/kg",null,"Specific volume",null,{"$f":"R_vgasTP(AV10,AV31,AV21*100000)","v":2.7916385024346822E-2},"m3/kg",null,"Specific volume",null,{"$f":"R_vgasTP(BA10,BA31,BA21*100000)","v":2.8901703890805298E-2},"m3/kg",null,"Specific volume",null,{"$f":"R_vgasTP(BF10,BF31,BF21*100000)","v":3.0929880679552178E-2},"m3/kg"]
[]
["Condensating temperature",null,28,"˚C",null,"Condensating temperature",null,28,"˚C",null,"Condensating temperature",null,28,"˚C",null,"Condensating temperature",null,28,"˚C",null,"Condensating temperature",null,28,"˚C",null,"Condensating temperature",null,28,"˚C",null,"Condensating temperature",null,28,"˚C",null,"Condensating temperature",null,28,"˚C",null,"Condensating temperature",null,28,"˚C",null,"Condensating temperature",null,28,"˚C",null,"Condensating temperature",null,28,"˚C",null,"Condensating temperature",null,28,"˚C"]
["Condensating pressure",null,{"$f":"r_psatgasT(C10,C36)/100000","v":17.829772179326831},"bar",null,"Condensating pressure",null,{"$f":"r_psatgasT(H10,H36)/100000","v":17.829772179326831},"bar",null,"Condensating pressure",null,{"$f":"r_psatgasT(M10,M36)/100000","v":17.829772179326831},"bar",null,"Condensating pressure",null,{"$f":"r_psatgasT(R10,R36)/100000","v":17.829772179326831},"bar",null,"Condensating pressure",null,{"$f":"r_psatgasT(W10,W36)/100000","v":17.829772179326831},"bar",null,"Condensating pressure",null,{"$f":"r_psatgasT(AB10,AB36)/100000","v":17.829772179326831},"bar",null,"Condensating pressure",null,{"$f":"r_psatgasT(AG10,AG36)/100000","v":17.829772179326831},"bar",null,"Condensating pressure",null,{"$f":"r_psatgasT(AL10,AL36)/100000","v":17.829772179326831},"bar",null,"Condensating pressure",null,{"$f":"r_psatgasT(AQ10,AQ36)/100000","v":17.829772179326831},"bar",null,"Condensating pressure",null,{"$f":"r_psatgasT(AV10,AV36)/100000","v":17.829772179326831},"bar",null,"Condensating pressure",null,{"$f":"r_psatgasT(BA10,BA36)/100000","v":17.829772179326831},"bar",null,"Condensating pressure",null,{"$f":"r_psatgasT(BF10,BF36)/100000","v":17.829772179326831},"bar"]
["Pressure ration",null,{"$f":"C37/C21","v":1.9151581280203935},null,null,"Pressure ration",null,{"$f":"H37/H21","v":1.9151581280203935},null,null,"Pressure ration",null,{"$f":"M37/M21","v":1.9151581280203935},null,null,"Pressure ration",null,{"$f":"R37/R21","v":1.9151581280203935},null,null,"Pressure ration",null,{"$f":"W37/W21","v":1.9151581280203935},null,null,"Pressure ration",null,{"$f":"AB37/AB21","v":1.9151581280203935},null,null,"Pressure ration",null,{"$f":"AG37/AG21","v":1.7488147118587496},null,null,"Pressure ration",null,{"$f":"AL37/AL21","v":1.7488147118587496},null,null,"Pressure ration",null,{"$f":"AQ37/AQ21","v":1.9151581280203935},null,null,"Pressure ration",null,{"$f":"AV37/AV21","v":1.9151581280203935},null,null,"Pressure ration",null,{"$f":"BA37/BA21","v":1.9151581280203935},null,null,"Pressure ration",null,{"$f":"BF37/BF21","v":1.9151581280203935}]
["Pressure ration TOTAL",null,{"$f":"C37/C13","v":4.1892335900952391},null,null,"Pressure ration TOTAL",null,{"$f":"H37/H13","v":4.7042719345015618},null,null,"Pressure ration TOTAL",null,{"$f":"M37/M13","v":3.1706740536536095},null,null,"Pressure ration TOTAL",null,{"$f":"R37/R13","v":2.910715077599257},null,null,"Pressure ration TOTAL",null,{"$f":"W37/W13","v":2.2600666977398225},null,null,"Pressure ration TOTAL",null,{"$f":"AB37/AB13","v":1.9749431625045264},null,null,"Pressure ration TOTAL",null,{"$f":"AG37/AG13","v":1.8021899482366444},null,null,"Pressure ration TOTAL",null,{"$f":"AL37/AL13","v":1.8803655950787896},null,null,"Pressure ration TOTAL",null,{"$f":"AQ37/AQ13","v":2.1619336226426054},null,null,"Pressure ration TOTAL",null,{"$f":"AV37/AV13","v":2.6589362746220071},null,null,"Pressure ration TOTAL",null,{"$f":"BA37/BA13","v":3.1706740536536095},null,null,"Pressure ration TOTAL",null,{"$f":"BF37/BF13","v":4.598747740627589}]
["Isentropic efficiency",null,0.7,null,null,"Isentropic efficiency",null,0.7,null,null,"Isentropic efficiency",null,0.7,null,null,"Isentropic efficiency",null,0.7,null,null,"Isentropic efficiency",null,0.7,null,null,"Isentropic efficiency",null,0.7,null,null,"Isentropic efficiency",null,0.7,null,null,"Isentropic efficiency",null,0.7,null,null,"Isentropic efficiency",null,0.7,null,null,"Isentropic efficiency",null,0.7,null,null,"Isentropic efficiency",null,0.7,null,null,"Isentropic efficiency",null,0.7]
[]
["Isentropic entalpy",null,{"$f":"R_hgasSP(C10,C33,C37*100000)/1000","v":457.24088351978861},"kJ/kg",null,"Isentropic entalpy",null,{"$f":"R_hgasSP(H10,H33,H37*100000)/1000","v":461.21334086801897},"kJ/kg",null,"Isentropic entalpy",null,{"$f":"R_hgasSP(M10,M33,M37*100000)/1000","v":447.71811796966716},"kJ/kg",null,"Isentropic entalpy",null,{"$f":"R_hgasSP(R10,R33,R37*100000)/1000","v":444.79103128582938},"kJ/kg",null,"Isentropic entalpy",null,{"$f":"R_hgasSP(W10,W33,W37*100000)/1000","v":436.08711701806016},"kJ/kg",null,"Isentropic entalpy",null,{"$f":"R_hgasSP(AB10,AB33,AB37*100000)/1000","v":444.74294232343527},"kJ/kg",null,"Isentropic entalpy",null,{"$f":"R_hgasSP(AG10,AG33,AG37*100000)/1000","v":442.95266849697788},"kJ/kg",null,"Isentropic entalpy",null,{"$f":"R_hgasSP(AL10,AL33,AL37*100000)/1000","v":444.3067370837789},"kJ/kg",null,"Isentropic entalpy",null,{"$f":"R_hgasSP(AQ10,AQ33,AQ37*100000)/1000","v":434.54756643619277},"kJ/kg",null,"Isentropic entalpy",null,{"$f":"R_hgasSP(AV10,AV33,AV37*100000)/1000","v":441.68893404598612},"kJ/kg",null,"Isentropic entalpy",null,{"$f":"R_hgasSP(BA10,BA33,BA37*100000)/1000","v":447.71811796966716},"kJ/kg",null,"Isentropic entalpy",null,{"$f":"R_hgasSP(BF10,BF33,BF37*100000)/1000","v":460.43532360625125},"kJ/kg"]
["Real entropy",null,{"$f":"C32+(C42-C32)/C40","v":465.34990426216564},"kJ/kg",null,"Real entropy",null,{"$f":"H32+(H42-H32)/H40","v":469.49256346958356},"kJ/kg",null,"Real entropy",null,{"$f":"M32+(M42-M32)/M40","v":455.41152239233946},"kJ/kg",null,"Real entropy",null,{"$f":"R32+(R42-R32)/R40","v":452.35444598570189},"kJ/kg",null,"Real entropy",null,{"$f":"W32+(W42-W32)/W40","v":443.25754886551812},"kJ/kg",null,"Real entropy",null,{"$f":"AB32+(AB42-AB32)/AB40","v":452.30421239662707},"kJ/kg",null,"Real entropy",null,{"$f":"AG32+(AG42-AG32)/AG40","v":449.41014451584994},"kJ/kg",null,"Real entropy",null,{"$f":"AL32+(AL42-AL32)/AL40","v":450.81669740330995},"kJ/kg",null,"Real entropy",null,{"$f":"AQ32+(AQ42-AQ32)/AQ40","v":441.64739923639701},"kJ/kg",null,"Real entropy",null,{"$f":"AV32+(AV42-AV32)/AV40","v":449.11339842437502},"kJ/kg",null,"Real entropy",null,{"$f":"BA32+(BA42-BA32)/BA40","v":455.41152239233946},"kJ/kg",null,"Real entropy",null,{"$f":"BF32+(BF42-BF32)/BF40","v":468.68135459650699},"kJ/kg"]
["Temperature out of compressor",null,{"$f":"R_tgasHP(C10,C43*1000,C37*100000)","v":57.187421655099399},"˚C",null,"Temperature out of compressor",null,{"$f":"R_tgasHP(H10,H43*1000,H37*100000)","v":60.755056282097307},"˚C",null,"Temperature out of compressor",null,{"$f":"R_tgasHP(M10,M43*1000,M37*100000)","v":48.868932434944547},"˚C",null,"Temperature out of compressor",null,{"$f":"R_tgasHP(R10,R43*1000,R37*100000)","v":46.387926486547087},"˚C",null,"Temperature out of compressor",null,{"$f":"R_tgasHP(W10,W43*1000,W37*100000)","v":39.259070872683822},"˚C",null,"Temperature out of compressor",null,{"$f":"R_tgasHP(AB10,AB43*1000,AB37*100000)","v":46.347494685558331},"˚C",null,"Temperature out of compressor",null,{"$f":"R_tgasHP(AG10,AG43*1000,AG37*100000)","v":44.037262911391849},"˚C",null,"Temperature out of compressor",null,{"$f":"R_tgasHP(AL10,AL43*1000,AL37*100000)","v":45.155315104384897},"˚C",null,"Temperature out of compressor",null,{"$f":"R_tgasHP(AQ10,AQ43*1000,AQ37*100000)","v":38.040755879685378},"˚C",null,"Temperature out of compressor",null,{"$f":"R_tgasHP(AV10,AV43*1000,AV37*100000)","v":43.802556089448267},"˚C",null,"Temperature out of compressor",null,{"$f":"R_tgasHP(BA10,BA43*1000,BA37*100000)","v":48.868932434944547},"˚C",null,"Temperature out of compressor",null,{"$f":"R_tgasHP(BF10,BF43*1000,BF37*100000)","v":60.052280348432532},"˚C"]
["Enthalpy on the dewpoint line",null,{"$f":"R_hsatgasT(C10,C36)/1000","v":427.50292764073419},"kJ/kg",null,"Enthalpy on the dewpoint line",null,{"$f":"R_hsatgasT(H10,H36)/1000","v":427.50292764073419},"kJ/kg",null,"Enthalpy on the dewpoint line",null,{"$f":"R_hsatgasT(M10,M36)/1000","v":427.50292764073419},"kJ/kg",null,"Enthalpy on the dewpoint line",null,{"$f":"R_hsatgasT(R10,R36)/1000","v":427.50292764073419},"kJ/kg",null,"Enthalpy on the dewpoint line",null,{"$f":"R_hsatgasT(W10,W36)/1000","v":427.50292764073419},"kJ/kg",null,"Enthalpy on the dewpoint line",null,{"$f":"R_hsatgasT(AB10,AB36)/1000","v":427.50292764073419},"kJ/kg",null,"Enthalpy on the dewpoint line",null,{"$f":"R_hsatgasT(AG10,AG36)/1000","v":427.50292764073419},"kJ/kg",null,"Enthalpy on the dewpoint line",null,{"$f":"R_hsatgasT(AL10,AL36)/1000","v":427.50292764073419},"kJ/kg",null,"Enthalpy on the dewpoint line",null,{"$f":"R_hsatgasT(AQ10,AQ36)/1000","v":427.50292764073419},"kJ/kg",null,"Enthalpy on the dewpoint line",null,{"$f":"R_hsatgasT(AV10,AV36)/1000","v":427.50292764073419},"kJ/kg",null,"Enthalpy on the dewpoint line",null,{"$f":"R_hsatgasT(BA10,BA36)/1000","v":427.50292764073419},"kJ/kg",null,"Enthalpy on the dewpoint line",null,{"$f":"R_hsatgasT(BF10,BF36)/1000","v":427.50292764073419},"kJ/kg"]
["Subcooling of condenser",null,18,"K",null,"Subcooling of condenser",null,18,"K",null,"Subcooling of condenser",null,18,"K",null,"Subcooling of condenser",null,18,"K",null,"Subcooling of condenser",null,18,"K",null,"Subcooling of condenser",null,18,"K",null,"Subcooling of condenser",null,18,"K",null,"Subcooling of condenser",null,18,"K",null,"Subcooling of condenser",null,18,"K",null,"Subcooling of condenser",null,18,"K",null,"Subcooling of condenser",null,18,"K",null,"Subcooling of condenser",null,18,"K"]
["Enthalpy out of the condenser",null,{"$f":"R_hsatliqT(C10,C36-C46)/1000","v":215.74554978637232},"kJ/kg",null,"Enthalpy out of the condenser",null,{"$f":"R_hsatliqT(H10,H36-H46)/1000","v":215.74554978637232},"kJ/kg",null,"Enthalpy out of the condenser",null,{"$f":"R_hsatliqT(M10,M36-M46)/1000","v":215.74554978637232},"kJ/kg",null,"Enthalpy out of the condenser",null,{"$f":"R_hsatliqT(R10,R36-R46)/1000","v":215.74554978637232},"kJ/kg",null,"Enthalpy out of the condenser",null,{"$f":"R_hsatliqT(W10,W36-W46)/1000","v":215.74554978637232},"kJ/kg",null,"Enthalpy out of the condenser",null,{"$f":"R_hsatliqT(AB10,AB36-AB46)/1000","v":215.74554978637232},"kJ/kg",null,"Enthalpy out of the condenser",null,{"$f":"R_hsatliqT(AG10,AG36-AG46)/1000","v":215.74554978637232},"kJ/kg",null,"Enthalpy out of the condenser",null,{"$f":"R_hsatliqT(AL10,AL36-AL46)/1000","v":215.74554978637232},"kJ/kg",null,"Enthalpy out of the condenser",null,{"$f":"R_hsatliqT(AQ10,AQ36-AQ46)/1000","v":215.74554978637232},"kJ/kg",null,"Enthalpy out of the condenser",null,{"$f":"R_hsatliqT(AV10,AV36-AV46)/1000","v":215.74554978637232},"kJ/kg",null,"Enthalpy out of the condenser",null,{"$f":"R_hsatliqT(BA10,BA36-BA46)/1000","v":215.74554978637232},"kJ/kg",null,"Enthalpy out of the condenser",null,{"$f":"R_hsatliqT(BF10,BF36-BF46)/1000","v":215.74554978637232},"kJ/kg"]
[]
["Enthalpy in to evaporator",null,{"$f":"R_HsatliqP(C10,C20*100000)/1000","v":178.81416361766341},"kJ/kg",null,"Enthalpy in to evaporator",null,{"$f":"R_HsatliqP(H10,H20*100000)/1000","v":178.81416361766341},"kJ/kg",null,"Enthalpy in to evaporator",null,{"$f":"R_HsatliqP(M10,M20*100000)/1000","v":178.81416361766341},"kJ/kg",null,"Enthalpy in to evaporator",null,{"$f":"R_HsatliqP(R10,R20*100000)/1000","v":178.81416361766341},"kJ/kg",null,"Enthalpy in to evaporator",null,{"$f":"R_HsatliqP(W10,W20*100000)/1000","v":178.81416361766341},"kJ/kg",null,"Enthalpy in to evaporator",null,{"$f":"R_HsatliqP(AB10,AB20*100000)/1000","v":178.81416361766341},"kJ/kg",null,"Enthalpy in to evaporator",null,{"$f":"R_HsatliqP(AG10,AG20*100000)/1000","v":200.0688802740074},"kJ/kg",null,"Enthalpy in to evaporator",null,{"$f":"R_HsatliqP(AL10,AL20*100000)/1000","v":200.0688802740074},"kJ/kg",null,"Enthalpy in to evaporator",null,{"$f":"R_HsatliqP(AQ10,AQ20*100000)/1000","v":178.81416361766341},"kJ/kg",null,"Enthalpy in to evaporator",null,{"$f":"R_HsatliqP(AV10,AV20*100000)/1000","v":178.81416361766341},"kJ/kg",null,"Enthalpy in to evaporator",null,{"$f":"R_HsatliqP(BA10,BA20*100000)/1000","v":178.81416361766341},"kJ/kg",null,"Enthalpy in to evaporator",null,{"$f":"R_HsatliqP(BF10,BF20*100000)/1000","v":178.81416361766341},"kJ/kg"]
["Moist vapor - xf",null,{"$f":"(C32-C47)/(C32-C49)","v":0.85768562993334418},null,null,"Moist vapor - xf",null,{"$f":"(H32-H47)/(H32-H49)","v":0.85961970873283244},null,null,"Moist vapor - xf",null,{"$f":"(M32-M47)/(M32-M49)","v":0.85283525740241173},null,null,"Moist vapor - xf",null,{"$f":"(R32-R47)/(R32-R49)","v":0.85128035374261968},null,null,"Moist vapor - xf",null,{"$f":"(W32-W47)/(W32-W49)","v":0.84646592072502469},null,null,"Moist vapor - xf",null,{"$f":"(AB32-AB47)/(AB32-AB49)","v":0.8512545465446214},null,null,"Moist vapor - xf",null,{"$f":"(AG32-AG47)/(AG32-AG49)","v":0.93118724835628175},null,null,"Moist vapor - xf",null,{"$f":"(AL32-AL47)/(AL32-AL49)","v":0.9315572588464579},null,null,"Moist vapor - xf",null,{"$f":"(AQ32-AQ47)/(AQ32-AQ49)","v":0.8455833510967411},null,null,"Moist vapor - xf",null,{"$f":"(AV32-AV47)/(AV32-AV49)","v":0.84959791192554879},null,null,"Moist vapor - xf",null,{"$f":"(BA32-BA47)/(BA32-BA49)","v":0.85283525740241173},null,null,"Moist vapor - xf",null,{"$f":"(BF32-BF47)/(BF32-BF49)","v":0.85924488562690848}]
["Cooling capacity",null,{"$f":"C53*(C16-C49)","v":7.0167637573300681},"kW",null,"Cooling capacity",null,{"$f":"H53*(H16-H49)","v":6.9800461490894206},"kW",null,"Cooling capacity",null,{"$f":"M53*(M16-M49)","v":7.1036126117732934},"kW",null,"Cooling capacity",null,{"$f":"R53*(R16-R49)","v":7.1296523311466702},"kW",null,"Cooling capacity",null,{"$f":"W53*(W16-W49)","v":7.2037980203323215},"kW",null,"Cooling capacity",null,{"$f":"AB53*(AB16-AB49)","v":7.240858093484932},"kW",null,"Cooling capacity",null,{"$f":"AG53*(AG16-AG49)","v":6.6419194940022592},"kW",null,"Cooling capacity",null,{"$f":"AL53*(AL16-AL49)","v":6.6310175313541562},"kW",null,"Cooling capacity",null,{"$f":"AQ53*(AQ16-AQ49)","v":7.2162259830154438},"kW",null,"Cooling capacity",null,{"$f":"AV53*(AV16-AV49)","v":7.1567242910994961},"kW",null,"Cooling capacity",null,{"$f":"BA53*(BA16-BA49)","v":7.1036126117732934},"kW",null,"Cooling capacity",null,{"$f":"BF53*(BF16-BF49)","v":6.9872456176970843},"kW"]
["Cooling COP",null,{"$f":"C51/C61","v":4.4922747577992999},null,null,"Cooling COP",null,{"$f":"H51/H61","v":4.1087744341149479},null,null,"Cooling COP",null,{"$f":"M51/M61","v":5.7359020959023672},null,null,"Cooling COP",null,{"$f":"R51/R61","v":6.2503761645480509},null,null,"Cooling COP",null,{"$f":"W51/W61","v":8.4130182341467705},null,null,"Cooling COP",null,{"$f":"AB51/AB61","v":9.4361200858209404},null,null,"Cooling COP",null,{"$f":"AG51/AG61","v":10.040665968664937},null,null,"Cooling COP",null,{"$f":"AL51/AL61","v":9.3340435052136534},null,null,"Cooling COP",null,{"$f":"AQ51/AQ61","v":8.9404598195054632},null,null,"Cooling COP",null,{"$f":"AV51/AV61","v":6.8938445842733183},null,null,"Cooling COP",null,{"$f":"BA51/BA61","v":5.7359020959023672},null,null,"Cooling COP",null,{"$f":"BF51/BF61","v":4.1791218807424828}]
["Refrigerant mass flow",null,2.93E-2,"kg/s",null,"Refrigerant mass flow",null,{"$f":"C53","v":2.93E-2},"kg/s",null,"Refrigerant mass flow",null,{"$f":"H53","v":2.93E-2},"kg/s",null,"Refrigerant mass flow",null,{"$f":"M53","v":2.93E-2},"kg/s",null,"Refrigerant mass flow",null,{"$f":"R53","v":2.93E-2},"kg/s",null,"Refrigerant mass flow",null,{"$f":"W53","v":2.93E-2},"kg/s",null,"Refrigerant mass flow",null,{"$f":"AB53","v":2.93E-2},"kg/s",null,"Refrigerant mass flow",null,{"$f":"AG53","v":2.93E-2},"kg/s",null,"Refrigerant mass flow",null,{"$f":"AL53","v":2.93E-2},"kg/s",null,"Refrigerant mass flow",null,{"$f":"AQ53","v":2.93E-2},"kg/s",null,"Refrigerant mass flow",null,{"$f":"AV53","v":2.93E-2},"kg/s",null,"Refrigerant mass flow",null,{"$f":"BA53","v":2.93E-2},"kg/s"]
["Volume flow",null,{"$f":"C55/3600","v":2.166666666666667E-3},"m3/s",null,"Volume flow",null,{"$f":"H55/3600","v":2.166666666666667E-3},"m3/s",null,"Volume flow",null,{"$f":"M55/3600","v":2.166666666666667E-3},"m3/s",null,"Volume flow",null,{"$f":"R55/3600","v":2.166666666666667E-3},"m3/s",null,"Volume flow",null,{"$f":"W55/3600","v":2.166666666666667E-3},"m3/s",null,"Volume flow",null,{"$f":"AB55/3600","v":2.166666666666667E-3},"m3/s",null,"Volume flow",null,{"$f":"AG55/3600","v":2.166666666666667E-3},"m3/s",null,"Volume flow",null,{"$f":"AL55/3600","v":2.166666666666667E-3},"m3/s",null,"Volume flow",null,{"$f":"AQ55/3600","v":2.166666666666667E-3},"m3/s",null,"Volume flow",null,{"$f":"AV55/3600","v":2.166666666666667E-3},"m3/s",null,"Volume flow",null,{"$f":"BA55/3600","v":2.166666666666667E-3},"m3/s",null,"Volume flow",null,{"$f":"BF55/3600","v":2.166666666666667E-3},"m3/s"]
["Volume flow",null,{"$f":"C57*C56","v":7.8000000000000007},"m3/h",null,"Volume flow",null,{"$f":"H57*H56","v":7.8000000000000007},"m3/h",null,"Volume flow",null,{"$f":"M57*M56","v":7.8000000000000007},"m3/h",null,"Volume flow",null,{"$f":"R57*R56","v":7.8000000000000007},"m3/h",null,"Volume flow",null,{"$f":"W57*W56","v":7.8000000000000007},"m3/h",null,"Volume flow",null,{"$f":"AB57*AB56","v":7.8000000000000007},"m3/h",null,"Volume flow",null,{"$f":"AG57*AG56","v":7.8000000000000007},"m3/h",null,"Volume flow",null,{"$f":"AL57*AL56","v":7.8000000000000007},"m3/h",null,"Volume flow",null,{"$f":"AQ57*AQ56","v":7.8000000000000007},"m3/h",null,"Volume flow",null,{"$f":"AV57*AV56","v":7.8000000000000007},"m3/h",null,"Volume flow",null,{"$f":"BA57*BA56","v":7.8000000000000007},"m3/h",null,"Volume flow",null,{"$f":"BF57*BF56","v":7.8000000000000007},"m3/h"]
["Volumetric efficiency",null,0.65,null,null,"Volumetric efficiency",null,0.65,null,null,"Volumetric efficiency",null,0.65,null,null,"Volumetric efficiency",null,0.65,null,null,"Volumetric efficiency",null,0.65,null,null,"Volumetric efficiency",null,0.65,null,null,"Volumetric efficiency",null,0.65,null,null,"Volumetric efficiency",null,0.65,null,null,"Volumetric efficiency",null,0.65,null,null,"Volumetric efficiency",null,0.65,null,null,"Volumetric efficiency",null,0.65,null,null,"Volumetric efficiency",null,0.65]
["Cylinder volume",null,12,"m3/h",null,"Cylinder volume",null,12,"m3/h",null,"Cylinder volume",null,12,"m3/h",null,"Cylinder volume",null,12,"m3/h",null,"Cylinder volume",null,12,"m3/h",null,"Cylinder volume",null,12,"m3/h",null,"Cylinder volume",null,12,"m3/h",null,"Cylinder volume",null,12,"m3/h",null,"Cylinder volume",null,12,"m3/h",null,"Cylinder volume",null,12,"m3/h",null,"Cylinder volume",null,12,"m3/h",null,"Cylinder volume",null,12,"m3/h"]
[]
["Compressor effect 1. compressor",null,{"$f":"(C53*C50)*(C26-C16)","v":0.76998126178569537},"kW",null,"Compressor effect 1. compressor",null,{"$f":"(H53*H50)*(H26-H16)","v":0.89021056298287049},"kW",null,"Compressor effect 1. compressor",null,{"$f":"(M53*M50)*(M26-M16)","v":0.48705816052813922},"kW",null,"Compressor effect 1. compressor",null,{"$f":"(R53*R50)*(R26-R16)","v":0.40198221754658914},"kW",null,"Compressor effect 1. compressor",null,{"$f":"(W53*W50)*(W26-W16)","v":0.15595578997500401},"kW",null,"Compressor effect 1. compressor",null,{"$f":"(AB53*AB50)*(AB26-AB16)","v":2.887139757713391E-2},"kW",null,"Compressor effect 1. compressor",null,{"$f":"(AG53*AG50)*(AG26-AG16)","v":3.082173005255693E-2},"kW",null,"Compressor effect 1. compressor",null,{"$f":"(AL53*AL50)*(AL26-AL16)","v":7.4605984386022825E-2},"kW",null,"Compressor effect 1. compressor",null,{"$f":"(AQ53*AQ50)*(AQ26-AQ16)","v":0.11372559641319735},"kW",null,"Compressor effect 1. compressor",null,{"$f":"(AV53*AV50)*(AV26-AV16)","v":0.31300983822887363},"kW",null,"Compressor effect 1. compressor",null,{"$f":"(BA53*BA50)*(BA26-BA16)","v":0.48705816052813922},"kW",null,"Compressor effect 1. compressor",null,{"$f":"(BF53*BF50)*(BF26-BF16)","v":0.86657873597344404},"kW"]
["Compressor effect 2. compressor",null,{"$f":"C53*(C43-C32)","v":0.79198102583882179},"kW",null,"Compressor effect 2. compressor",null,{"$f":"H53*(H43-H32)","v":0.80860407408614154},"kW",null,"Compressor effect 2. compressor",null,{"$f":"M53*(M43-M32)","v":0.75138916528099475},"kW",null,"Compressor effect 2. compressor",null,{"$f":"R53*(R43-R32)","v":0.73869350235421405},"kW",null,"Compressor effect 2. compressor",null,{"$f":"W53*(W43-W32)","v":0.70031217710172655},"kW",null,"Compressor effect 2. compressor",null,{"$f":"AB53*(AB43-AB32)","v":0.73848404381506616},"kW",null,"Compressor effect 2. compressor",null,{"$f":"AG53*(AG43-AG32)","v":0.63068015784317255},"kW",null,"Compressor effect 2. compressor",null,{"$f":"AL53*(AL43-AL32)","v":0.63580612454086549},"kW",null,"Compressor effect 2. compressor",null,{"$f":"AQ53*(AQ43-AQ32)","v":0.69341700348661461},"kW",null,"Compressor effect 2. compressor",null,{"$f":"AV53*(AV43-AV32)","v":0.72512268762264853},"kW",null,"Compressor effect 2. compressor",null,{"$f":"BA53*(BA43-BA32)","v":0.75138916528099475},"kW",null,"Compressor effect 2. compressor",null,{"$f":"BF53*(BF43-BF32)","v":0.80536236004831074},"kW"]
["Compressor effect TOTAL",null,{"$f":"C60+C59","v":1.5619622876245172},"kW",null,"Compressor effect TOTAL",null,{"$f":"H60+H59","v":1.698814637069012},"kW",null,"Compressor effect TOTAL",null,{"$f":"M60+M59","v":1.238447325809134},"kW",null,"Compressor effect TOTAL",null,{"$f":"R60+R59","v":1.1406757199008033},"kW",null,"Compressor effect TOTAL",null,{"$f":"W60+W59","v":0.85626796707673059},"kW",null,"Compressor effect TOTAL",null,{"$f":"AB60+AB59","v":0.76735544139220002},"kW",null,"Compressor effect TOTAL",null,{"$f":"AG60+AG59","v":0.6615018878957295},"kW",null,"Compressor effect TOTAL",null,{"$f":"AL60+AL59","v":0.71041210892688833},"kW",null,"Compressor effect TOTAL",null,{"$f":"AQ60+AQ59","v":0.80714259989981196},"kW",null,"Compressor effect TOTAL",null,{"$f":"AV60+AV59","v":1.0381325258515222},"kW",null,"Compressor effect TOTAL",null,{"$f":"BA60+BA59","v":1.238447325809134},"kW",null,"Compressor effect TOTAL",null,{"$f":"BF60+BF59","v":1.6719410960217549},"kW"]
["Over heating heat",null,{"$f":"(C53*(C43-C45))+((C53/2)*(C26-C28))","v":1.4756833125647835},"kW",null,"Over heating heat",null,{"$f":"(H53*(H43-H45))+((H53/2)*(H26-H28))","v":1.6476261768236082},"kW",null,"Over heating heat",null,{"$f":"(M53*(M43-M45))+((M53/2)*(M26-M28))","v":1.0645939689534658},"kW",null,"Over heating heat",null,{"$f":"(R53*(R43-R45))+((R53/2)*(R26-R28))","v":0.93859366117062426},"kW",null,"Over heating heat",null,{"$f":"(W53*(W43-W45))+((W53/2)*(W26-W28))","v":0.56514465417626336},"kW",null,"Over heating heat",null,{"$f":"(AB53*(AB43-AB45))+((AB53/2)*(AB26-AB28))","v":0.77357835993498536},"kW",null,"Over heating heat",null,{"$f":"(AG53*(AG43-AG45))+((AG53/2)*(AG26-AG28))","v":0.68962751780830722},"kW",null,"Over heating heat",null,{"$f":"(AL53*(AL43-AL45))+((AL53/2)*(AL26-AL28))","v":0.7488825332599589},"kW",null,"Over heating heat",null,{"$f":"(AQ53*(AQ43-AQ45))+((AQ53/2)*(AQ26-AQ28))","v":0.49930636125924183},"kW",null,"Over heating heat",null,{"$f":"(AV53*(AV43-AV45))+((AV53/2)*(AV26-AV28))","v":0.80527303757202751},"kW",null,"Over heating heat",null,{"$f":"(BA53*(BA43-BA45))+((BA53/2)*(BA26-BA28))","v":1.0645939689534658},"kW",null,"Over heating heat",null,{"$f":"(BF53*(BF43-BF45))+((BF53/2)*(BF26-BF28))","v":1.6139318562248963},"kW"]
["Heating capacity",null,{"$f":"(C53*(C43-C47))","v":7.3134075861407437},"kW",null,"Heating capacity",null,{"$f":"(H53*(H43-H47))","v":7.4347875009180893},"kW",null,"Heating capacity",null,{"$f":"(M53*(M43-M47))","v":7.0222129973548375},"kW",null,"Heating capacity",null,{"$f":"(R53*(R43-R47))","v":6.9326406586403557},"kW",null,"Heating capacity",null,{"$f":"(W53*(W43-W47))","v":6.6661015730189721},"kW",null,"Heating capacity",null,{"$f":"(AB53*(AB43-AB47))","v":6.931168814480464},"kW",null,"Heating capacity",null,{"$f":"(AG53*(AG43-AG47))","v":6.8463726255736939},"kW",null,"Heating capacity",null,{"$f":"(AL53*(AL43-AL47))","v":6.887584625176272},"kW",null,"Heating capacity",null,{"$f":"(AQ53*(AQ43-AQ47))","v":6.6189241888857229},"kW",null,"Heating capacity",null,{"$f":"(AV53*(AV43-AV47))","v":6.8376779650934791},"kW",null,"Heating capacity",null,{"$f":"(BA53*(BA43-BA47))","v":7.0222129973548375},"kW",null,"Heating capacity",null,{"$f":"(BF53*(BF43-BF47))","v":7.4110190809369456},"kW"]
["Heating COP",null,{"$f":"C63/C61","v":4.6821921656400622},null,null,"Heating COP",null,{"$f":"H63/H61","v":4.3764559938955019},null,null,"Heating COP",null,{"$f":"M63/M61","v":5.6701749448785854},null,null,"Heating COP",null,{"$f":"R63/R61","v":6.0776612824223522},null,null,"Heating COP",null,{"$f":"W63/W61","v":7.7850647569788389},null,null,"Heating COP",null,{"$f":"AB63/AB61","v":9.0325401249587305},null,null,"Heating COP",null,{"$f":"AG63/AG61","v":10.349740115409718},null,null,"Heating COP",null,{"$f":"AL63/AL61","v":9.6951959836105548},null,null,"Heating COP",null,{"$f":"AQ63/AQ61","v":8.2004396617243458},null,null,"Heating COP",null,{"$f":"AV63/AV61","v":6.5865174193293994},null,null,"Heating COP",null,{"$f":"BA63/BA61","v":5.6701749448785854},null,null,"Heating COP",null,{"$f":"BF63/BF61","v":4.4325838383725662}]
["pluss (+) 2 kW water heating",null,{"$f":"(C63+2)/(C61+2)","v":2.6146845008715358},null,null,"pluss (+) 2 kW water heating",null,{"$f":"(H63+2)/(H61+2)","v":2.5507597505330342},null,null,"pluss (+) 2 kW water heating",null,{"$f":"(M63+2)/(M61+2)","v":2.7859687342917074},null,null,"pluss (+) 2 kW water heating",null,{"$f":"(R63+2)/(R61+2)","v":2.8441779589146785},null,null,"pluss (+) 2 kW water heating",null,{"$f":"(W63+2)/(W61+2)","v":3.0340646161040556},null,null,"pluss (+) 2 kW water heating",null,{"$f":"(AB63+2)/(AB61+2)","v":3.2273298474399721},null,null,"pluss (+) 2 kW water heating",null,{"$f":"(AG63+2)/(AG61+2)","v":3.3238272968379983},null,null,"pluss (+) 2 kW water heating",null,{"$f":"(AL63+2)/(AL61+2)","v":3.2790528775696264},null,null,"pluss (+) 2 kW water heating",null,{"$f":"(AQ63+2)/(AQ61+2)","v":3.0703549542489705},null,null,"pluss (+) 2 kW water heating",null,{"$f":"(AV63+2)/(AV61+2)","v":2.9089178598673775},null,null,"pluss (+) 2 kW water heating",null,{"$f":"(BA63+2)/(BA61+2)","v":2.7859687342917074},null,null,"pluss (+) 2 kW water heating",null,{"$f":"(BF63+2)/(BF61+2)","v":2.5629548064191465}]
[]
[]
["Evaporator temp",null,"Effect 1. comp",null,"Comp 1. out temp",null,"Effect 2. comp",null,"Comp 2. out temp",null,"Effect condenser",null,"COP","Inter mediat temp",null,"Inter mediat cooler",null,"Tot comp effect",null,"COP + water heating",null,null,2012]
[{"$f":"W69-5","v":-18.3},"˚C",{"$f":"C59","v":0.76998126178569537},"kW",{"$f":"C27","v":27.855486419725651},"˚C",{"$f":"C60","v":0.79198102583882179},"kW",{"$f":"C44","v":57.187421655099399},"˚C",{"$f":"C63","v":7.3134075861407437},"kW",{"$f":"K69/(C69+G69)","v":4.6821921656400622},5,"˚C",10,"˚",{"$f":"C69+G69","v":1.5619622876245172},"kW",{"$f":"(K69+2)/((C69+G69)+2)","v":2.6146845008715358},null,null,-13.3,"January"]
[{"$f":"W70-5","v":-21.4},"˚C",{"$f":"H59","v":0.89021056298287049},"kW",{"$f":"H27","v":31.181298899565039},"˚C",{"$f":"H60","v":0.80860407408614154},"kW",{"$f":"H44","v":60.755056282097307},"˚C",{"$f":"H63","v":7.4347875009180893},"kW",4.3764559938955019,5,"˚C",10,"˚",1.698814637069012,"kW",{"$f":"(K70+2)/((C70+G70)+2)","v":2.5507597505330342},null,null,-16.399999999999999,"February"]
[-10.5,"˚C",{"$f":"M59","v":0.48705816052813922},"kW",{"$f":"M27","v":20.11086386661168},"˚C",{"$f":"M60","v":0.75138916528099475},"kW",{"$f":"M44","v":48.868932434944547},"˚C",{"$f":"M63","v":7.0222129973548375},"kW",5.6701749448785854,5,"˚C",10,"˚",1.238447325809134,"kW",2.7859687342917074,null,null,-5.5,"March"]
[-8,"˚C",{"$f":"R59","v":0.40198221754658914},"kW",{"$f":"R27","v":17.803333166216699},"˚C",{"$f":"R60","v":0.73869350235421405},"kW",{"$f":"R44","v":46.387926486547087},"˚C",{"$f":"R63","v":6.9326406586403557},"kW",6.0776612824223522,5,"˚C",10,"˚",1.1406757199008033,"kW",2.8441779589146785,null,null,-3,"April "]
[-0.29999999999999982,"˚C",{"$f":"W59","v":0.15595578997500401},"kW",{"$f":"W27","v":11.176625144096761},"˚C",{"$f":"W60","v":0.70031217710172655},"kW",{"$f":"W44","v":39.259070872683822},"˚C",{"$f":"W63","v":6.6661015730189721},"kW",7.7850647569788389,5,"˚C",0,"˚",0.85626796707673059,"kW",3.0340646161040556,null,null,4.7,"May"]
[4,"˚C",{"$f":"AB59","v":2.887139757713391E-2},"kW",{"$f":"AB27","v":7.7657356665810653},"˚C",{"$f":"AB60","v":0.73848404381506616},"kW",{"$f":"AB44","v":46.347494685558331},"˚C",{"$f":"AB63","v":6.931168814480464},"kW",9.0325401249587305,5,"˚C",0,"˚",0.76735544139220002,"kW",3.2273298474399721,null,null,9,"June"]
[7,"˚C",{"$f":"AG59","v":3.082173005255693E-2},"kW",{"$f":"AG27","v":10.738607507306771},"˚C",{"$f":"AG60","v":0.63068015784317255},"kW",{"$f":"AG44","v":44.037262911391849},"˚C",{"$f":"AG63","v":6.8463726255736939},"kW",10.349740115409718,5,"˚C",0,"˚",0.6615018878957295,"kW",3.3238272968379983,null,null,12,"July"]
[5.6,"˚C",{"$f":"AL59","v":7.4605984386022825E-2},"kW",{"$f":"AL27","v":11.788799122846109},"˚C",{"$f":"AL60","v":0.63580612454086549},"kW",{"$f":"AL44","v":45.155315104384897},"˚C",{"$f":"AL63","v":6.887584625176272},"kW",9.6951959836105548,8,"˚C",10,"˚",0.71041210892688833,"kW",3.2790528775696264,null,null,10.6,"August"]
[1.0999999999999996,"˚C",{"$f":"AQ59","v":0.11372559641319735},"kW",{"$f":"AQ27","v":10.04453646109204},"˚C",{"$f":"AQ60","v":0.69341700348661461},"kW",{"$f":"AQ44","v":38.040755879685378},"˚C",{"$f":"AQ63","v":6.6189241888857229},"kW",8.2004396617243458,8,"˚C",10,"˚",0.80714259989981196,"kW",3.0703549542489705,null,null,6.1,"September"]
[-5.3,"˚C",{"$f":"AV59","v":0.31300983822887363},"kW",{"$f":"AV27","v":15.399604675956031},"˚C",{"$f":"AV60","v":0.72512268762264853},"kW",{"$f":"AV44","v":43.802556089448267},"˚C",{"$f":"AV63","v":6.8376779650934791},"kW",6.5865174193293994,5,"˚C",10,"˚",1.0381325258515222,"kW",2.9089178598673775,null,null,-0.3,"October"]
[-10.5,"˚C",{"$f":"BA59","v":0.48705816052813922},"kW",{"$f":"BA27","v":20.11086386661168},"˚C",{"$f":"BA60","v":0.75138916528099475},"kW",{"$f":"BA44","v":48.868932434944547},"˚C",{"$f":"BA63","v":7.0222129973548375},"kW",5.6701749448785854,5,"˚C",10,"˚",1.238447325809134,"kW",2.7859687342917074,null,null,-5.5,"November"]
[-20.8,"˚C",{"$f":"BF59","v":0.86657873597344404},"kW",{"$f":"BF27","v":30.52593799109292},"˚C",{"$f":"BF60","v":0.80536236004831074},"kW",{"$f":"BF44","v":60.052280348432532},"˚C",{"$f":"BF63","v":7.4110190809369456},"kW",4.4325838383725662,5,"˚C",10,"˚",1.6719410960217549,"kW",2.5629548064191465,null,null,-15.8,"December"]
[]
[]
[]
[]
[]
[]
[]
[]
[]
[]
[]
[]
[2013]
["Refrigerant",null,{"$f":"C10","v":"R410A"},null,null,"Refrigerant",null,{"$f":"C94","v":"R410A"},null,null,"Refrigerant",null,{"$f":"H94","v":"R410A"},null,null,"Refrigerant",null,{"$f":"M94","v":"R410A"},null,null,"Refrigerant",null,{"$f":"R94","v":"R410A"},null,null,"Refrigerant",null,{"$f":"W94","v":"R410A"},null,null,"Refrigerant",null,{"$f":"AB94","v":"R410A"},null,null,"Refrigerant",null,{"$f":"AG94","v":"R410A"},null,null,"Refrigerant",null,{"$f":"AL94","v":"R410A"},null,null,"Refrigerant",null,{"$f":"AQ94","v":"R410A"},null,null,"Refrigerant",null,{"$f":"AV94","v":"R410A"},null,null,"Refrigerant",null,{"$f":"BA94","v":"R410A"}]
["Two-stage Compression",null,null,null,null,"Two-stage Compression",null,null,null,null,"Two-stage Compression",null,null,null,null,"Two-stage Compression",null,null,null,null,"Two-stage Compression",null,null,null,null,"Two-stage Compression",null,null,null,null,"Two-stage Compression",null,null,null,null,"Two-stage Compression",null,null,null,null,"Two-stage Compression",null,null,null,null,"Two-stage Compression",null,null,null,null,"Two-stage Compression",null,null,null,null,"Two-stage Compression"]
["Evaporation temperature",null,-17.600000000000001,"˚C",null,"Evaporation temperature",null,-15.9,"˚C",null,"Evaporation temperature",null,-19.2,"˚C",null,"Evaporation temperature",null,-7.4,"˚C",null,"Evaporation temperature",null,3.6,"˚C",null,"Evaporation temperature",null,8.6999999999999993,"˚C",null,"Evaporation temperature",null,8.9,"˚C",null,"Evaporation temperature",null,7.5,"˚C",null,"Evaporation temperature",null,4.0999999999999996,"˚C",null,"Evaporation temperature",null,-5.7,"˚C",null,"Evaporation temperature",null,-12.9,"˚C",null,"Evaporation temperature",null,-15.5,"˚C"]
["Evaporation pressure",null,{"$f":"r_psatgasT(C94,C96)/100000","v":4.3671392370623936},"bar",null,"Evaporation pressure",null,{"$f":"r_psatgasT(H94,H96)/100000","v":4.6460722278541038},"bar",null,"Evaporation pressure",null,{"$f":"r_psatgasT(M94,M96)/100000","v":4.1165198796723885},"bar",null,"Evaporation pressure",null,{"$f":"r_psatgasT(R94,R96)/100000","v":6.2510245323604403},"bar",null,"Evaporation pressure",null,{"$f":"r_psatgasT(W94,W96)/100000","v":8.9170903218051318},"bar",null,"Evaporation pressure",null,{"$f":"r_psatgasT(AB94,AB96)/100000","v":10.410822974678011},"bar",null,"Evaporation pressure",null,{"$f":"r_psatgasT(AG94,AG96)/100000","v":10.473014978814501},"bar",null,"Evaporation pressure",null,{"$f":"r_psatgasT(AL94,AL96)/100000","v":10.04351154663761},"bar",null,"Evaporation pressure",null,{"$f":"r_psatgasT(AQ94,AQ96)/100000","v":9.0558805481973774},"bar",null,"Evaporation pressure",null,{"$f":"r_psatgasT(AV94,AV96)/100000","v":6.6171377460762146},"bar",null,"Evaporation pressure",null,{"$f":"r_psatgasT(BA94,BA96)/100000","v":5.1713704124365565},"bar",null,"Evaporation pressure",null,{"$f":"r_psatgasT(BF94,BF96)/100000","v":4.7136418058184413},"bar"]
["Temperature in to compressor",null,{"$f":"C96+2","v":-15.600000000000001},"˚C",null,"Temperature in to compressor",null,{"$f":"H96+2","v":-13.9},"˚C",null,"Temperature in to compressor",null,{"$f":"M96+2","v":-17.2},"˚C",null,"Temperature in to compressor",null,{"$f":"R96+2","v":-5.4},"˚C",null,"Temperature in to compressor",null,{"$f":"W96+2","v":5.6},"˚C",null,"Temperature in to compressor",null,{"$f":"AB96+2","v":10.7},"˚C",null,"Temperature in to compressor",null,{"$f":"AG96+2","v":10.9},"˚C",null,"Temperature in to compressor",null,{"$f":"AL96+2","v":9.5},"˚C",null,"Temperature in to compressor",null,{"$f":"AQ96+2","v":6.1},"˚C",null,"Temperature in to compressor",null,{"$f":"AV96+2","v":-3.7},"˚C",null,"Temperature in to compressor",null,{"$f":"BA96+2","v":-10.9},"˚C",null,"Temperature in to compressor",null,{"$f":"BF96+2","v":-13.5},"˚C"]
["1. Compressor",null,null,null,null,"1. Compressor",null,null,null,null,"1. Compressor",null,null,null,null,"1. Compressor",null,null,null,null,"1. Compressor",null,null,null,null,"1. Compressor",null,null,null,null,"1. Compressor",null,null,null,null,"1. Compressor",null,null,null,null,"1. Compressor",null,null,null,null,"1. Compressor",null,null,null,null,"1. Compressor",null,null,null,null,"1. Compressor"]
["Enthalpy input compressor",null,{"$f":"r_hgastp(C94,C98,C97*100000)/1000","v":418.5714216058285},"kJ/kg",null,"Enthalpy input compressor",null,{"$f":"r_hgastp(H94,H98,H97*100000)/1000","v":419.23579449901268},"kJ/kg",null,"Enthalpy input compressor",null,{"$f":"r_hgastp(M94,M98,M97*100000)/1000","v":417.93454877386989},"kJ/kg",null,"Enthalpy input compressor",null,{"$f":"r_hgastp(R94,R98,R97*100000)/1000","v":422.35560736289887},"kJ/kg",null,"Enthalpy input compressor",null,{"$f":"r_hgastp(W94,W98,W97*100000)/1000","v":425.82959081763721},"kJ/kg",null,"Enthalpy input compressor",null,{"$f":"r_hgastp(AB94,AB98,AB97*100000)/1000","v":427.18942421015811},"kJ/kg",null,"Enthalpy input compressor",null,{"$f":"r_hgastp(AG94,AG98,AG97*100000)/1000","v":427.23914361239491},"kJ/kg",null,"Enthalpy input compressor",null,{"$f":"r_hgastp(AL94,AL98,AL97*100000)/1000","v":426.88523191525616},"kJ/kg",null,"Enthalpy input compressor",null,{"$f":"r_hgastp(AQ94,AQ98,AQ97*100000)/1000","v":425.97047580776461},"kJ/kg",null,"Enthalpy input compressor",null,{"$f":"r_hgastp(AV94,AV98,AV97*100000)/1000","v":422.93649821684846},"kJ/kg",null,"Enthalpy input compressor",null,{"$f":"r_hgastp(BA94,BA98,BA97*100000)/1000","v":420.37630211725246},"kJ/kg",null,"Enthalpy input compressor",null,{"$f":"r_hgastp(BF94,BF98,BF97*100000)/1000","v":419.39024118965921},"kJ/kg"]
["Entropy",null,{"$f":"R_SgasTP(C94,C98,C97*100000)","v":1858.9478146377189},"J/kgK",null,"Entropy",null,{"$f":"R_SgasTP(H94,H98,H97*100000)","v":1855.239686384074},"J/kgK",null,"Entropy",null,{"$f":"R_SgasTP(M94,M98,M97*100000)","v":1862.489914906846},"J/kgK",null,"Entropy",null,{"$f":"R_SgasTP(R94,R98,R97*100000)","v":1837.4575551923999},"J/kgK",null,"Entropy",null,{"$f":"R_SgasTP(W94,W98,W97*100000)","v":1815.894112881198},"J/kgK",null,"Entropy",null,{"$f":"R_SgasTP(AB94,AB98,AB97*100000)","v":1806.2569853244579},"J/kgK",null,"Entropy",null,{"$f":"R_SgasTP(AG94,AG98,AG97*100000)","v":1805.881975072758},"J/kgK",null,"Entropy",null,{"$f":"R_SgasTP(AL94,AL98,AL97*100000)","v":1808.510983467673},"J/kgK",null,"Entropy",null,{"$f":"R_SgasTP(AQ94,AQ98,AQ97*100000)","v":1814.941825676907},"J/kgK",null,"Entropy",null,{"$f":"R_SgasTP(AV94,AV98,AV97*100000)","v":1834.033456478621},"J/kgK",null,"Entropy",null,{"$f":"R_SgasTP(BA94,BA98,BA97*100000)","v":1848.826591236206},"J/kgK",null,"Entropy",null,{"$f":"R_SgasTP(BF94,BF98,BF97*100000)","v":1854.375176733656},"J/kgK"]
["Specific volume",null,{"$f":"R_vgasTP(C94,C98,C97*100000)","v":5.9960131362001172E-2},"m3/kg",null,"Specific volume",null,{"$f":"R_vgasTP(H94,H98,H97*100000)","v":5.6449253966385622E-2},"m3/kg",null,"Specific volume",null,{"$f":"R_vgasTP(M94,M98,M97*100000)","v":6.3505601472543957E-2},"m3/kg",null,"Specific volume",null,{"$f":"R_vgasTP(R94,R98,R97*100000)","v":4.2166884464802643E-2},"m3/kg",null,"Specific volume",null,{"$f":"R_vgasTP(W94,W98,W97*100000)","v":2.9525462201352951E-2},"m3/kg",null,"Specific volume",null,{"$f":"R_vgasTP(AB94,AB98,AB97*100000)","v":2.5193716968238789E-2},"m3/kg",null,"Specific volume",null,{"$f":"R_vgasTP(AG94,AG98,AG97*100000)","v":2.503926141531115E-2},"m3/kg",null,"Specific volume",null,{"$f":"R_vgasTP(AL94,AL98,AL97*100000)","v":2.6143537924181909E-2},"m3/kg",null,"Specific volume",null,{"$f":"R_vgasTP(AQ94,AQ98,AQ97*100000)","v":2.9064962633421721E-2},"m3/kg",null,"Specific volume",null,{"$f":"R_vgasTP(AV94,AV98,AV97*100000)","v":3.9850089874308603E-2},"m3/kg",null,"Specific volume",null,{"$f":"R_vgasTP(BA94,BA98,BA97*100000)","v":5.0833235282385557E-2},"m3/kg",null,"Specific volume",null,{"$f":"R_vgasTP(BF94,BF98,BF97*100000)","v":5.5659193172571488E-2},"m3/kg"]
[]
["Intermediat temperature",null,5,"˚C",null,"Intermediat temperature",null,5,"˚C",null,"Intermediat temperature",null,5,"˚C",null,"Intermediat temperature",null,5,"˚C",null,"Intermediat temperature",null,5,"˚C",null,"Intermediat temperature",null,10,"˚C",null,"Intermediat temperature",null,10,"˚C",null,"Intermediat temperature",null,8,"˚C",null,"Intermediat temperature",null,5,"˚C",null,"Intermediat temperature",null,5,"˚C",null,"Intermediat temperature",null,5,"˚C",null,"Intermediat temperature",null,5,"˚C"]
["Intermediat pressure",null,{"$f":"r_psatgasT(C94,C104)/100000","v":9.3098172513601298},"bar",null,"Intermediat pressure",null,{"$f":"r_psatgasT(H94,H104)/100000","v":9.3098172513601298},"bar",null,"Intermediat pressure",null,{"$f":"r_psatgasT(M94,M104)/100000","v":9.3098172513601298},"bar",null,"Intermediat pressure",null,{"$f":"r_psatgasT(R94,R104)/100000","v":9.3098172513601298},"bar",null,"Intermediat pressure",null,{"$f":"r_psatgasT(W94,W104)/100000","v":9.3098172513601298},"bar",null,"Intermediat pressure",null,{"$f":"r_psatgasT(AB94,AB104)/100000","v":10.82010450633576},"bar",null,"Intermediat pressure",null,{"$f":"r_psatgasT(AG94,AG104)/100000","v":10.82010450633576},"bar",null,"Intermediat pressure",null,{"$f":"r_psatgasT(AL94,AL104)/100000","v":10.195346630162},"bar",null,"Intermediat pressure",null,{"$f":"r_psatgasT(AQ94,AQ104)/100000","v":9.3098172513601298},"bar",null,"Intermediat pressure",null,{"$f":"r_psatgasT(AV94,AV104)/100000","v":9.3098172513601298},"bar",null,"Intermediat pressure",null,{"$f":"r_psatgasT(BA94,BA104)/100000","v":9.3098172513601298},"bar",null,"Intermediat pressure",null,{"$f":"r_psatgasT(BF94,BF104)/100000","v":9.3098172513601298},"bar"]
["Intermediat pressure ratio",null,{"$f":"C105/C97","v":2.1317885109663886},null,null,"Intermediat pressure ratio",null,{"$f":"H105/H97","v":2.00380381422957},null,null,"Intermediat pressure ratio",null,{"$f":"M105/M97","v":2.2615747095823688},null,null,"Intermediat pressure ratio",null,{"$f":"R105/R97","v":1.4893266220864858},null,null,"Intermediat pressure ratio",null,{"$f":"W105/W97","v":1.0440420490745346},null,null,"Intermediat pressure ratio",null,{"$f":"AB105/AB97","v":1.0393130814589042},null,null,"Intermediat pressure ratio",null,{"$f":"AG105/AG97","v":1.0331413187342302},null,null,"Intermediat pressure ratio",null,{"$f":"AL105/AL97","v":1.0151177287763682},null,null,"Intermediat pressure ratio",null,{"$f":"AQ105/AQ97","v":1.0280410835601514},null,null,"Intermediat pressure ratio",null,{"$f":"AV105/AV97","v":1.4069251100115909},null,null,"Intermediat pressure ratio",null,{"$f":"BA105/BA97","v":1.8002611510811681},null,null,"Intermediat pressure ratio",null,{"$f":"BF105/BF97","v":1.9750794894657133}]
["Isentropic efficiency",null,0.7,null,null,"Isentropic efficiency",null,0.7,null,null,"Isentropic efficiency",null,0.7,null,null,"Isentropic efficiency",null,0.7,null,null,"Isentropic efficiency",null,0.7,null,null,"Isentropic efficiency",null,0.7,null,null,"Isentropic efficiency",null,0.7,null,null,"Isentropic efficiency",null,0.7,null,null,"Isentropic efficiency",null,0.7,null,null,"Isentropic efficiency",null,0.7,null,null,"Isentropic efficiency",null,0.7,null,null,"Isentropic efficiency",null,0.7]
[]
["Isentropic entalpy",null,{"$f":"R_hgasSP(C94,C101,C105*100000)/1000","v":439.29111925077871},"kJ/kg",null,"Isentropic entalpy",null,{"$f":"R_hgasSP(H94,H101,H105*100000)/1000","v":438.21055656442627},"kJ/kg",null,"Isentropic entalpy",null,{"$f":"R_hgasSP(M94,M101,M105*100000)/1000","v":440.3267757566739},"kJ/kg",null,"Isentropic entalpy",null,{"$f":"R_hgasSP(R94,R101,R105*100000)/1000","v":433.07962626047646},"kJ/kg",null,"Isentropic entalpy",null,{"$f":"R_hgasSP(W94,W101,W105*100000)/1000","v":426.96660536188722},"kJ/kg",null,"Isentropic entalpy",null,{"$f":"R_hgasSP(AB94,AB101,AB105*100000)/1000","v":428.2024356824175},"kJ/kg",null,"Isentropic entalpy",null,{"$f":"R_hgasSP(AG94,AG101,AG105*100000)/1000","v":428.09530158282297},"kJ/kg",null,"Isentropic entalpy",null,{"$f":"R_hgasSP(AL94,AL101,AL105*100000)/1000","v":427.27946735138011},"kJ/kg",null,"Isentropic entalpy",null,{"$f":"R_hgasSP(AQ94,AQ101,AQ105*100000)/1000","v":426.69931442114824},"kJ/kg",null,"Isentropic entalpy",null,{"$f":"R_hgasSP(AV94,AV101,AV105*100000)/1000","v":432.10105906946609},"kJ/kg",null,"Isentropic entalpy",null,{"$f":"R_hgasSP(BA94,BA101,BA105*100000)/1000","v":436.35064599105488},"kJ/kg",null,"Isentropic entalpy",null,{"$f":"R_hgasSP(BF94,BF101,BF105*100000)/1000","v":437.95945079862724},"kJ/kg"]
["Real entropy",null,{"$f":"C100+(C109-C100)/C107","v":448.17098967004307},"kJ/kg",null,"Real entropy",null,{"$f":"H100+(H109-H100)/H107","v":446.34259744960355},"kJ/kg",null,"Real entropy",null,{"$f":"M100+(M109-M100)/M107","v":449.92344446358987},"kJ/kg",null,"Real entropy",null,{"$f":"R100+(R109-R100)/R107","v":437.67563435943828},"kJ/kg",null,"Real entropy",null,{"$f":"W100+(W109-W100)/W107","v":427.45389730942293},"kJ/kg",null,"Real entropy",null,{"$f":"AB100+(AB109-AB100)/AB107","v":428.63658345624293},"kJ/kg",null,"Real entropy",null,{"$f":"AG100+(AG109-AG100)/AG107","v":428.46222642729214},"kJ/kg",null,"Real entropy",null,{"$f":"AL100+(AL109-AL100)/AL107","v":427.44842539543322},"kJ/kg",null,"Real entropy",null,{"$f":"AQ100+(AQ109-AQ100)/AQ107","v":427.01167382688408},"kJ/kg",null,"Real entropy",null,{"$f":"AV100+(AV109-AV100)/AV107","v":436.02872800630223},"kJ/kg",null,"Real entropy",null,{"$f":"BA100+(BA109-BA100)/BA107","v":443.19679336554162},"kJ/kg",null,"Real entropy",null,{"$f":"BF100+(BF109-BF100)/BF107","v":445.91768348818499},"kJ/kg"]
["Temperature out of compressor",null,{"$f":"R_tgasHP(C94,C110*1000,C105*100000)","v":27.12479290948232},"˚C",null,"Temperature out of compressor",null,{"$f":"R_tgasHP(H94,H110*1000,H105*100000)","v":25.380420833715899},"˚C",null,"Temperature out of compressor",null,{"$f":"R_tgasHP(M94,M110*1000,M105*100000)","v":28.80579939273423},"˚C",null,"Temperature out of compressor",null,{"$f":"R_tgasHP(R94,R110*1000,R105*100000)","v":17.261380563705931},"˚C",null,"Temperature out of compressor",null,{"$f":"R_tgasHP(W94,W110*1000,W105*100000)","v":8.0748659645630596},"˚C",null,"Temperature out of compressor",null,{"$f":"R_tgasHP(AB94,AB110*1000,AB105*100000)","v":12.939604829630699},"˚C",null,"Temperature out of compressor",null,{"$f":"R_tgasHP(AG94,AG110*1000,AG105*100000)","v":12.79404163010048},"˚C",null,"Temperature out of compressor",null,{"$f":"R_tgasHP(AL94,AL110*1000,AL105*100000)","v":10.36811716004831},"˚C",null,"Temperature out of compressor",null,{"$f":"R_tgasHP(AQ94,AQ110*1000,AQ105*100000)","v":7.6887077124357566},"˚C",null,"Temperature out of compressor",null,{"$f":"R_tgasHP(AV94,AV110*1000,AV105*100000)","v":15.750079903779289},"˚C",null,"Temperature out of compressor",null,{"$f":"R_tgasHP(BA94,BA110*1000,BA105*100000)","v":22.40348123622357},"˚C",null,"Temperature out of compressor",null,{"$f":"R_tgasHP(BF94,BF110*1000,BF105*100000)","v":24.976478359260572},"˚C"]
["Enthalpy on the dewpoint line",null,{"$f":"R_hsatgasT(C94,C104)/1000","v":423.8985647127937},"kJ/kg",null,"Enthalpy on the dewpoint line",null,{"$f":"R_hsatgasT(H94,H104)/1000","v":423.8985647127937},"kJ/kg",null,"Enthalpy on the dewpoint line",null,{"$f":"R_hsatgasT(M94,M104)/1000","v":423.8985647127937},"kJ/kg",null,"Enthalpy on the dewpoint line",null,{"$f":"R_hsatgasT(R94,R104)/1000","v":423.8985647127937},"kJ/kg",null,"Enthalpy on the dewpoint line",null,{"$f":"R_hsatgasT(W94,W104)/1000","v":423.8985647127937},"kJ/kg",null,"Enthalpy on the dewpoint line",null,{"$f":"R_hsatgasT(AB94,AB104)/1000","v":425.07433131087799},"kJ/kg",null,"Enthalpy on the dewpoint line",null,{"$f":"R_hsatgasT(AG94,AG104)/1000","v":425.07433131087799},"kJ/kg",null,"Enthalpy on the dewpoint line",null,{"$f":"R_hsatgasT(AL94,AL104)/1000","v":424.62610749022429},"kJ/kg",null,"Enthalpy on the dewpoint line",null,{"$f":"R_hsatgasT(AQ94,AQ104)/1000","v":423.8985647127937},"kJ/kg",null,"Enthalpy on the dewpoint line",null,{"$f":"R_hsatgasT(AV94,AV104)/1000","v":423.8985647127937},"kJ/kg",null,"Enthalpy on the dewpoint line",null,{"$f":"R_hsatgasT(BA94,BA104)/1000","v":423.8985647127937},"kJ/kg",null,"Enthalpy on the dewpoint line",null,{"$f":"R_hsatgasT(BF94,BF104)/1000","v":423.8985647127937},"kJ/kg"]
["2. Compressor",null,null,null,null,"2. Compressor",null,null,null,null,"2. Compressor",null,null,null,null,"2. Compressor",null,null,null,null,"2. Compressor",null,null,null,null,"2. Compressor",null,null,null,null,"2. Compressor",null,null,null,null,"2. Compressor",null,null,null,null,"2. Compressor",null,null,null,null,"2. Compressor",null,null,null,null,"2. Compressor",null,null,null,null,"2. Compressor"]
["Intermediat cooling",null,10,"K",null,"Intermediat cooling",null,10,"K",null,"Intermediat cooling",null,10,"K",null,"Intermediat cooling",null,10,"K",null,"Intermediat cooling",null,0,"K",null,"Intermediat cooling",null,0,"K",null,"Intermediat cooling",null,0,"K",null,"Intermediat cooling",null,0,"K",null,"Intermediat cooling",null,0,"K",null,"Intermediat cooling",null,10,"K",null,"Intermediat cooling",null,10,"K",null,"Intermediat cooling",null,10,"K"]
["Temperature in to compressor",null,{"$f":"C111-C114","v":17.12479290948232},"˚C",null,"Temperature in to compressor",null,{"$f":"H111-H114","v":15.380420833715899},"˚C",null,"Temperature in to compressor",null,{"$f":"M111-M114","v":18.80579939273423},"˚C",null,"Temperature in to compressor",null,{"$f":"R111-R114","v":7.2613805637059308},"˚C",null,"Temperature in to compressor",null,{"$f":"W111-W114","v":8.0748659645630596},"˚C",null,"Temperature in to compressor",null,{"$f":"AB111-AB114","v":12.939604829630699},"˚C",null,"Temperature in to compressor",null,{"$f":"AG111-AG114","v":12.79404163010048},"˚C",null,"Temperature in to compressor",null,{"$f":"AL111-AL114","v":10.36811716004831},"˚C",null,"Temperature in to compressor",null,{"$f":"AQ111-AQ114","v":7.6887077124357566},"˚C",null,"Temperature in to compressor",null,{"$f":"AV111-AV114","v":5.7500799037792891},"˚C",null,"Temperature in to compressor",null,{"$f":"BA111-BA114","v":12.40348123622357},"˚C",null,"Temperature in to compressor",null,{"$f":"BF111-BF114","v":14.976478359260572},"˚C"]
["Enthalpy input compressor",null,{"$f":"r_hgastp(C94,C115,C105*100000)/1000","v":437.52727852491552},"kJ/kg",null,"Enthalpy input compressor",null,{"$f":"r_hgastp(H94,H115,H105*100000)/1000","v":435.62404718646553},"kJ/kg",null,"Enthalpy input compressor",null,{"$f":"r_hgastp(M94,M115,M105*100000)/1000","v":439.34667555828509},"kJ/kg",null,"Enthalpy input compressor",null,{"$f":"r_hgastp(R94,R115,R105*100000)/1000","v":426.52092690992686},"kJ/kg",null,"Enthalpy input compressor",null,{"$f":"r_hgastp(W94,W115,W105*100000)/1000","v":427.4538973184026},"kJ/kg",null,"Enthalpy input compressor",null,{"$f":"r_hgastp(AB94,AB115,AB105*100000)/1000","v":428.63658347747929},"kJ/kg",null,"Enthalpy input compressor",null,{"$f":"r_hgastp(AG94,AG115,AG105*100000)/1000","v":428.4622264432748},"kJ/kg",null,"Enthalpy input compressor",null,{"$f":"r_hgastp(AL94,AL115,AL105*100000)/1000","v":427.44842539926327},"kJ/kg",null,"Enthalpy input compressor",null,{"$f":"r_hgastp(AQ94,AQ115,AQ105*100000)/1000","v":427.01167383112659},"kJ/kg",null,"Enthalpy input compressor",null,{"$f":"r_hgastp(AV94,AV115,AV105*100000)/1000","v":424.7732651373924},"kJ/kg",null,"Enthalpy input compressor",null,{"$f":"r_hgastp(BA94,BA115,BA105*100000)/1000","v":432.33648938876581},"kJ/kg",null,"Enthalpy input compressor",null,{"$f":"r_hgastp(BF94,BF115,BF105*100000)/1000","v":435.18097322258484},"kJ/kg"]
["Entropy",null,{"$f":"R_SgasTP(C94,C115,C105*100000)","v":1852.888335345963},"J/kgK",null,"Entropy",null,{"$f":"R_SgasTP(H94,H115,H105*100000)","v":1846.311873498265},"J/kgK",null,"Entropy",null,{"$f":"R_SgasTP(M94,M115,M105*100000)","v":1859.1381229442179},"J/kgK",null,"Entropy",null,{"$f":"R_SgasTP(R94,R115,R105*100000)","v":1814.305838784989},"J/kgK",null,"Entropy",null,{"$f":"R_SgasTP(W94,W115,W105*100000)","v":1817.628175379316},"J/kgK",null,"Entropy",null,{"$f":"R_SgasTP(AB94,AB115,AB105*100000)","v":1807.7754726531409},"J/kgK",null,"Entropy",null,{"$f":"R_SgasTP(AG94,AG115,AG105*100000)","v":1807.1658684887409},"J/kgK",null,"Entropy",null,{"$f":"R_SgasTP(AL94,AL115,AL105*100000)","v":1809.107068296315},"J/kgK",null,"Entropy",null,{"$f":"R_SgasTP(AQ94,AQ115,AQ105*100000)","v":1816.054603593162},"J/kgK",null,"Entropy",null,{"$f":"R_SgasTP(AV94,AV115,AV105*100000)","v":1808.0564597094619},"J/kgK",null,"Entropy",null,{"$f":"R_SgasTP(BA94,BA115,BA105*100000)","v":1834.8583822718369},"J/kgK",null,"Entropy",null,{"$f":"R_SgasTP(BF94,BF115,BF105*100000)","v":1844.775174143974},"J/kgK"]
["Specific volume",null,{"$f":"R_vgasTP(C94,C115,C105*100000)","v":3.028705927062951E-2},"m3/kg",null,"Specific volume",null,{"$f":"R_vgasTP(H94,H115,H105*100000)","v":2.9950503687844639E-2},"m3/kg",null,"Specific volume",null,{"$f":"R_vgasTP(M94,M115,M105*100000)","v":3.060689659922558E-2},"m3/kg",null,"Specific volume",null,{"$f":"R_vgasTP(R94,R115,R105*100000)","v":2.8311747241769061E-2},"m3/kg",null,"Specific volume",null,{"$f":"R_vgasTP(W94,W115,W105*100000)","v":2.8481970187756118E-2},"m3/kg",null,"Specific volume",null,{"$f":"R_vgasTP(AB94,AB115,AB105*100000)","v":2.4387154533166231E-2},"m3/kg",null,"Specific volume",null,{"$f":"R_vgasTP(AG94,AG115,AG105*100000)","v":2.4359644723193571E-2},"m3/kg",null,"Specific volume",null,{"$f":"R_vgasTP(AL94,AL115,AL105*100000)","v":2.5815801170756519E-2},"m3/kg",null,"Specific volume",null,{"$f":"R_vgasTP(AQ94,AQ115,AQ105*100000)","v":2.8401351397553589E-2},"m3/kg",null,"Specific volume",null,{"$f":"R_vgasTP(AV94,AV115,AV105*100000)","v":2.7991447087949178E-2},"m3/kg",null,"Specific volume",null,{"$f":"R_vgasTP(BA94,BA115,BA105*100000)","v":2.9364288313473791E-2},"m3/kg",null,"Specific volume",null,{"$f":"R_vgasTP(BF94,BF115,BF105*100000)","v":2.987185924211681E-2},"m3/kg"]
[]
["Condensating temperature",null,28,"˚C",null,"Condensating temperature",null,28,"˚C",null,"Condensating temperature",null,28,"˚C",null,"Condensating temperature",null,28,"˚C",null,"Condensating temperature",null,28,"˚C",null,"Condensating temperature",null,28,"˚C",null,"Condensating temperature",null,28,"˚C",null,"Condensating temperature",null,28,"˚C",null,"Condensating temperature",null,28,"˚C",null,"Condensating temperature",null,28,"˚C",null,"Condensating temperature",null,28,"˚C",null,"Condensating temperature",null,28,"˚C"]
["Condensating pressure",null,{"$f":"r_psatgasT(C94,C120)/100000","v":17.829772179326831},"bar",null,"Condensating pressure",null,{"$f":"r_psatgasT(H94,H120)/100000","v":17.829772179326831},"bar",null,"Condensating pressure",null,{"$f":"r_psatgasT(M94,M120)/100000","v":17.829772179326831},"bar",null,"Condensating pressure",null,{"$f":"r_psatgasT(R94,R120)/100000","v":17.829772179326831},"bar",null,"Condensating pressure",null,{"$f":"r_psatgasT(W94,W120)/100000","v":17.829772179326831},"bar",null,"Condensating pressure",null,{"$f":"r_psatgasT(AB94,AB120)/100000","v":17.829772179326831},"bar",null,"Condensating pressure",null,{"$f":"r_psatgasT(AG94,AG120)/100000","v":17.829772179326831},"bar",null,"Condensating pressure",null,{"$f":"r_psatgasT(AL94,AL120)/100000","v":17.829772179326831},"bar",null,"Condensating pressure",null,{"$f":"r_psatgasT(AQ94,AQ120)/100000","v":17.829772179326831},"bar",null,"Condensating pressure",null,{"$f":"r_psatgasT(AV94,AV120)/100000","v":17.829772179326831},"bar",null,"Condensating pressure",null,{"$f":"r_psatgasT(BA94,BA120)/100000","v":17.829772179326831},"bar",null,"Condensating pressure",null,{"$f":"r_psatgasT(BF94,BF120)/100000","v":17.829772179326831},"bar"]
["Pressure ration",null,{"$f":"C121/C105","v":1.9151581280203935},null,null,"Pressure ration",null,{"$f":"H121/H105","v":1.9151581280203935},null,null,"Pressure ration",null,{"$f":"M121/M105","v":1.9151581280203935},null,null,"Pressure ration",null,{"$f":"R121/R105","v":1.9151581280203935},null,null,"Pressure ration",null,{"$f":"W121/W105","v":1.9151581280203935},null,null,"Pressure ration",null,{"$f":"AB121/AB105","v":1.6478373354792026},null,null,"Pressure ration",null,{"$f":"AG121/AG105","v":1.6478373354792026},null,null,"Pressure ration",null,{"$f":"AL121/AL105","v":1.7488147118587496},null,null,"Pressure ration",null,{"$f":"AQ121/AQ105","v":1.9151581280203935},null,null,"Pressure ration",null,{"$f":"AV121/AV105","v":1.9151581280203935},null,null,"Pressure ration",null,{"$f":"BA121/BA105","v":1.9151581280203935},null,null,"Pressure ration",null,{"$f":"BF121/BF105","v":1.9151581280203935}]
["Pressure ration TOTAL",null,{"$f":"C121/C97","v":4.0827120939977704},null,null,"Pressure ration TOTAL",null,{"$f":"H121/H97","v":3.8376011617800279},null,null,"Pressure ration TOTAL",null,{"$f":"M121/M97","v":4.3312731871820347},null,null,"Pressure ration TOTAL",null,{"$f":"R121/R97","v":2.8522959855660903},null,null,"Pressure ration TOTAL",null,{"$f":"W121/W97","v":1.9995056162801612},null,null,"Pressure ration TOTAL",null,{"$f":"AB121/AB97","v":1.7126188988799202},null,null,"Pressure ration TOTAL",null,{"$f":"AG121/AG97","v":1.7024488378364835},null,null,"Pressure ration TOTAL",null,{"$f":"AL121/AL97","v":1.7752528183527525},null,null,"Pressure ration TOTAL",null,{"$f":"AQ121/AQ97","v":1.9688612371191165},null,null,"Pressure ration TOTAL",null,{"$f":"AV121/AV97","v":2.6944840599546849},null,null,"Pressure ration TOTAL",null,{"$f":"BA121/BA97","v":3.4477847760524485},null,null,"Pressure ration TOTAL",null,{"$f":"BF121/BF97","v":3.7825895377366296}]
["Isentropic efficiency",null,0.7,null,null,"Isentropic efficiency",null,0.7,null,null,"Isentropic efficiency",null,0.7,null,null,"Isentropic efficiency",null,0.7,null,null,"Isentropic efficiency",null,0.7,null,null,"Isentropic efficiency",null,0.7,null,null,"Isentropic efficiency",null,0.7,null,null,"Isentropic efficiency",null,0.7,null,null,"Isentropic efficiency",null,0.7,null,null,"Isentropic efficiency",null,0.7,null,null,"Isentropic efficiency",null,0.7,null,null,"Isentropic efficiency",null,0.7]
[]
["Isentropic entalpy",null,{"$f":"R_hgasSP(C94,C117,C121*100000)/1000","v":456.35964803004248},"kJ/kg",null,"Isentropic entalpy",null,{"$f":"R_hgasSP(H94,H117,H121*100000)/1000","v":454.24249341776431},"kJ/kg",null,"Isentropic entalpy",null,{"$f":"R_hgasSP(M94,M117,M121*100000)/1000","v":458.38226686600217},"kJ/kg",null,"Isentropic entalpy",null,{"$f":"R_hgasSP(R94,R117,R121*100000)/1000","v":444.09656149957914},"kJ/kg",null,"Isentropic entalpy",null,{"$f":"R_hgasSP(W94,W117,W121*100000)/1000","v":445.13794436800566},"kJ/kg",null,"Isentropic entalpy",null,{"$f":"R_hgasSP(AB94,AB117,AB121*100000)/1000","v":442.05730962451207},"kJ/kg",null,"Isentropic entalpy",null,{"$f":"R_hgasSP(AG94,AG117,AG121*100000)/1000","v":441.86746171790799},"kJ/kg",null,"Isentropic entalpy",null,{"$f":"R_hgasSP(AL94,AL117,AL121*100000)/1000","v":442.4723100132627},"kJ/kg",null,"Isentropic entalpy",null,{"$f":"R_hgasSP(AQ94,AQ117,AQ121*100000)/1000","v":444.64437867621825},"kJ/kg",null,"Isentropic entalpy",null,{"$f":"R_hgasSP(AV94,AV117,AV121*100000)/1000","v":442.14484630758932},"kJ/kg",null,"Isentropic entalpy",null,{"$f":"R_hgasSP(BA94,BA117,BA121*100000)/1000","v":450.58212733428559},"kJ/kg",null,"Isentropic entalpy",null,{"$f":"R_hgasSP(BF94,BF117,BF121*100000)/1000","v":453.74941932838942},"kJ/kg"]
["Real entropy",null,{"$f":"C116+(C126-C116)/C124","v":464.43066353223975},"kJ/kg",null,"Real entropy",null,{"$f":"H116+(H126-H116)/H124","v":462.22182751689235},"kJ/kg",null,"Real entropy",null,{"$f":"M116+(M126-M116)/M124","v":466.54037742645232},"kJ/kg",null,"Real entropy",null,{"$f":"R116+(R126-R116)/R124","v":451.62897632371585},"kJ/kg",null,"Real entropy",null,{"$f":"W116+(W126-W116)/W124","v":452.71682167497841},"kJ/kg",null,"Real entropy",null,{"$f":"AB116+(AB126-AB116)/AB124","v":447.80904940181182},"kJ/kg",null,"Real entropy",null,{"$f":"AG116+(AG126-AG116)/AG124","v":447.61256254989365},"kJ/kg",null,"Real entropy",null,{"$f":"AL116+(AL126-AL116)/AL124","v":448.91111770497673},"kJ/kg",null,"Real entropy",null,{"$f":"AQ116+(AQ126-AQ116)/AQ124","v":452.20125218125753},"kJ/kg",null,"Real entropy",null,{"$f":"AV116+(AV126-AV116)/AV124","v":449.58980966624512},"kJ/kg",null,"Real entropy",null,{"$f":"BA116+(BA126-BA116)/BA124","v":458.40168645379407},"kJ/kg",null,"Real entropy",null,{"$f":"BF116+(BF126-BF116)/BF124","v":461.70732480230566},"kJ/kg"]
["Temperature out of compressor",null,{"$f":"R_tgasHP(C94,C127*1000,C121*100000)","v":56.403205666246208},"˚C",null,"Temperature out of compressor",null,{"$f":"R_tgasHP(H94,H127*1000,H121*100000)","v":54.530509713483298},"˚C",null,"Temperature out of compressor",null,{"$f":"R_tgasHP(M94,M127*1000,M121*100000)","v":58.20713508874428},"˚C",null,"Temperature out of compressor",null,{"$f":"R_tgasHP(R94,R127*1000,R121*100000)","v":45.805096268466677},"˚C",null,"Temperature out of compressor",null,{"$f":"R_tgasHP(W94,W127*1000,W121*100000)","v":46.679921859214353},"˚C",null,"Temperature out of compressor",null,{"$f":"R_tgasHP(AB94,AB127*1000,AB121*100000)","v":42.775850139301269},"˚C",null,"Temperature out of compressor",null,{"$f":"R_tgasHP(AG94,AG127*1000,AG121*100000)","v":42.621894931216957},"˚C",null,"Temperature out of compressor",null,{"$f":"R_tgasHP(AL94,AL127*1000,AL121*100000)","v":43.642802622276918},"˚C",null,"Temperature out of compressor",null,{"$f":"R_tgasHP(AQ94,AQ127*1000,AQ121*100000)","v":46.264659220194353},"˚C",null,"Temperature out of compressor",null,{"$f":"R_tgasHP(AV94,AV127*1000,AV121*100000)","v":44.179566696614927},"˚C",null,"Temperature out of compressor",null,{"$f":"R_tgasHP(BA94,BA127*1000,BA121*100000)","v":51.332867254137739},"˚C",null,"Temperature out of compressor",null,{"$f":"R_tgasHP(BF94,BF127*1000,BF121*100000)","v":54.09674337014178},"˚C"]
["Enthalpy on the dewpoint line",null,{"$f":"R_hsatgasT(C94,C120)/1000","v":427.50292764073419},"kJ/kg",null,"Enthalpy on the dewpoint line",null,{"$f":"R_hsatgasT(H94,H120)/1000","v":427.50292764073419},"kJ/kg",null,"Enthalpy on the dewpoint line",null,{"$f":"R_hsatgasT(M94,M120)/1000","v":427.50292764073419},"kJ/kg",null,"Enthalpy on the dewpoint line",null,{"$f":"R_hsatgasT(R94,R120)/1000","v":427.50292764073419},"kJ/kg",null,"Enthalpy on the dewpoint line",null,{"$f":"R_hsatgasT(W94,W120)/1000","v":427.50292764073419},"kJ/kg",null,"Enthalpy on the dewpoint line",null,{"$f":"R_hsatgasT(AB94,AB120)/1000","v":427.50292764073419},"kJ/kg",null,"Enthalpy on the dewpoint line",null,{"$f":"R_hsatgasT(AG94,AG120)/1000","v":427.50292764073419},"kJ/kg",null,"Enthalpy on the dewpoint line",null,{"$f":"R_hsatgasT(AL94,AL120)/1000","v":427.50292764073419},"kJ/kg",null,"Enthalpy on the dewpoint line",null,{"$f":"R_hsatgasT(AQ94,AQ120)/1000","v":427.50292764073419},"kJ/kg",null,"Enthalpy on the dewpoint line",null,{"$f":"R_hsatgasT(AV94,AV120)/1000","v":427.50292764073419},"kJ/kg",null,"Enthalpy on the dewpoint line",null,{"$f":"R_hsatgasT(BA94,BA120)/1000","v":427.50292764073419},"kJ/kg",null,"Enthalpy on the dewpoint line",null,{"$f":"R_hsatgasT(BF94,BF120)/1000","v":427.50292764073419},"kJ/kg"]
["Subcooling of condenser",null,18,"K",null,"Subcooling of condenser",null,18,"K",null,"Subcooling of condenser",null,18,"K",null,"Subcooling of condenser",null,18,"K",null,"Subcooling of condenser",null,18,"K",null,"Subcooling of condenser",null,18,"K",null,"Subcooling of condenser",null,18,"K",null,"Subcooling of condenser",null,18,"K",null,"Subcooling of condenser",null,18,"K",null,"Subcooling of condenser",null,18,"K",null,"Subcooling of condenser",null,18,"K",null,"Subcooling of condenser",null,18,"K"]
["Enthalpy out of the condenser",null,{"$f":"R_hsatliqT(C94,C120-C130)/1000","v":215.74554978637232},"kJ/kg",null,"Enthalpy out of the condenser",null,{"$f":"R_hsatliqT(H94,H120-H130)/1000","v":215.74554978637232},"kJ/kg",null,"Enthalpy out of the condenser",null,{"$f":"R_hsatliqT(M94,M120-M130)/1000","v":215.74554978637232},"kJ/kg",null,"Enthalpy out of the condenser",null,{"$f":"R_hsatliqT(R94,R120-R130)/1000","v":215.74554978637232},"kJ/kg",null,"Enthalpy out of the condenser",null,{"$f":"R_hsatliqT(W94,W120-W130)/1000","v":215.74554978637232},"kJ/kg",null,"Enthalpy out of the condenser",null,{"$f":"R_hsatliqT(AB94,AB120-AB130)/1000","v":215.74554978637232},"kJ/kg",null,"Enthalpy out of the condenser",null,{"$f":"R_hsatliqT(AG94,AG120-AG130)/1000","v":215.74554978637232},"kJ/kg",null,"Enthalpy out of the condenser",null,{"$f":"R_hsatliqT(AL94,AL120-AL130)/1000","v":215.74554978637232},"kJ/kg",null,"Enthalpy out of the condenser",null,{"$f":"R_hsatliqT(AQ94,AQ120-AQ130)/1000","v":215.74554978637232},"kJ/kg",null,"Enthalpy out of the condenser",null,{"$f":"R_hsatliqT(AV94,AV120-AV130)/1000","v":215.74554978637232},"kJ/kg",null,"Enthalpy out of the condenser",null,{"$f":"R_hsatliqT(BA94,BA120-BA130)/1000","v":215.74554978637232},"kJ/kg",null,"Enthalpy out of the condenser",null,{"$f":"R_hsatliqT(BF94,BF120-BF130)/1000","v":215.74554978637232},"kJ/kg"]
[]
["Enthalpy in to evaporator",null,{"$f":"R_HsatliqP(C94,C104*100000)/1000","v":178.81416361766341},"kJ/kg",null,"Enthalpy in to evaporator",null,{"$f":"R_HsatliqP(H94,H104*100000)/1000","v":178.81416361766341},"kJ/kg",null,"Enthalpy in to evaporator",null,{"$f":"R_HsatliqP(M94,M104*100000)/1000","v":178.81416361766341},"kJ/kg",null,"Enthalpy in to evaporator",null,{"$f":"R_HsatliqP(R94,R104*100000)/1000","v":178.81416361766341},"kJ/kg",null,"Enthalpy in to evaporator",null,{"$f":"R_HsatliqP(W94,W104*100000)/1000","v":178.81416361766341},"kJ/kg",null,"Enthalpy in to evaporator",null,{"$f":"R_HsatliqP(AB94,AB104*100000)/1000","v":211.3695711111767},"kJ/kg",null,"Enthalpy in to evaporator",null,{"$f":"R_HsatliqP(AG94,AG104*100000)/1000","v":211.3695711111767},"kJ/kg",null,"Enthalpy in to evaporator",null,{"$f":"R_HsatliqP(AL94,AL104*100000)/1000","v":200.0688802740074},"kJ/kg",null,"Enthalpy in to evaporator",null,{"$f":"R_HsatliqP(AQ94,AQ104*100000)/1000","v":178.81416361766341},"kJ/kg",null,"Enthalpy in to evaporator",null,{"$f":"R_HsatliqP(AV94,AV104*100000)/1000","v":178.81416361766341},"kJ/kg",null,"Enthalpy in to evaporator",null,{"$f":"R_HsatliqP(BA94,BA104*100000)/1000","v":178.81416361766341},"kJ/kg",null,"Enthalpy in to evaporator",null,{"$f":"R_HsatliqP(BF94,BF104*100000)/1000","v":178.81416361766341},"kJ/kg"]
["Moist vapor - xf",null,{"$f":"(C116-C131)/(C116-C133)","v":0.85724965592892832},null,null,"Moist vapor - xf",null,{"$f":"(H116-H131)/(H116-H133)","v":0.85619172574090374},null,null,"Moist vapor - xf",null,{"$f":"(M116-M131)/(M116-M133)","v":0.85824653555282182},null,null,"Moist vapor - xf",null,{"$f":"(R116-R131)/(R116-R133)","v":0.85090683161874581},null,null,"Moist vapor - xf",null,{"$f":"(W116-W131)/(W116-W133)","v":0.85146627363605831},null,null,"Moist vapor - xf",null,{"$f":"(AB116-AB131)/(AB116-AB133)","v":0.97985898260607585},null,null,"Moist vapor - xf",null,{"$f":"(AG116-AG131)/(AG116-AG133)","v":0.97984280643441646},null,null,"Moist vapor - xf",null,{"$f":"(AL116-AL131)/(AL116-AL133)","v":0.93105505816836265},null,null,"Moist vapor - xf",null,{"$f":"(AQ116-AQ131)/(AQ116-AQ133)","v":0.85120162512127562},null,null,"Moist vapor - xf",null,{"$f":"(AV116-AV131)/(AV116-AV133)","v":0.8498474504886474},null,null,"Moist vapor - xf",null,{"$f":"(BA116-BA131)/(BA116-BA133)","v":0.85432688795205702},null,null,"Moist vapor - xf",null,{"$f":"(BF116-BF131)/(BF116-BF133)","v":0.8559431845892117}]
["Cooling capacity",null,{"$f":"C137*(C100-C133)","v":7.0248876590532374},"kW",null,"Cooling capacity",null,{"$f":"H137*(H100-H133)","v":7.0443537848235334},"kW",null,"Cooling capacity",null,{"$f":"M137*(M100-M133)","v":7.0062272850768501},"kW",null,"Cooling capacity",null,{"$f":"R137*(R100-R133)","v":7.1357643017353984},"kW",null,"Cooling capacity",null,{"$f":"W137*(W100-W133)","v":7.2375520169592322},"kW",null,"Cooling capacity",null,{"$f":"AB137*(AB100-AB133)","v":6.3235216958001557},"kW",null,"Cooling capacity",null,{"$f":"AG137*(AG100-AG133)","v":6.324978474285694},"kW",null,"Cooling capacity",null,{"$f":"AL137*(AL100-AL133)","v":6.6457191030885889},"kW",null,"Cooling capacity",null,{"$f":"AQ137*(AQ100-AQ133)","v":7.2416799471699651},"kW",null,"Cooling capacity",null,{"$f":"AV137*(AV100-AV133)","v":7.1527844037561223},"kW",null,"Cooling capacity",null,{"$f":"BA137*(BA100-BA133)","v":7.0777706580379594},"kW",null,"Cooling capacity",null,{"$f":"BF137*(BF100-BF133)","v":7.048879072859477},"kW"]
["Cooling COP",null,{"$f":"C135/C145","v":4.586232672101878},null,null,"Cooling COP",null,{"$f":"H135/H145","v":4.8271231682503961},null,null,"Cooling COP",null,{"$f":"M135/M145","v":4.3756426447129204},null,null,"Cooling COP",null,{"$f":"R135/R145","v":6.3847962175214743},null,null,"Cooling COP",null,{"$f":"W135/W145","v":9.2702746103956066},null,null,"Cooling COP",null,{"$f":"AB135/AB145","v":10.481536855686349},null,null,"Cooling COP",null,{"$f":"AG135/AG145","v":10.608485205554445},null,null,"Cooling COP",null,{"$f":"AL135/AL145","v":10.315903459714642},null,null,"Cooling COP",null,{"$f":"AQ135/AQ145","v":9.4783615138017012},null,null,"Cooling COP",null,{"$f":"AV135/AV145","v":6.7919406896414189},null,null,"Cooling COP",null,{"$f":"BA135/BA145","v":5.3019084138969426},null,null,"Cooling COP",null,{"$f":"BF135/BF145","v":4.8865461586495194}]
["Refrigerant mass flow",null,{"$f":"C53","v":2.93E-2},"kg/s",null,"Refrigerant mass flow",null,{"$f":"C137","v":2.93E-2},"kg/s",null,"Refrigerant mass flow",null,{"$f":"H137","v":2.93E-2},"kg/s",null,"Refrigerant mass flow",null,{"$f":"M137","v":2.93E-2},"kg/s",null,"Refrigerant mass flow",null,{"$f":"R137","v":2.93E-2},"kg/s",null,"Refrigerant mass flow",null,{"$f":"W137","v":2.93E-2},"kg/s",null,"Refrigerant mass flow",null,{"$f":"AB137","v":2.93E-2},"kg/s",null,"Refrigerant mass flow",null,{"$f":"AG137","v":2.93E-2},"kg/s",null,"Refrigerant mass flow",null,{"$f":"AL137","v":2.93E-2},"kg/s",null,"Refrigerant mass flow",null,{"$f":"AQ137","v":2.93E-2},"kg/s",null,"Refrigerant mass flow",null,{"$f":"AV137","v":2.93E-2},"kg/s",null,"Refrigerant mass flow",null,{"$f":"BA137","v":2.93E-2},"kg/s"]
["Volume flow",null,{"$f":"C139/3600","v":2.166666666666667E-3},"m3/s",null,"Volume flow",null,{"$f":"H139/3600","v":2.166666666666667E-3},"m3/s",null,"Volume flow",null,{"$f":"M139/3600","v":2.166666666666667E-3},"m3/s",null,"Volume flow",null,{"$f":"R139/3600","v":2.166666666666667E-3},"m3/s",null,"Volume flow",null,{"$f":"W139/3600","v":2.166666666666667E-3},"m3/s",null,"Volume flow",null,{"$f":"AB139/3600","v":2.166666666666667E-3},"m3/s",null,"Volume flow",null,{"$f":"AG139/3600","v":2.166666666666667E-3},"m3/s",null,"Volume flow",null,{"$f":"AL139/3600","v":2.166666666666667E-3},"m3/s",null,"Volume flow",null,{"$f":"AQ139/3600","v":2.166666666666667E-3},"m3/s",null,"Volume flow",null,{"$f":"AV139/3600","v":2.166666666666667E-3},"m3/s",null,"Volume flow",null,{"$f":"BA139/3600","v":2.166666666666667E-3},"m3/s",null,"Volume flow",null,{"$f":"BF139/3600","v":2.166666666666667E-3},"m3/s"]
["Volume flow",null,{"$f":"C141*C140","v":7.8000000000000007},"m3/h",null,"Volume flow",null,{"$f":"H141*H140","v":7.8000000000000007},"m3/h",null,"Volume flow",null,{"$f":"M141*M140","v":7.8000000000000007},"m3/h",null,"Volume flow",null,{"$f":"R141*R140","v":7.8000000000000007},"m3/h",null,"Volume flow",null,{"$f":"W141*W140","v":7.8000000000000007},"m3/h",null,"Volume flow",null,{"$f":"AB141*AB140","v":7.8000000000000007},"m3/h",null,"Volume flow",null,{"$f":"AG141*AG140","v":7.8000000000000007},"m3/h",null,"Volume flow",null,{"$f":"AL141*AL140","v":7.8000000000000007},"m3/h",null,"Volume flow",null,{"$f":"AQ141*AQ140","v":7.8000000000000007},"m3/h",null,"Volume flow",null,{"$f":"AV141*AV140","v":7.8000000000000007},"m3/h",null,"Volume flow",null,{"$f":"BA141*BA140","v":7.8000000000000007},"m3/h",null,"Volume flow",null,{"$f":"BF141*BF140","v":7.8000000000000007},"m3/h"]
["Volumetric efficiency",null,0.65,null,null,"Volumetric efficiency",null,0.65,null,null,"Volumetric efficiency",null,0.65,null,null,"Volumetric efficiency",null,0.65,null,null,"Volumetric efficiency",null,0.65,null,null,"Volumetric efficiency",null,0.65,null,null,"Volumetric efficiency",null,0.65,null,null,"Volumetric efficiency",null,0.65,null,null,"Volumetric efficiency",null,0.65,null,null,"Volumetric efficiency",null,0.65,null,null,"Volumetric efficiency",null,0.65,null,null,"Volumetric efficiency",null,0.65]
["Cylinder volume",null,12,"m3/h",null,"Cylinder volume",null,12,"m3/h",null,"Cylinder volume",null,12,"m3/h",null,"Cylinder volume",null,12,"m3/h",null,"Cylinder volume",null,12,"m3/h",null,"Cylinder volume",null,12,"m3/h",null,"Cylinder volume",null,12,"m3/h",null,"Cylinder volume",null,12,"m3/h",null,"Cylinder volume",null,12,"m3/h",null,"Cylinder volume",null,12,"m3/h",null,"Cylinder volume",null,12,"m3/h",null,"Cylinder volume",null,12,"m3/h"]
[]
["Compressor effect 1. compressor",null,{"$f":"(C137*C134)*(C110-C100)","v":0.74346463248369998},"kW",null,"Compressor effect 1. compressor",null,{"$f":"(H137*H134)*(H110-H100)","v":0.68001257764924083},"kW",null,"Compressor effect 1. compressor",null,{"$f":"(M137*M134)*(M110-M100)","v":0.80441271582457907},"kW",null,"Compressor effect 1. compressor",null,{"$f":"(R137*R134)*(R110-R100)","v":0.38195232801581275},"kW",null,"Compressor effect 1. compressor",null,{"$f":"(W137*W134)*(W110-W100)","v":4.0523136337046739E-2},"kW",null,"Compressor effect 1. compressor",null,{"$f":"(AB137*AB134)*(AB110-AB100)","v":4.1547751205553152E-2},"kW",null,"Compressor effect 1. compressor",null,{"$f":"(AG137*AG134)*(AG110-AG100)","v":3.5113966707022659E-2},"kW",null,"Compressor effect 1. compressor",null,{"$f":"(AL137*AL134)*(AL110-AL100)","v":1.5363869256476521E-2},"kW",null,"Compressor effect 1. compressor",null,{"$f":"(AQ137*AQ134)*(AQ110-AQ100)","v":2.5967694766262917E-2},"kW",null,"Compressor effect 1. compressor",null,{"$f":"(AV137*AV134)*(AV110-AV100)","v":0.32600346455791901},"kW",null,"Compressor effect 1. compressor",null,{"$f":"(BA137*BA134)*(BA110-BA100)","v":0.57123746660185926},"kW",null,"Compressor effect 1. compressor",null,{"$f":"(BF137*BF134)*(BF110-BF100)","v":0.66528531479219677},"kW"]
["Compressor effect 2. compressor",null,{"$f":"C137*(C127-C116)","v":0.78826918071459995},"kW",null,"Compressor effect 2. compressor",null,{"$f":"H137*(H127-H116)","v":0.77931496368150566},"kW",null,"Compressor effect 2. compressor",null,{"$f":"M137*(M127-M116)","v":0.7967754647373001},"kW",null,"Compressor effect 2. compressor",null,{"$f":"R137*(R127-R116)","v":0.73566584782401745},"kW",null,"Compressor effect 2. compressor",null,{"$f":"W137*(W127-W116)","v":0.7402036836476712},"kW",null,"Compressor effect 2. compressor",null,{"$f":"AB137*(AB127-AB116)","v":0.56175325158294309},"kW",null,"Compressor effect 2. compressor",null,{"$f":"AG137*(AG127-AG116)","v":0.56110484792393234},"kW",null,"Compressor effect 2. compressor",null,{"$f":"AL137*(AL127-AL116)","v":0.62885688455740441},"kW",null,"Compressor effect 2. compressor",null,{"$f":"AQ137*(AQ127-AQ116)","v":0.73805464565883661},"kW",null,"Compressor effect 2. compressor",null,{"$f":"AV137*(AV127-AV116)","v":0.72712475469538462},"kW",null,"Compressor effect 2. compressor",null,{"$f":"BA137*(BA127-BA116)","v":0.76371027400532798},"kW",null,"Compressor effect 2. compressor",null,{"$f":"BF137*(BF127-BF116)","v":0.77722210128582014},"kW"]
["Compressor effect TOTAL",null,{"$f":"C144+C143","v":1.5317338131982998},"kW",null,"Compressor effect TOTAL",null,{"$f":"H144+H143","v":1.4593275413307465},"kW",null,"Compressor effect TOTAL",null,{"$f":"M144+M143","v":1.6011881805618793},"kW",null,"Compressor effect TOTAL",null,{"$f":"R144+R143","v":1.1176181758398303},"kW",null,"Compressor effect TOTAL",null,{"$f":"W144+W143","v":0.78072681998471793},"kW",null,"Compressor effect TOTAL",null,{"$f":"AB144+AB143","v":0.60330100278849619},"kW",null,"Compressor effect TOTAL",null,{"$f":"AG144+AG143","v":0.59621881463095505},"kW",null,"Compressor effect TOTAL",null,{"$f":"AL144+AL143","v":0.64422075381388089},"kW",null,"Compressor effect TOTAL",null,{"$f":"AQ144+AQ143","v":0.76402234042509953},"kW",null,"Compressor effect TOTAL",null,{"$f":"AV144+AV143","v":1.0531282192533036},"kW",null,"Compressor effect TOTAL",null,{"$f":"BA144+BA143","v":1.3349477406071872},"kW",null,"Compressor effect TOTAL",null,{"$f":"BF144+BF143","v":1.4425074160780169},"kW"]
["Over heating heat",null,{"$f":"(C137*(C127-C129))+((C137/2)*(C110-C112))","v":1.4375736872448162},"kW",null,"Over heating heat",null,{"$f":"(H137*(H127-H129))+((H137/2)*(H110-H112))","v":1.3460688459656984},"kW",null,"Over heating heat",null,{"$f":"(M137*(M127-M129))+((M137/2)*(M110-M112))","v":1.5250617670707052},"kW",null,"Over heating heat",null,{"$f":"(R137*(R127-R129))+((R137/2)*(R110-R112))","v":0.90872729673470576},"kW",null,"Over heating heat",null,{"$f":"(W137*(W127-W129))+((W137/2)*(W110-W112))","v":0.79085271774397381},"kW",null,"Over heating heat",null,{"$f":"(AB137*(AB127-AB129))+((AB137/2)*(AB110-AB112))","v":0.647156361529171},"kW",null,"Over heating heat",null,{"$f":"(AG137*(AG127-AG129))+((AG137/2)*(AG110-AG112))","v":0.63884496629383958},"kW",null,"Over heating heat",null,{"$f":"(AL137*(AL127-AL129))+((AL137/2)*(AL110-AL112))","v":0.6686069261936175},"kW",null,"Over heating heat",null,{"$f":"(AQ137*(AQ127-AQ129))+((AQ137/2)*(AQ110-AQ112))","v":0.7692679575587581},"kW",null,"Over heating heat",null,{"$f":"(AV137*(AV127-AV129))+((AV137/2)*(AV110-AV112))","v":0.82485253559737026},"kW",null,"Over heating heat",null,{"$f":"(BA137*(BA127-BA129))+((BA137/2)*(BA110-BA112))","v":1.1880526829854117},"kW",null,"Over heating heat",null,{"$f":"(BF137*(BF127-BF129))+((BF137/2)*(BF110-BF112))","v":1.3247689268935268},"kW"]
["Heating capacity",null,{"$f":"(C137*(C127-C131))","v":7.2864738327539156},"kW",null,"Heating capacity",null,{"$f":"(H137*(H127-H131))","v":7.2217549375042367},"kW",null,"Heating capacity",null,{"$f":"(M137*(M127-M131))","v":7.3482884498543442},"kW",null,"Heating capacity",null,{"$f":"(R137*(R127-R131))","v":6.9113843975441656},"kW",null,"Heating capacity",null,{"$f":"(W137*(W127-W131))","v":6.9432582663361577},"kW",null,"Heating capacity",null,{"$f":"(AB137*(AB127-AB131))","v":6.7994605387323768},"kW",null,"Heating capacity",null,{"$f":"(AG137*(AG127-AG131))","v":6.793703473971175},"kW",null,"Heating capacity",null,{"$f":"(AL137*(AL127-AL131))","v":6.8317511400151094},"kW",null,"Heating capacity",null,{"$f":"(AQ137*(AQ127-AQ131))","v":6.9281520801701362},"kW",null,"Heating capacity",null,{"$f":"(AV137*(AV127-AV131))","v":6.8516368144802726},"kW",null,"Heating capacity",null,{"$f":"(BA137*(BA127-BA131))","v":7.1098248043554575},"kW",null,"Heating capacity",null,{"$f":"(BF137*(BF127-BF131))","v":7.2066800079668472},"kW"]
["Heating COP",null,{"$f":"C147/C145","v":4.7570105001074365},null,null,"Heating COP",null,{"$f":"H147/H145","v":4.9486867978375777},null,null,"Heating COP",null,{"$f":"M147/M145","v":4.5892722286244503},null,null,"Heating COP",null,{"$f":"R147/R145","v":6.1840300622801072},null,null,"Heating COP",null,{"$f":"W147/W145","v":8.8933261783834539},null,null,"Heating COP",null,{"$f":"AB147/AB145","v":11.270428040571508},null,null,"Heating COP",null,{"$f":"AG147/AG145","v":11.394647916598057},null,null,"Heating COP",null,{"$f":"AL147/AL145","v":10.604674095906017},null,null,"Heating COP",null,{"$f":"AQ147/AQ145","v":9.0679967241734509},null,null,"Heating COP",null,{"$f":"AV147/AV145","v":6.5059853959076976},null,null,"Heating COP",null,{"$f":"BA147/BA145","v":5.3259199503357539},null,null,"Heating COP",null,{"$f":"BF147/BF145","v":4.995939658709581}]
["pluss (+) 2 kW water heating",null,{"$f":"(C147+2)/(C145+2)","v":2.6294376427945418},null,null,"pluss (+) 2 kW water heating",null,{"$f":"(H147+2)/(H145+2)","v":2.6657651891375336},null,null,"pluss (+) 2 kW water heating",null,{"$f":"(M147+2)/(M145+2)","v":2.5958900177206976},null,null,"pluss (+) 2 kW water heating",null,{"$f":"(R147+2)/(R145+2)","v":2.8583950615259672},null,null,"pluss (+) 2 kW water heating",null,{"$f":"(W147+2)/(W145+2)","v":3.2161585244771755},null,null,"pluss (+) 2 kW water heating",null,{"$f":"(AB147+2)/(AB145+2)","v":3.3801164480430552},null,null,"pluss (+) 2 kW water heating",null,{"$f":"(AG147+2)/(AG145+2)","v":3.3871195387747677},null,null,"pluss (+) 2 kW water heating",null,{"$f":"(AL147+2)/(AL145+2)","v":3.3400203546835754},null,null,"pluss (+) 2 kW water heating",null,{"$f":"(AQ147+2)/(AQ145+2)","v":3.2301302162402239},null,null,"pluss (+) 2 kW water heating",null,{"$f":"(AV147+2)/(AV145+2)","v":2.8992024503461886},null,null,"pluss (+) 2 kW water heating",null,{"$f":"(BA147+2)/(BA145+2)","v":2.7316244549897659},null,null,"pluss (+) 2 kW water heating",null,{"$f":"(BF147+2)/(BF145+2)","v":2.6744110891287032}]
[]
[]
["Evaporator temp",null,"Effect 1. comp",null,"Comp 1. out temp",null,"Effect 2. comp",null,"Comp 2. out temp",null,"Effect condenser",null,"COP","Inter mediat temp",null,"Inter mediat cooler",null,"Tot comp effect",null,"COP + water heating",null,null,2013]
[{"$f":"W153-5","v":-17.600000000000001},"˚C",{"$f":"C143","v":0.74346463248369998},"kW",{"$f":"C111","v":27.12479290948232},"˚C",{"$f":"C144","v":0.78826918071459995},"kW",{"$f":"C128","v":56.403205666246208},"˚C",{"$f":"C147","v":7.2864738327539156},"kW",{"$f":"K153/(C153+G153)","v":4.7570105001074365},5,"˚C",10,"˚",{"$f":"C153+G153","v":1.5317338131982998},"kW",{"$f":"(K153+2)/((C153+G153)+2)","v":2.6294376427945418},null,null,-12.6,"January"]
[{"$f":"W154-5","v":-15.9},"˚C",{"$f":"H143","v":0.68001257764924083},"kW",{"$f":"H111","v":25.380420833715899},"˚C",{"$f":"H144","v":0.77931496368150566},"kW",{"$f":"H128","v":54.530509713483298},"˚C",{"$f":"H147","v":7.2217549375042367},"kW",4.9486867978375777,5,"˚C",10,"˚",1.4593275413307465,"kW",{"$f":"(K154+2)/((C154+G154)+2)","v":2.6657651891375336},null,null,-10.9,"February"]
[-19.2,"˚C",{"$f":"M143","v":0.80441271582457907},"kW",{"$f":"M111","v":28.80579939273423},"˚C",{"$f":"M144","v":0.7967754647373001},"kW",{"$f":"M128","v":58.20713508874428},"˚C",{"$f":"M147","v":7.3482884498543442},"kW",4.5892722286244503,5,"˚C",10,"˚",1.6011881805618793,"kW",2.5958900177206976,null,null,-14.2,"March"]
[-7.4,"˚C",{"$f":"R143","v":0.38195232801581275},"kW",{"$f":"R111","v":17.261380563705931},"˚C",{"$f":"R144","v":0.73566584782401745},"kW",{"$f":"R128","v":45.805096268466677},"˚C",{"$f":"R147","v":6.9113843975441656},"kW",6.1840300622801072,5,"˚C",10,"˚",1.1176181758398303,"kW",2.8583950615259672,null,null,-2.4,"April "]
[3.5999999999999996,"˚C",{"$f":"W143","v":4.0523136337046739E-2},"kW",{"$f":"W111","v":8.0748659645630596},"˚C",{"$f":"W144","v":0.7402036836476712},"kW",{"$f":"W128","v":46.679921859214353},"˚C",{"$f":"W147","v":6.9432582663361577},"kW",8.8933261783834539,5,"˚C",0,"˚",0.78072681998471793,"kW",3.2161585244771755,null,null,8.6,"May"]
[8.6999999999999993,"˚C",{"$f":"AB143","v":4.1547751205553152E-2},"kW",{"$f":"AB111","v":12.939604829630699},"˚C",{"$f":"AB144","v":0.56175325158294309},"kW",{"$f":"AB128","v":42.775850139301269},"˚C",{"$f":"AB147","v":6.7994605387323768},"kW",11.270428040571508,10,"˚C",0,"˚",0.60330100278849619,"kW",3.3801164480430552,null,null,13.7,"June"]
[8.9,"˚C",{"$f":"AG143","v":3.5113966707022659E-2},"kW",{"$f":"AG111","v":12.79404163010048},"˚C",{"$f":"AG144","v":0.56110484792393234},"kW",{"$f":"AG128","v":42.621894931216957},"˚C",{"$f":"AG147","v":6.793703473971175},"kW",11.394647916598057,10,"˚C",0,"˚",0.59621881463095505,"kW",3.3871195387747677,null,null,13.9,"July"]
[7.5,"˚C",{"$f":"AL143","v":1.5363869256476521E-2},"kW",{"$f":"AL111","v":10.36811716004831},"˚C",{"$f":"AL144","v":0.62885688455740441},"kW",{"$f":"AL128","v":43.642802622276918},"˚C",{"$f":"AL147","v":6.8317511400151094},"kW",10.604674095906017,8,"˚C",0,"˚",0.64422075381388089,"kW",3.3400203546835754,null,null,12.5,"August"]
[4.0999999999999996,"˚C",{"$f":"AQ143","v":2.5967694766262917E-2},"kW",{"$f":"AQ111","v":7.6887077124357566},"˚C",{"$f":"AQ144","v":0.73805464565883661},"kW",{"$f":"AQ128","v":46.264659220194353},"˚C",{"$f":"AQ147","v":6.9281520801701362},"kW",9.0679967241734509,5,"˚C",0,"˚",0.76402234042509953,"kW",3.2301302162402239,null,null,9.1,"September"]
[-5.7,"˚C",{"$f":"AV143","v":0.32600346455791901},"kW",{"$f":"AV111","v":15.750079903779289},"˚C",{"$f":"AV144","v":0.72712475469538462},"kW",{"$f":"AV128","v":44.179566696614927},"˚C",{"$f":"AV147","v":6.8516368144802726},"kW",6.5059853959076976,5,"˚C",10,"˚",1.0531282192533036,"kW",2.8992024503461886,null,null,-0.7,"October"]
[-12.9,"˚C",{"$f":"BA143","v":0.57123746660185926},"kW",{"$f":"BA111","v":22.40348123622357},"˚C",{"$f":"BA144","v":0.76371027400532798},"kW",{"$f":"BA128","v":51.332867254137739},"˚C",{"$f":"BA147","v":7.1098248043554575},"kW",5.3259199503357539,5,"˚C",10,"˚",1.3349477406071872,"kW",2.7316244549897659,null,null,-7.9,"November"]
[-15.5,"˚C",{"$f":"BF143","v":0.66528531479219677},"kW",{"$f":"BF111","v":24.976478359260572},"˚C",{"$f":"BF144","v":0.77722210128582014},"kW",{"$f":"BF128","v":54.09674337014178},"˚C",{"$f":"BF147","v":7.2066800079668472},"kW",4.995939658709581,5,"˚C",10,"˚",1.4425074160780169,"kW",2.6744110891287032,null,null,-10.5,"December"]
[]
[]
[]
[]
[]
[]
[]
[]
[]
[]
[]
[]
[]
[]
[]
["R744",2012,null,null,null,null,null,null,null,null,null,null,null,null,null,null,null,null,"R744",2012]
["Evaptoration temp",null,{"$f":"K185","v":-18.3},"˚C",null,null,null,null,null,null,null,null,null,null,null,null,null,null,"Evaptoration temp",null,{"$f":"AC185","v":-17.600000000000001},"˚C"]
["h1=hA",440,"kJ/kg",null,"mR290",2.3300000000000001E-2,"kg/s","Temp out from compressor",null,null,null,null,null,null,null,null,null,null,"h1=hA",440.4,"kJ/kg",null,"mR290",2.3300000000000001E-2,"kg/s","Temp out from compressor"]
["h2=hB",473.2,"kJ/kg",null,"Condenser",{"$f":"F182*(B185-B186)","v":6.4398869999999997},"kW",null,90.8,"˚C",null,null,null,null,null,null,null,null,"h2=hB",472,"kJ/kg",null,"Condenser",{"$f":"X182*(T185-T186)","v":6.4701770000000005},"kW",null,91.5,"˚C"]
["h3=hC",459.1,"kJ/kg",null,"Compressor 1",{"$f":"F182*(B183-B182)","v":0.7735599999999998},"kW",null,null,null,"Evaporator temp",null,"Effect comp",null,"Effect gas cooler",null,"COP",null,"h3=hC",460,"kJ/kg",null,"Compressor 1",{"$f":"X182*(T183-T182)","v":0.7362800000000006},"kW",null,null,null,"Evaporator temp",null,"Effect comp",null,"Effect gas cooler",null,"COP"]
["h4=hD",502,"kJ/kg",null,"Compressor 2",{"$f":"F182*(B185-B184)","v":0.99956999999999951},"kW",null,null,null,{"$f":"A69","v":-18.3},"˚C",{"$f":"F186","v":1.7731299999999992},"kW",{"$f":"F183","v":6.4398869999999997},"kW",{"$f":"O185/M185","v":3.6319316688567689},null,"h4=hD",503.3,"kJ/kg",null,"Compressor 2",{"$f":"X182*(T185-T184)","v":1.0088900000000003},"kW",null,null,null,{"$f":"A153","v":-17.600000000000001},"˚C",{"$f":"X186","v":1.7451700000000008},"kW",{"$f":"X183","v":6.4701770000000005},"kW",{"$f":"AG185/AE185","v":3.7074766355140172}]
["h5=h6=hE=hF",225.61,"kJ/kg",null,"TOTAL comp",{"$f":"F184+F185","v":1.7731299999999992},"kW",null,null,null,{"$f":"A70","v":-21.4},"˚C",{"$f":"F200","v":1.9129300000000007},"kW",{"$f":"F197","v":6.5983270000000003},"kW",{"$f":"O186/M186","v":3.4493300852618747},null,"h5=h6=hE=hF",225.61,"kJ/kg",null,"TOTAL comp",{"$f":"X184+X185","v":1.7451700000000008},"kW",null,null,null,{"$f":"A154","v":-15.9},"˚C",{"$f":"X200","v":1.7405100000000013},"kW",{"$f":"X197","v":6.4165869999999998},"kW",{"$f":"AG186/AE186","v":3.6866131191432365}]
["h7=h8=hG=hH",212.31,"kJ/kg",null,"x6",{"$f":"(B184-B186)/(B184-B187)","v":0.94610802706754726},null,null,null,null,-10.5,"˚C",{"$f":"F214","v":1.4049900000000004},"kW",{"$f":"F211","v":6.0158270000000007},"kW",{"$f":"O187/M187","v":4.2817578772802642},null,"h7=h8=hG=hH",212.31,"kJ/kg",null,"x6",{"$f":"(T184-T186)/(T184-T187)","v":0.94630384755137464},null,null,null,null,-19.2,"˚C",{"$f":"X214","v":1.7684699999999995},"kW",{"$f":"X211","v":6.4259069999999996},"kW",{"$f":"AG187/AE187","v":3.6335968379446646}]
["COP",{"$f":"(B185-B186)/((F187*(B183-B182))+(B185-B184))","v":3.7193792856041017},null,null,"COP",{"$f":"F183/(F184+F185)","v":3.6319316688567689},null,null,null,null,-8,"˚C",{"$f":"F228","v":1.2815000000000001},"kW",{"$f":"F225","v":5.8760270000000006},"kW",4.5852727272727272,null,"COP",{"$f":"(T185-T186)/((X187*(T183-T182))+(T185-T184))","v":3.7934133206807217},null,null,"COP",{"$f":"X183/(X184+X185)","v":3.7074766355140172},null,null,null,null,-7.4,"˚C",{"$f":"X228","v":1.2605300000000006},"kW",{"$f":"X225","v":5.8340870000000002},"kW",4.628280961182992]
[null,null,null,null,null,null,null,null,null,null,-0.29999999999999982,"˚C",{"$f":"F242","v":0.95530000000000004},"kW",{"$f":"F239","v":5.5311870000000001},"kW",5.79,null,null,null,null,null,null,null,null,null,null,null,3.5999999999999996,"˚C",{"$f":"X242","v":0.8388000000000001},"kW",{"$f":"X239","v":5.5311870000000001},"kW",6.5941666666666663]
[null,null,null,null,null,null,null,null,null,null,4,"˚C",{"$f":"F256","v":0.80385000000000006},"kW",{"$f":"F253","v":5.4845870000000003},"kW",6.8228985507246378,null,null,null,null,null,null,null,null,null,null,null,8.6999999999999993,"˚C",{"$f":"X256","v":0.66638000000000053},"kW",{"$f":"X253","v":5.2515869999999998},"kW",7.8807692307692241]
[null,null,null,null,null,null,null,null,null,null,7,"˚C",{"$f":"F270","v":0.69900000000000007},"kW",{"$f":"F267","v":5.3680870000000001},"kW",7.679666666666666,null,null,null,null,null,null,null,null,null,null,null,8.9,"˚C",{"$f":"X270","v":0.66171999999999942},"kW",{"$f":"X267","v":5.2399370000000003},"kW",7.9186619718309936]
[null,null,null,null,null,null,null,null,null,null,5.6,"˚C",{"$f":"F284","v":0.74792999999999932},"kW",{"$f":"F281","v":5.3541069999999991},"kW",7.1585669781931518,null,null,null,null,null,null,null,null,null,null,null,7.5,"˚C",{"$f":"X284","v":0.71763999999999895},"kW",{"$f":"X281","v":5.2678969999999996},"kW",7.3405844155844262]
[null,null,null,null,null,null,null,null,null,null,1.0999999999999996,"˚C",{"$f":"F298","v":0.93432999999999933},"kW",{"$f":"F295","v":5.5405069999999998},"kW",5.9299251870324232,null,null,null,null,null,null,null,null,null,null,null,4.0999999999999996,"˚C",{"$f":"X298","v":0.82015999999999978},"kW",{"$f":"X295","v":5.5311870000000001},"kW",6.7440340909090928]
[null,null,null,null,null,null,null,null,null,null,-5.3,"˚C",{"$f":"F312","v":1.2488800000000007},"kW",{"$f":"F309","v":5.7968069999999994},"kW",4.6416044776119376,null,null,null,null,null,null,null,null,null,null,null,-5.7,"˚C",{"$f":"X312","v":1.2488800000000007},"kW",{"$f":"X309","v":5.8410770000000003},"kW",4.6770522388059677]
["Evaptoration temp",null,{"$f":"K186","v":-21.4},"˚C",null,null,null,null,null,null,-10.5,"˚C",{"$f":"F326","v":1.4026599999999998},"kW",{"$f":"F323","v":6.0065069999999992},"kW",4.2822259136212626,null,"Evaptoration temp",null,{"$f":"AC186","v":-15.9},"˚C",null,null,null,null,null,null,-12.9,"˚C",{"$f":"X326","v":1.4469299999999992},"kW",{"$f":"X323","v":6.0880569999999992},"kW",4.2075684380032223]
["h1=hA",440,"kJ/kg",null,"mR290",2.3300000000000001E-2,"kg/s","Temp out from compressor",null,null,-20.8,"˚C",{"$f":"F340","v":1.8779799999999993},"kW",{"$f":"F337","v":6.5540569999999994},"kW",3.4899503722084377,null,"h1=hA",440,"kJ/kg",null,"mR290",2.3300000000000001E-2,"kg/s","Temp out from compressor",null,null,-15.5,"˚C",{"$f":"X340","v":1.7311900000000005},"kW",{"$f":"X337","v":6.3979469999999994},"kW",3.6956931359353957]
["h2=hB",479.1,"kJ/kg",null,"Condenser",{"$f":"F196*(B199-B200)","v":6.5983270000000003},"kW",null,95.2,"˚C",null,null,null,null,null,null,null,null,"h2=hB",468.1,"kJ/kg",null,"Condenser",{"$f":"X196*(T199-T200)","v":6.4165869999999998},"kW",null,90,"˚C"]
["h3=hC",465.8,"kJ/kg",null,"Compressor 1",{"$f":"F196*(B197-B196)","v":0.91103000000000056},"kW",null,null,null,null,null,null,null,null,null,null,null,"h3=hC",454.4,"kJ/kg",null,"Compressor 1",{"$f":"X196*(T197-T196)","v":0.65473000000000059},"kW"]
["h4=hD",508.8,"kJ/kg",null,"Compressor 2",{"$f":"F196*(B199-B198)","v":1.0019},"kW",null,null,null,null,null,null,null,null,null,null,null,"h4=hD",501,"kJ/kg",null,"Compressor 2",{"$f":"X196*(T199-T198)","v":1.0857800000000006},"kW"]
["h5=h6=hE=hF",225.61,"kJ/kg",null,"TOTAL comp",{"$f":"F198+F199","v":1.9129300000000007},"kW",null,null,null,null,null,null,null,null,null,null,null,"h5=h6=hE=hF",225.61,"kJ/kg",null,"TOTAL comp",{"$f":"X198+X199","v":1.7405100000000013},"kW"]
["h7=h8=hG=hH",212.31,"kJ/kg",null,"x6",{"$f":"(B198-B200)/(B198-B201)","v":0.94753244703933093},null,null,null,null,null,null,null,null,null,null,null,null,"h7=h8=hG=hH",212.31,"kJ/kg",null,"x6",{"$f":"(T198-T200)/(T198-T201)","v":0.94506175389318015}]
["COP",{"$f":"(B199-B200)/((F201*(B197-B196))+(B199-B198))","v":3.5377294255096672},null,null,"COP",{"$f":"F197/(F198+F199)","v":3.4493300852618747},null,null,null,null,null,null,null,null,null,null,null,null,"COP",{"$f":"(T199-T200)/((X201*(T197-T196))+(T199-T198))","v":3.7644091297127038},null,null,"COP",{"$f":"X197/(X198+X199)","v":3.6866131191432365}]
[]
[]
[]
[]
[]
[]
["Evaptoration temp",null,{"$f":"K187","v":-10.5},"˚C",null,null,null,null,null,null,null,null,null,null,null,null,null,null,"Evaptoration temp",null,{"$f":"AC187","v":-19.2},"˚C"]
["h1=hA",438.8,"kJ/kg",null,"mR290",2.3300000000000001E-2,"kg/s","Temp out from compressor",null,null,null,null,null,null,null,null,null,null,"h1=hA",438.8,"kJ/kg",null,"mR290",2.3300000000000001E-2,"kg/s","Temp out from compressor"]
["h2=hB",459.2,"kJ/kg",null,"Condenser",{"$f":"F210*(B213-B214)","v":6.0158270000000007},"kW",null,78.7,"˚C",null,null,null,null,null,null,null,null,"h2=hB",474,"kJ/kg",null,"Condenser",{"$f":"X210*(T213-T214)","v":6.4259069999999996},"kW",null,90.2,"˚C"]
["h3=hC",443.9,"kJ/kg",null,"Compressor 1",{"$f":"F210*(B211-B210)","v":0.47531999999999952},"kW",null,null,null,null,null,null,null,null,null,null,null,"h3=hC",460.7,"kJ/kg",null,"Compressor 1",{"$f":"X210*(T211-T210)","v":0.82015999999999978},"kW"]
["h4=hD",483.8,"kJ/kg",null,"Compressor 2",{"$f":"F210*(B213-B212)","v":0.92967000000000088},"kW",null,null,null,null,null,null,null,null,null,null,null,"h4=hD",501.4,"kJ/kg",null,"Compressor 2",{"$f":"X210*(T213-T212)","v":0.94830999999999976},"kW"]
["h5=h6=hE=hF",225.61,"kJ/kg",null,"TOTAL comp",{"$f":"F212+F213","v":1.4049900000000004},"kW",null,null,null,null,null,null,null,null,null,null,null,"h5=h6=hE=hF",225.61,"kJ/kg",null,"TOTAL comp",{"$f":"X212+X213","v":1.7684699999999995},"kW"]
["h7=h8=hG=hH",212.31,"kJ/kg",null,"x6",{"$f":"(B212-B214)/(B212-B215)","v":0.94257092275141408},null,null,null,null,null,null,null,null,null,null,null,null,"h7=h8=hG=hH",212.31,"kJ/kg",null,"x6",{"$f":"(T212-T214)/(T212-T215)","v":0.94645517130319257}]
["COP",{"$f":"(B213-B214)/((F215*(B211-B210))+(B213-B212))","v":4.3665953338493413},null,null,"COP",{"$f":"F211/(F212+F213)","v":4.2817578772802642},null,null,null,null,null,null,null,null,null,null,null,null,"COP",{"$f":"(T213-T214)/((X215*(T211-T210))+(T213-T212))","v":3.7261254163189816},null,null,"COP",{"$f":"X211/(X212+X213)","v":3.6335968379446646}]
[]
[]
[]
[]
[]
[]
["Evaptoration temp",null,{"$f":"K188","v":-8},"˚C",null,null,null,null,null,null,null,null,null,null,null,null,null,null,"Evaptoration temp",null,{"$f":"AC188","v":-7.4},"˚C"]
["h1=hA",438,"kJ/kg",null,"mR290",2.3300000000000001E-2,"kg/s","Temp out from compressor",null,null,null,null,null,null,null,null,null,null,"h1=hA",438.4,"kJ/kg",null,"mR290",2.3300000000000001E-2,"kg/s","Temp out from compressor"]
["h2=hB",454.4,"kJ/kg",null,"Condenser",{"$f":"F224*(B227-B228)","v":5.8760270000000006},"kW",null,74.8,"˚C",null,null,null,null,null,null,null,null,"h2=hB",453.7,"kJ/kg",null,"Condenser",{"$f":"X224*(T227-T228)","v":5.8340870000000002},"kW",null,74,"˚C"]
["h3=hC",439.2,"kJ/kg",null,"Compressor 1",{"$f":"F224*(B225-B224)","v":0.38211999999999952},"kW",null,null,null,null,null,null,null,null,null,null,null,"h3=hC",437.2,"kJ/kg",null,"Compressor 1",{"$f":"X224*(T225-T224)","v":0.35649000000000031},"kW"]
["h4=hD",477.8,"kJ/kg",null,"Compressor 2",{"$f":"F224*(B227-B226)","v":0.89938000000000062},"kW",null,null,null,null,null,null,null,null,null,null,null,"h4=hD",476,"kJ/kg",null,"Compressor 2",{"$f":"X224*(T227-T226)","v":0.90404000000000029},"kW"]
["h5=h6=hE=hF",225.61,"kJ/kg",null,"TOTAL comp",{"$f":"F226+F227","v":1.2815000000000001},"kW",null,null,null,null,null,null,null,null,null,null,null,"h5=h6=hE=hF",225.61,"kJ/kg",null,"TOTAL comp",{"$f":"X226+X227","v":1.2605300000000006},"kW"]
["h7=h8=hG=hH",212.31,"kJ/kg",null,"x6",{"$f":"(B226-B228)/(B226-B229)","v":0.94138128608576843},null,null,null,null,null,null,null,null,null,null,null,null,"h7=h8=hG=hH",212.31,"kJ/kg",null,"x6",{"$f":"(T226-T228)/(T226-T229)","v":0.94085997598826088}]
["COP",{"$f":"(B227-B228)/((F229*(B225-B224))+(B227-B226))","v":4.6668446671228621},null,null,"COP",{"$f":"F225/(F226+F227)","v":4.5852727272727272},null,null,null,null,null,null,null,null,null,null,null,null,"COP",{"$f":"(T227-T228)/((X229*(T225-T224))+(T227-T226))","v":4.707007388327682},null,null,"COP",{"$f":"X225/(X226+X227)","v":4.628280961182992}]
[]
[]
[]
[]
[]
[]
["Evaptoration temp",null,{"$f":"K189","v":-0.29999999999999982},"˚C",null,null,null,null,null,null,null,null,null,null,null,null,null,null,"Evaptoration temp",null,{"$f":"AC189","v":3.5999999999999996},"˚C"]
["h1=hA",435.3,"kJ/kg",null,"mR290",2.3300000000000001E-2,"kg/s","Temp out from compressor",null,null,null,null,null,null,null,null,null,null,"h1=hA",433,"kJ/kg",null,"mR290",2.3300000000000001E-2,"kg/s","Temp out from compressor"]
["h2=hB",441.5,"kJ/kg",null,"Condenser",{"$f":"F238*(B241-B242)","v":5.5311870000000001},"kW",null,68,"˚C",null,null,null,null,null,null,null,null,"h2=hB",434.5,"kJ/kg",null,"Condenser",{"$f":"X238*(T241-T242)","v":5.5311870000000001},"kW",null,66.8,"˚C"]
["h3=hC",428.2,"kJ/kg",null,"Compressor 1",{"$f":"F238*(B239-B238)","v":0.14445999999999976},"kW",null,null,null,null,null,null,null,null,null,null,null,"h3=hC",428.5,"kJ/kg",null,"Compressor 1",{"$f":"X238*(T239-T238)","v":3.4950000000000002E-2},"kW"]
["h4=hD",463,"kJ/kg",null,"Compressor 2",{"$f":"F238*(B241-B240)","v":0.81084000000000034},"kW",null,null,null,null,null,null,null,null,null,null,null,"h4=hD",463,"kJ/kg",null,"Compressor 2",{"$f":"X238*(T241-T240)","v":0.80385000000000006},"kW"]
["h5=h6=hE=hF",225.61,"kJ/kg",null,"TOTAL comp",{"$f":"F240+F241","v":0.95530000000000004},"kW",null,null,null,null,null,null,null,null,null,null,null,"h5=h6=hE=hF",225.61,"kJ/kg",null,"TOTAL comp",{"$f":"X240+X241","v":0.8388000000000001},"kW"]
["h7=h8=hG=hH",212.31,"kJ/kg",null,"x6",{"$f":"(B240-B242)/(B240-B243)","v":0.93839455278150907},null,null,null,null,null,null,null,null,null,null,null,null,"h7=h8=hG=hH",212.31,"kJ/kg",null,"x6",{"$f":"(T240-T242)/(T240-T243)","v":0.9384800407049354}]
["COP",{"$f":"(B241-B242)/((F243*(B239-B238))+(B241-B240))","v":5.8444465465393547},null,null,"COP",{"$f":"F239/(F240+F241)","v":5.79},null,null,null,null,null,null,null,null,null,null,null,null,"COP",{"$f":"(T241-T242)/((X243*(T239-T238))+(T241-T240))","v":6.61111314214165},null,null,"COP",{"$f":"X239/(X240+X241)","v":6.5941666666666663}]
[]
[]
[]
[]
[]
[]
["Evaptoration temp",null,{"$f":"K190","v":4},"˚C",null,null,null,null,null,null,null,null,null,null,null,null,null,null,"Evaptoration temp",null,{"$f":"AC190","v":8.6999999999999993},"˚C"]
["h1=hA",432.5,"kJ/kg",null,"mR290",2.3300000000000001E-2,"kg/s","Temp out from compressor",null,null,null,null,null,null,null,null,null,null,"h1=hA",429,"kJ/kg",null,"mR290",2.3300000000000001E-2,"kg/s","Temp out from compressor"]
["h2=hB",434,"kJ/kg",null,"Condenser",{"$f":"F252*(B255-B256)","v":5.4845870000000003},"kW",null,69,"˚C",null,null,null,null,null,null,null,null,"h2=hB",430.6,"kJ/kg",null,"Condenser",{"$f":"X252*(T255-T256)","v":5.2515869999999998},"kW",null,60.6,"˚C"]
["h3=hC",428,"kJ/kg",null,"Compressor 1",{"$f":"F252*(B253-B252)","v":3.4950000000000002E-2},"kW",null,null,null,null,null,null,null,null,null,null,null,"h3=hC",424,"kJ/kg",null,"Compressor 1",{"$f":"X252*(T253-T252)","v":3.7280000000000535E-2},"kW"]
["h4=hD",461,"kJ/kg",null,"Compressor 2",{"$f":"F252*(B255-B254)","v":0.76890000000000003},"kW",null,null,null,null,null,null,null,null,null,null,null,"h4=hD",451,"kJ/kg",null,"Compressor 2",{"$f":"X252*(T255-T254)","v":0.62909999999999999},"kW"]
["h5=h6=hE=hF",225.61,"kJ/kg",null,"TOTAL comp",{"$f":"F254+F255","v":0.80385000000000006},"kW",null,null,null,null,null,null,null,null,null,null,null,"h5=h6=hE=hF",225.61,"kJ/kg",null,"TOTAL comp",{"$f":"X254+X255","v":0.66638000000000053},"kW"]
["h7=h8=hG=hH",212.31,"kJ/kg",null,"x6",{"$f":"(B254-B256)/(B254-B257)","v":0.93833742871714032},null,null,null,null,null,null,null,null,null,null,null,null,"h7=h8=hG=hH",212.31,"kJ/kg",null,"x6",{"$f":"(T254-T256)/(T254-T257)","v":0.9371722802210779}]
["COP",{"$f":"(B255-B256)/((F257*(B253-B252))+(B255-B254))","v":6.8412397870739241},null,null,"COP",{"$f":"F253/(F254+F255)","v":6.8228985507246378},null,null,null,null,null,null,null,null,null,null,null,null,"COP",{"$f":"(T255-T256)/((X257*(T253-T252))+(T255-T254))","v":7.9085665568383714},null,null,"COP",{"$f":"X253/(X254+X255)","v":7.8807692307692241}]
[]
[]
[]
[]
[]
[]
["Evaptoration temp",null,{"$f":"K191","v":7},"˚C",null,null,null,null,null,null,null,null,null,null,null,null,null,null,"Evaptoration temp",null,{"$f":"AC191","v":8.9},"˚C"]
["h1=hA",431,"kJ/kg",null,"mR290",2.3300000000000001E-2,"kg/s","Temp out from compressor",null,null,null,null,null,null,null,null,null,null,"h1=hA",429.5,"kJ/kg",null,"mR290",2.3300000000000001E-2,"kg/s","Temp out from compressor"]
["h2=hB",432,"kJ/kg",null,"Condenser",{"$f":"F266*(B269-B270)","v":5.3680870000000001},"kW",null,null,"˚C",null,null,null,null,null,null,null,null,"h2=hB",430.9,"kJ/kg",null,"Condenser",{"$f":"X266*(T269-T270)","v":5.2399370000000003},"kW",null,61.1,"˚C"]
["h3=hC",427,"kJ/kg",null,"Compressor 1",{"$f":"F266*(B267-B266)","v":2.3300000000000001E-2},"kW",null,null,null,null,null,null,null,null,null,null,null,"h3=hC",423.5,"kJ/kg",null,"Compressor 1",{"$f":"X266*(T267-T266)","v":3.2619999999999469E-2},"kW"]
["h4=hD",456,"kJ/kg",null,"Compressor 2",{"$f":"F266*(B269-B268)","v":0.67570000000000008},"kW",null,null,null,null,null,null,null,null,null,null,null,"h4=hD",450.5,"kJ/kg",null,"Compressor 2",{"$f":"X266*(T269-T268)","v":0.62909999999999999},"kW"]
["h5=h6=hE=hF",225.61,"kJ/kg",null,"TOTAL comp",{"$f":"F268+F269","v":0.69900000000000007},"kW",null,null,null,null,null,null,null,null,null,null,null,"h5=h6=hE=hF",225.61,"kJ/kg",null,"TOTAL comp",{"$f":"X268+X269","v":0.66171999999999942},"kW"]
["h7=h8=hG=hH",212.31,"kJ/kg",null,"x6",{"$f":"(B268-B270)/(B268-B271)","v":0.93805021193348548},null,null,null,null,null,null,null,null,null,null,null,null,"h7=h8=hG=hH",212.31,"kJ/kg",null,"x6",{"$f":"(T268-T270)/(T268-T271)","v":0.93702353331123622}]
["COP",{"$f":"(B269-B270)/((F271*(B267-B266))+(B269-B268))","v":7.6955579394467426},null,null,"COP",{"$f":"F267/(F268+F269)","v":7.679666666666666},null,null,null,null,null,null,null,null,null,null,null,null,"COP",{"$f":"(T269-T270)/((X271*(T267-T266))+(T269-T268))","v":7.9433218055464554},null,null,"COP",{"$f":"X267/(X268+X269)","v":7.9186619718309936}]
[]
[]
[]
[]
[]
[]
["Evaptoration temp",null,{"$f":"K192","v":5.6},"˚C",null,null,null,null,null,null,null,null,null,null,null,null,null,null,"Evaptoration temp",null,{"$f":"AC192","v":7.5},"˚C"]
["h1=hA",431.8,"kJ/kg",null,"mR290",2.3300000000000001E-2,"kg/s","Temp out from compressor",null,null,null,null,null,null,null,null,null,null,"h1=hA",430.6,"kJ/kg",null,"mR290",2.3300000000000001E-2,"kg/s","Temp out from compressor"]
["h2=hB",434.5,"kJ/kg",null,"Condenser",{"$f":"F280*(B283-B284)","v":5.3541069999999991},"kW",null,63.4,"˚C",null,null,null,null,null,null,null,null,"h2=hB",432.9,"kJ/kg",null,"Condenser",{"$f":"X280*(T283-T284)","v":5.2678969999999996},"kW",null,61,"˚C"]
["h3=hC",426,"kJ/kg",null,"Compressor 1",{"$f":"F280*(B281-B280)","v":6.2909999999999744E-2},"kW",null,null,null,null,null,null,null,null,null,null,null,"h3=hC",423.2,"kJ/kg",null,"Compressor 1",{"$f":"X280*(T281-T280)","v":5.3589999999998944E-2},"kW"]
["h4=hD",455.4,"kJ/kg",null,"Compressor 2",{"$f":"F280*(B283-B282)","v":0.68501999999999952},"kW",null,null,null,null,null,null,null,null,null,null,null,"h4=hD",451.7,"kJ/kg",null,"Compressor 2",{"$f":"X280*(T283-T282)","v":0.66405000000000003},"kW"]
["h5=h6=hE=hF",225.61,"kJ/kg",null,"TOTAL comp",{"$f":"F282+F283","v":0.74792999999999932},"kW",null,null,null,null,null,null,null,null,null,null,null,"h5=h6=hE=hF",225.61,"kJ/kg",null,"TOTAL comp",{"$f":"X282+X283","v":0.71763999999999895},"kW"]
["h7=h8=hG=hH",212.31,"kJ/kg",null,"x6",{"$f":"(B282-B284)/(B282-B285)","v":0.9377603069867565},null,null,null,null,null,null,null,null,null,null,null,null,"h7=h8=hG=hH",212.31,"kJ/kg",null,"x6",{"$f":"(T282-T284)/(T282-T285)","v":0.93693394660723595}]
["COP",{"$f":"(B283-B284)/((F285*(B281-B280))+(B283-B282))","v":7.1962401182143232},null,null,"COP",{"$f":"F281/(F282+F283)","v":7.1585669781931518},null,null,null,null,null,null,null,null,null,null,null,null,"COP",{"$f":"(T283-T284)/((X285*(T281-T280))+(T283-T282))","v":7.375318315028637},null,null,"COP",{"$f":"X281/(X282+X283)","v":7.3405844155844262}]
[]
[]
[]
[]
[]
[]
["Evaptoration temp",null,{"$f":"K193","v":1.0999999999999996},"˚C",null,null,null,null,null,null,null,null,null,null,null,null,null,null,"Evaptoration temp",null,{"$f":"AC193","v":4.0999999999999996},"˚C"]
["h1=hA",433.7,"kJ/kg",null,"mR290",2.3300000000000001E-2,"kg/s","Temp out from compressor",null,null,null,null,null,null,null,null,null,null,"h1=hA",432.5,"kJ/kg",null,"mR290",2.3300000000000001E-2,"kg/s","Temp out from compressor"]
["h2=hB",438.4,"kJ/kg",null,"Condenser",{"$f":"F294*(B297-B298)","v":5.5405069999999998},"kW",null,null,"˚C",null,null,null,null,null,null,null,null,"h2=hB",433.7,"kJ/kg",null,"Condenser",{"$f":"X294*(T297-T298)","v":5.5311870000000001},"kW",null,66.8,"˚C"]
["h3=hC",428,"kJ/kg",null,"Compressor 1",{"$f":"F294*(B295-B294)","v":0.10950999999999975},"kW",null,null,null,null,null,null,null,null,null,null,null,"h3=hC",429,"kJ/kg",null,"Compressor 1",{"$f":"X294*(T295-T294)","v":2.7959999999999735E-2},"kW"]
["h4=hD",463.4,"kJ/kg",null,"Compressor 2",{"$f":"F294*(B297-B296)","v":0.82481999999999955},"kW",null,null,null,null,null,null,null,null,null,null,null,"h4=hD",463,"kJ/kg",null,"Compressor 2",{"$f":"X294*(T297-T296)","v":0.79220000000000002},"kW"]
["h5=h6=hE=hF",225.61,"kJ/kg",null,"TOTAL comp",{"$f":"F296+F297","v":0.93432999999999933},"kW",null,null,null,null,null,null,null,null,null,null,null,"h5=h6=hE=hF",225.61,"kJ/kg",null,"TOTAL comp",{"$f":"X296+X297","v":0.82015999999999978},"kW"]
["h7=h8=hG=hH",212.31,"kJ/kg",null,"x6",{"$f":"(B296-B298)/(B296-B299)","v":0.93833742871714032},null,null,null,null,null,null,null,null,null,null,null,null,"h7=h8=hG=hH",212.31,"kJ/kg",null,"x6",{"$f":"(T296-T298)/(T296-T299)","v":0.93862199455443251}]
["COP",{"$f":"(B297-B298)/((F299*(B295-B294))+(B297-B296))","v":5.9730944363809062},null,null,"COP",{"$f":"F295/(F296+F297)","v":5.9299251870324232},null,null,null,null,null,null,null,null,null,null,null,null,"COP",{"$f":"(T297-T298)/((X299*(T295-T294))+(T297-T296))","v":6.7581751128025811},null,null,"COP",{"$f":"X295/(X296+X297)","v":6.7440340909090928}]
[]
[]
[]
[]
[]
[]
["Evaptoration temp",null,{"$f":"K194","v":-5.3},"˚C",null,null,null,null,null,null,null,null,null,null,null,null,null,null,"Evaptoration temp",null,{"$f":"AC194","v":-5.7},"˚C"]
["h1=hA",437.2,"kJ/kg",null,"mR290",2.3300000000000001E-2,"kg/s","Temp out from compressor",null,null,null,null,null,null,null,null,null,null,"h1=hA",437.2,"kJ/kg",null,"mR290",2.3300000000000001E-2,"kg/s","Temp out from compressor"]
["h2=hB",450.1,"kJ/kg",null,"Condenser",{"$f":"F308*(B311-B312)","v":5.7968069999999994},"kW",null,null,"˚C",null,null,null,null,null,null,null,null,"h2=hB",451.3,"kJ/kg",null,"Condenser",{"$f":"X308*(T311-T312)","v":5.8410770000000003},"kW",null,74.2,"˚C"]
["h3=hC",433.7,"kJ/kg",null,"Compressor 1",{"$f":"F308*(B309-B308)","v":0.30057000000000084},"kW",null,null,null,null,null,null,null,null,null,null,null,"h3=hC",436.8,"kJ/kg",null,"Compressor 1",{"$f":"X308*(T309-T308)","v":0.32853000000000054},"kW"]
["h4=hD",474.4,"kJ/kg",null,"Compressor 2",{"$f":"F308*(B311-B310)","v":0.94830999999999976},"kW",null,null,null,null,null,null,null,null,null,null,null,"h4=hD",476.3,"kJ/kg",null,"Compressor 2",{"$f":"X308*(T311-T310)","v":0.92035},"kW"]
["h5=h6=hE=hF",225.61,"kJ/kg",null,"TOTAL comp",{"$f":"F310+F311","v":1.2488800000000007},"kW",null,null,null,null,null,null,null,null,null,null,null,"h5=h6=hE=hF",225.61,"kJ/kg",null,"TOTAL comp",{"$f":"X310+X311","v":1.2488800000000007},"kW"]
["h7=h8=hG=hH",212.31,"kJ/kg",null,"x6",{"$f":"(B310-B312)/(B310-B313)","v":0.93992501919689231},null,null,null,null,null,null,null,null,null,null,null,null,"h7=h8=hG=hH",212.31,"kJ/kg",null,"x6",{"$f":"(T310-T312)/(T310-T313)","v":0.94075459931400063}]
["COP",{"$f":"(B311-B312)/((F313*(B309-B308))+(B311-B310))","v":4.7096989260478059},null,null,"COP",{"$f":"F309/(F310+F311)","v":4.6416044776119376},null,null,null,null,null,null,null,null,null,null,null,null,"COP",{"$f":"(T311-T312)/((X313*(T309-T308))+(T311-T310))","v":4.7510984763870105},null,null,"COP",{"$f":"X309/(X310+X311)","v":4.6770522388059677}]
[]
[]
[]
[]
[]
[]
["Evaptoration temp",null,{"$f":"K195","v":-10.5},"˚C",null,null,null,null,null,null,null,null,null,null,null,null,null,null,"Evaptoration temp",null,{"$f":"AC195","v":-12.9},"˚C"]
["h1=hA",438,"kJ/kg",null,"mR290",2.3300000000000001E-2,"kg/s","Temp out from compressor",null,null,null,null,null,null,null,null,null,null,"h1=hA",439.2,"kJ/kg",null,"mR290",2.3300000000000001E-2,"kg/s","Temp out from compressor"]
["h2=hB",459.1,"kJ/kg",null,"Condenser",{"$f":"F322*(B325-B326)","v":6.0065069999999992},"kW",null,78.5,"˚C",null,null,null,null,null,null,null,null,"h2=hB",463,"kJ/kg",null,"Condenser",{"$f":"X322*(T325-T326)","v":6.0880569999999992},"kW",null,80.7,"˚C"]
["h3=hC",444.3,"kJ/kg",null,"Compressor 1",{"$f":"F322*(B323-B322)","v":0.49163000000000057},"kW",null,null,null,null,null,null,null,null,null,null,null,"h3=hC",448.6,"kJ/kg",null,"Compressor 1",{"$f":"X322*(T323-T322)","v":0.55454000000000025},"kW"]
["h4=hD",483.4,"kJ/kg",null,"Compressor 2",{"$f":"F322*(B325-B324)","v":0.91102999999999923},"kW",null,null,null,null,null,null,null,null,null,null,null,"h4=hD",486.9,"kJ/kg",null,"Compressor 2",{"$f":"X322*(T325-T324)","v":0.89238999999999902},"kW"]
["h5=h6=hE=hF",225.61,"kJ/kg",null,"TOTAL comp",{"$f":"F324+F325","v":1.4026599999999998},"kW",null,null,null,null,null,null,null,null,null,null,null,"h5=h6=hE=hF",225.61,"kJ/kg",null,"TOTAL comp",{"$f":"X324+X325","v":1.4469299999999992},"kW"]
["h7=h8=hG=hH",212.31,"kJ/kg",null,"x6",{"$f":"(B324-B326)/(B324-B327)","v":0.94266994266994264},null,null,null,null,null,null,null,null,null,null,null,null,"h7=h8=hG=hH",212.31,"kJ/kg",null,"x6",{"$f":"(T324-T326)/(T324-T327)","v":0.94371323373820304}]
["COP",{"$f":"(B325-B326)/((F327*(B323-B322))+(B325-B324))","v":4.3700378468134264},null,null,"COP",{"$f":"F323/(F324+F325)","v":4.2822259136212626},null,null,null,null,null,null,null,null,null,null,null,null,"COP",{"$f":"(T325-T326)/((X327*(T323-T322))+(T325-T324))","v":4.300335542024631},null,null,"COP",{"$f":"X323/(X324+X325)","v":4.2075684380032223}]
[]
[]
[]
[]
[]
[]
["Evaptoration temp",null,{"$f":"K196","v":-20.8},"˚C",null,null,null,null,null,null,null,null,null,null,null,null,null,null,"Evaptoration temp",null,{"$f":"AC196","v":-15.5},"˚C"]
["h1=hA",439.2,"kJ/kg",null,"mR290",2.3300000000000001E-2,"kg/s","Temp out from compressor",null,null,null,null,null,null,null,null,null,null,"h1=hA",439.6,"kJ/kg",null,"mR290",2.3300000000000001E-2,"kg/s","Temp out from compressor"]
["h2=hB",477.9,"kJ/kg",null,"Condenser",{"$f":"F336*(B339-B340)","v":6.5540569999999994},"kW",null,null,"˚C",null,null,null,null,null,null,null,null,"h2=hB",468.1,"kJ/kg",null,"Condenser",{"$f":"X336*(T339-T340)","v":6.3979469999999994},"kW",null,89.4,"˚C"]
["h3=hC",465,"kJ/kg",null,"Compressor 1",{"$f":"F336*(B337-B336)","v":0.90170999999999979},"kW",null,null,null,null,null,null,null,null,null,null,null,"h3=hC",454.4,"kJ/kg",null,"Compressor 1",{"$f":"X336*(T337-T336)","v":0.66405000000000003},"kW"]
["h4=hD",506.9,"kJ/kg",null,"Compressor 2",{"$f":"F336*(B339-B338)","v":0.97626999999999953},"kW",null,null,null,null,null,null,null,null,null,null,null,"h4=hD",500.2,"kJ/kg",null,"Compressor 2",{"$f":"X336*(T339-T338)","v":1.0671400000000004},"kW"]
["h5=h6=hE=hF",225.61,"kJ/kg",null,"TOTAL comp",{"$f":"F338+F339","v":1.8779799999999993},"kW",null,null,null,null,null,null,null,null,null,null,null,"h5=h6=hE=hF",225.61,"kJ/kg",null,"TOTAL comp",{"$f":"X338+X339","v":1.7311900000000005},"kW"]
["h7=h8=hG=hH",212.31,"kJ/kg",null,"x6",{"$f":"(B338-B340)/(B338-B341)","v":0.94736633820095761},null,null,null,null,null,null,null,null,null,null,null,null,"h7=h8=hG=hH",212.31,"kJ/kg",null,"x6",{"$f":"(T338-T340)/(T338-T341)","v":0.94506175389318015}]
["COP",{"$f":"(B339-B340)/((F341*(B337-B336))+(B339-B338))","v":3.5804351065257376},null,null,"COP",{"$f":"F337/(F338+F339)","v":3.4899503722084377},null,null,null,null,null,null,null,null,null,null,null,null,"COP",{"$f":"(T339-T340)/((X341*(T337-T336))+(T339-T338))","v":3.7752497936051173},null,null,"COP",{"$f":"X337/(X338+X339)","v":3.6956931359353957}]